Workbook
Name CompDN600: #REF!
Name CompDN600: #REF!
Name CompDN600: #REF!
Name orcamento: #REF!
Name orcamento: #REF!
Name orcamento: 'XI - MEMORIA'!#REF!
Name orcamento: #REF!

Sheet V - ORÇAMENTO
C1: PREFEITURA MUNICIPAL DE SÃO GONÇALO
C2: SECRETARIA MUNICIPAL DE COMPRAS E SUPRIMENTOS
E3: MÊS/ANO REF. : | G3: EMOP - 11/2021
C4: SERVIÇO DE COMPLEMENTAÇÃO DA INFRAESTRUTURA INCLUINDO PAVIMENTAÇÃO E DRENAGEM EM DIVERSOS LOGRADOUROS NO BAIRRO DE VISTA ALEGRE NO MUNICIPIO DE SÃO GONÇALO | E4: BDI | F4: ='XII - BDI'!D34 -> 0.2857
E5: VALOR DA OBRA | G5: =G130 -> 64199997
C6: ANEXO V
C7: PLANILHA ORÇAMENTARIA | E7: PRAZO DA OBRA | G7: 15 MESES
A9: ITEM | B9: CÓDIGO | C9: DESCRIÇÃO | D9: UN | E9: QTD | F9: PREÇO
F10: UNITÁRIO | G10: TOTAL
A13: A | B13: SERVIÇOS DE ESCRITORIO LABORATORIO E CAMPO
A14: 1 | B14: 02.004.0004-A | C14: BARRACAO OBRA C/PAREDES CHAPAS MADEIRA COMPENSADA,PLASTIF.,LISA,COLAGEM FENOLICA,PROVA D`AGUA, COM 10MM ESP.PISO E ESTRUTURA MADEIRA 3ª,COBERTURA TELHAS ONDULADAS 6MM,FIBROCIMENTO,EXCL.PINT.E LIGACOES PROVISORIAS,INCL.INST.,APARELHOS, ESQUADRIAS E FERRAG.,PROJ.Nº2007/EMOP,ESCRITORIO,SANITARIOS,DEPOSITOS E TORRE C/CAIXA D`AGUA 500L,REAPROVEITADO 5 VEZES | D14: =VLOOKUP(B14,'DESCRIÇÃO EMOP'!A:C,3,FALSE) -> M2 | E14: ='XI - MEMORIA'!B15 -> 96 | F14: =VLOOKUP(B14,'EMOP 092021'!A:B,2,FALSE) -> 355.3 | G14: =TRUNC(E14*F14,2) -> 34108.8 | H14: =G14/$G$126 -> 0.00068307922
A15: =A14+1 -> 2 | B15: 01.016.0085-A | C15: LEVANTAMENTO PLANIALTIMETRICO CADASTRAL DE AREA URBANA OU SUBURBANA,DESTINADA A REGULARIZACAO FUNDIARIA,PROJETOS VIARIOSE DE INFRAESTRUTURA,URBANIZACAO E ASSEMELHADOS,UTILIZANDO POLIGONAL III PAC,DESENHO NA ESCALA DE 1:250 A 1:100,EM AREASDENSAMENTE OCUPADAS(ACIMA DE 50% DE QUADRAS),EM AREAS ACIMADE 10000M2 | D15: =VLOOKUP(B15,'DESCRIÇÃO EMOP'!A:C,3,FALSE) -> M2 | E15: ='XI - MEMORIA'!B56 -> 134472 | F15: =VLOOKUP(B15,'EMOP 092021'!A:B,2,FALSE) -> 2.23 | G15: =TRUNC(E15*F15,2) -> 299872.56 | H15: =G15/$G$126 -> 0.006005392
A16: =A15+1 -> 3 | B16: 02.002.0011-A | C16: TAPUME DE VEDACAO OU PROTECAO,EXECUTADO COM TELHAS TRAPEZOIDAIS DE ACO GALVANIZADO,ESPESSURA DE 0,5MM,ESTAS COM 2 VEZESDE UTILIZACAO,INCLUSIVE ENGRADAMENTO DE MADEIRA,UTILIZADO 2VEZES E PINTURA ESMALTE SINTETICO NAS FACES INTERNA E EXTERNA | D16: =VLOOKUP(B16,'DESCRIÇÃO EMOP'!A:C,3,FALSE) -> M2 | E16: ='XI - MEMORIA'!B62 -> 220 | F16: =VLOOKUP(B16,'EMOP 092021'!A:B,2,FALSE) -> 56.49 | G16: =TRUNC(E16*F16,2) -> 12427.8 | H16: =G16/$G$126 -> 0.0002488851
A17: =A16+1 -> 4 | B17: 02.020.0001-A | C17: PLACA DE IDENTIFICACAO DE OBRA PUBLICA,INCLUSIVE PINTURA E SUPORTES DE MADEIRA.FORNECIMENTO E COLOCACAO | D17: =VLOOKUP(B17,'DESCRIÇÃO EMOP'!A:C,3,FALSE) -> M2 | E17: ='XI - MEMORIA'!B67 -> 36 | F17: =VLOOKUP(B17,'EMOP 092021'!A:B,2,FALSE) -> 465.55 | G17: =TRUNC(E17*F17,2) -> 16759.8 | H17: =G17/$G$126 -> 0.00033563981
A18: =A17+1 -> 5 | B18: 01.050.0162-A | C18: PROJETO EXECUTIVO PARA URBANIZACAO/REURBANIZACAO DE AREAS,VISANDO A ORGANIZACAO ESPACIAL E DAS ATIVIDADES,CONTEMPLANDO:SISTEMA VIARIO,PASSEIOS,PRACAS,ARBORIZACAO,ILUMINACAO COM CRITERIOS LUMINOTECNICOS,DISTRIBUICAO E INTEGRACAO DO MOBILIARIO URBANO E EQUIPAMENTOS URBANOS,APRESENTADO EM AUTOCAD NOS PADROES DA CONTRATANTE | D18: =VLOOKUP(B18,'DESCRIÇÃO EMOP'!A:C,3,FALSE) -> HA | E18: ='XI - MEMORIA'!B108 -> 13.433 | F18: =VLOOKUP(B18,'EMOP 092021'!A:B,2,FALSE) -> 98707.8 | G18: =TRUNC(E18*F18,2) -> 1325941.9 | H18: =G18/$G$126 -> 0.026553949
A19: =A18+1 -> 6 | B19: 02.006.0050-A | C19: ALUGUEL DE BANHEIRO QUIMICO,PORTATIL,MEDINDO 2,31M ALTURA X1,56M LARGURA E 1,16M PROFUNDIDADE,INCLUSIVE INSTALACAO E RETIRADA DO EQUIPAMENTO,FORNECIMENTO DE QUIMICA DESODORIZANTE,BACTERICIDA E BACTERIOSTATICA,PAPEL HIGIENICO E VEICULO PROPRIO COM UNIDADE MOVEL DE SUCCAO PARA LIMPEZA | D19: =VLOOKUP(B19,'DESCRIÇÃO EMOP'!A:C,3,FALSE) -> UNXMES | E19: ='XI - MEMORIA'!B113 -> 120 | F19: =VLOOKUP(B19,'EMOP 092021'!A:B,2,FALSE) -> 950 | G19: =TRUNC(E19*F19,2) -> 114000 | H19: =G19/$G$126 -> 0.0022830188
A20: =A19+1 -> 7 | B20: 02.010.0001-A | C20: GALPAO ABERTO PARA OFICINAS E DEPOSITOS DE CANTEIRO DE OBRAS,ESTRUTURADO EM MADEIRA DE LEI,COBERTURA DE TELHAS DE CIMENTO SEM AMIANTO ONDULADAS,DE 6MM DE ESPESSURA,PISO CIMENTADO EPREPARO DO TERRENO | D20: =VLOOKUP(B20,'DESCRIÇÃO EMOP'!A:C,3,FALSE) -> M2 | E20: ='XI - MEMORIA'!B119 -> 48 | F20: =VLOOKUP(B20,'EMOP 092021'!A:B,2,FALSE) -> 272.17 | G20: =TRUNC(E20*F20,2) -> 13064.16 | H20: =G20/$G$126 -> 0.00026162915
A21: =A20+1 -> 8 | B21: 02.006.0010-A | C21: ALUGUEL DE CONTAINER PARA ESCRITORIO,MEDINDO 2,20M LARGURA,6,20M COMPRIMENTO E 2,50M ALTURA,COMPOSTO DE CHAPAS DE ACO C/NERVURAS TRAPEZOIDAIS,ISOLAMENTO TERMO-ACUSTICO NO FORRO,CHASSIS REFORCADO E PISO EM COMPENSADO NAVAL, INCLUINDO INSTALACOES ELETRICAS,EXCLUSIVE TRANSPORTE(VIDE ITEM 04.005.0300) ECARGA E DESCARGA(VIDE ITEM 04.013.0015) | D21: =VLOOKUP(B21,'DESCRIÇÃO EMOP'!A:C,3,FALSE) -> UNXMES | E21: ='XI - MEMORIA'!B125 -> 30 | F21: =VLOOKUP(B21,'EMOP 092021'!A:B,2,FALSE) -> 414.06 | G21: =TRUNC(E21*F21,2) -> 12421.8 | H21: =G21/$G$126 -> 0.00024876494
A22: =A21+1 -> 9 | B22: 02.006.0025-A | C22: ALUGUEL CONTAINER,PARA SANITARIO-VESTIARIO,MEDINDO 2,20M LARGURA,6,20M COMPRIMENTO E 2,50M ALTURA,CHAPAS ACO C/NERVURASTRAPEZOIDAIS,ISOLAMENTO TERMO-ACUSTICO FORRO,CHASSIS REFORCADO E PISO COMPENSADO NAVAL,INCL.INST.ELETRICAS E HIDRO-SANITARIAS,ACESSORIOS,4 VASOS SANITARIOS,1 LAVATORIO,1 MICTORIO E4 CHUVEIROS,EXCL.TRANSP.,CARGA E DESCARGA | D22: =VLOOKUP(B22,'DESCRIÇÃO EMOP'!A:C,3,FALSE) -> UNXMES | E22: ='XI - MEMORIA'!B131 -> 60 | F22: =VLOOKUP(B22,'EMOP 092021'!A:B,2,FALSE) -> 662.5 | G22: =TRUNC(E22*F22,2) -> 39750 | H22: =G22/$G$126 -> 0.00079605261
A23: =A22+1 -> 10 | B23: 02.006.0030-A | C23: ALUGUEL CONTAINER,PARA SANITARIO-VESTIARIO,MEDINDO 2,20M LARGURA,6,20M COMPRIMENTO E 2,50M ALTURA,CHAPAS ACO C/NERVURASTRAPEZOIDAIS,ISOLAMENTO TERMO-ACUSTICO FORRO,CHASSIS REFORCADO E PISO COMPENSADO NAVAL,INCL.INST.ELETRICAS E HIDRO-SANITARIAS,ACESSORIOS,7 VASOS SANITARIOS,1 LAVATORIO E 1 MICTORIO,EXCL.TRANSP.,CARGA E DESCARGA | D23: =VLOOKUP(B23,'DESCRIÇÃO EMOP'!A:C,3,FALSE) -> UNXMES | E23: ='XI - MEMORIA'!B137 -> 30 | F23: =VLOOKUP(B23,'EMOP 092021'!A:B,2,FALSE) -> 662.5 | G23: =TRUNC(E23*F23,2) -> 19875 | H23: =G23/$G$126 -> 0.0003980263
A24: =A23+1 -> 11 | B24: 01.001.0040-A | C24: SONDAGEM MANUAL,COM TRADO CAVADEIRA,POR METRO LINEAR OU FRACAO | D24: =VLOOKUP(B24,'DESCRIÇÃO EMOP'!A:C,3,FALSE) -> M | E24: ='XI - MEMORIA'!B178 -> 298 | F24: =VLOOKUP(B24,'EMOP 092021'!A:B,2,FALSE) -> 166.72 | G24: =TRUNC(E24*F24,2) -> 49682.56 | H24: =G24/$G$126 -> 0.00099496683
A25: =A24+1 -> 12 | B25: 01.001.0014-A | C25: INDICE SUPORTE CALIFORNIA,POR 1 PONTO,COMPACTACAO COM ENERGIA PROCTOR NORMAL | D25: =VLOOKUP(B25,'DESCRIÇÃO EMOP'!A:C,3,FALSE) -> UN | E25: ='XI - MEMORIA'!B183 -> 298 | F25: =VLOOKUP(B25,'EMOP 092021'!A:B,2,FALSE) -> 763.95 | G25: =TRUNC(E25*F25,2) -> 227657.1 | H25: =G25/$G$126 -> 0.0045591705
A26: =A25+1 -> 13 | B26: 01.001.0071-A | C26: ENSAIO DE CARACTERIZACAO GEOTECNICA DE SOLOS,COM UTILIZACAODE DILATOMETRO,EXCLUSIVE PERFURACAO | D26: =VLOOKUP(B26,'DESCRIÇÃO EMOP'!A:C,3,FALSE) -> UN | E26: ='XI - MEMORIA'!B188 -> 298 | F26: =VLOOKUP(B26,'EMOP 092021'!A:B,2,FALSE) -> 511.68 | G26: =TRUNC(E26*F26,2) -> 152480.64 | H26: =G26/$G$126 -> 0.0030536506
A27: =A26+1 -> 14 | B27: 02.015.0001-A | C27: INSTALACAO E LIGACAO PROVISORIA PARA ABASTECIMENTO DE AGUA EESGOTAMENTO SANITARIO EM CANTEIRO DE OBRAS,INCLUSIVE ESCAVACAO,EXCLUSIVE REPOSICAO DA PAVIMENTACAO DO LOGRADOURO PUBLICO | D27: =VLOOKUP(B27,'DESCRIÇÃO EMOP'!A:C,3,FALSE) -> UN | E27: ='XI - MEMORIA'!B193 -> 1 | F27: =VLOOKUP(B27,'EMOP 092021'!A:B,2,FALSE) -> 4098.41 | G27: =TRUNC(E27*F27,2) -> 4098.41 | H27: =G27/$G$126 -> 8.2076729e-05
A28: =A27+1 -> 15 | B28: 02.016.0001-A | C28: INSTALACAO E LIGACAO PROVISORIA DE ALIMENTACAO DE ENERGIA ELETRICA,EM BAIXA TENSAO,PARA CANTEIRO DE OBRAS,M3-CHAVE 100A,CARGA 3KW,20CV,EXCLUSIVE O FORNECIMENTO DO MEDIDOR | D28: =VLOOKUP(B28,'DESCRIÇÃO EMOP'!A:C,3,FALSE) -> UN | E28: ='XI - MEMORIA'!B198 -> 1 | F28: =VLOOKUP(B28,'EMOP 092021'!A:B,2,FALSE) -> 2081.2 | G28: =TRUNC(E28*F28,2) -> 2081.2 | H28: =G28/$G$126 -> 4.1679112e-05
A29: =A28+1 -> 16 | B29: 04.013.0015-A | C29: CARGA E DESCARGA DE CONTAINER,SEGUNDO DESCRICAO DA FAMILIA 02.006 | D29: =VLOOKUP(B29,'DESCRIÇÃO EMOP'!A:C,3,FALSE) -> UN | E29: ='XI - MEMORIA'!B205 -> 16 | F29: =VLOOKUP(B29,'EMOP 092021'!A:B,2,FALSE) -> 70.52 | G29: =TRUNC(E29*F29,2) -> 1128.32 | H29: =G29/$G$126 -> 2.2596279e-05
A30: =A29+1 -> 17 | B30: 04.005.0300-A | C30: TRANSPORTE DE CONTAINER,SEGUNDO DESCRICAO DA FAMILIA 02.006,EXCLUSIVE CARGA E DESCARGA(VIDE ITEM 04.013.0015) | D30: =VLOOKUP(B30,'DESCRIÇÃO EMOP'!A:C,3,FALSE) -> UNXKM | E30: ='XI - MEMORIA'!B212 -> 640 | F30: =VLOOKUP(B30,'EMOP 092021'!A:B,2,FALSE) -> 29.2 | G30: =TRUNC(E30*F30,2) -> 18688 | H30: =G30/$G$126 -> 0.00037425487
A31: =A30+1 -> 18 | B31: 01.001.0206-A | C31: CONTROLE DE COMPACTACAO,POR PONTO(METODO DO ANEL) | D31: =VLOOKUP(B31,'DESCRIÇÃO EMOP'!A:C,3,FALSE) -> UN | E31: ='XI - MEMORIA'!B253 -> 578 | F31: =VLOOKUP(B31,'EMOP 092021'!A:B,2,FALSE) -> 53.95 | G31: =TRUNC(E31*F31,2) -> 31183.1 | H31: =G31/$G$126 -> 0.00062448775
A32: =A31+1 -> 19 | B32: 01.001.0302-A | C32: DETERMINACAO DA DEFORMACAO DE PAVIMENTOS COM O AUXILIO DA VIGA BENKELMANN,POR PONTO | D32: =VLOOKUP(B32,'DESCRIÇÃO EMOP'!A:C,3,FALSE) -> UN | E32: ='XI - MEMORIA'!B294 -> 1156 | F32: =VLOOKUP(B32,'EMOP 092021'!A:B,2,FALSE) -> 110.52 | G32: =TRUNC(E32*F32,2) -> 127761.12 | H32: =G32/$G$126 -> 0.0025586056
E33: TOTAL DO ITEM | G33: =SUM(G14:G32) -> 2502982.2 | H33: =G33/$G$126 -> 0.050125925 | I33: =SUM(G14:G33)/2 -> 2502982.2 | J33: =I33=G33 -> TRUE
A34: B | B34: MESO E MICRO DRENAGEM PLUVIAL | H34: =G34/$G$126 -> 0
A35: =A32+1 -> 20 | B35: 02.020.0009-A | C35: SEMAFORO PARA SINALIZACAO DE BLOQUEIO DE OBRA NA VIA PUBLICA,DE ACORDO COM A RESOLUCAO DA PREFEITURA-RJ,COMPREENDENDO FORNECIMENTO E COLOCACAO DE TODOS OS MATERIAIS NECESSARIOS,INCLUSIVE MATERIAIS ELETRICOS,CONSIDERANDO 40 VEZES O REAPROVEITAMENTO DA MADEIRA | D35: =VLOOKUP(B35,'DESCRIÇÃO EMOP'!A:C,3,FALSE) -> UN | E35: ='XI - MEMORIA'!B346 -> 259 | F35: =VLOOKUP(B35,'EMOP 092021'!A:B,2,FALSE) -> 99.77 | G35: =TRUNC(E35*F35,2) -> 25840.43 | H35: =G35/$G$126 -> 0.00051749287
A36: =A35+1 -> 21 | B36: 02.030.0005-A | C36: PLACA DE SINALIZACAO PREVENTIVA PARA OBRA NA VIA PUBLICA,DEACORDO COM A RESOLUCAO DA PREFEITURA-RJ, COMPREENDENDO FORNECIMENTO E PINTURA DA PLACA E DOS SUPORTES DE MADEIRA.FORNECIMENTO E COLOCACAO | D36: =VLOOKUP(B36,'DESCRIÇÃO EMOP'!A:C,3,FALSE) -> UN | E36: ='XI - MEMORIA'!B351 -> 419 | F36: =VLOOKUP(B36,'EMOP 092021'!A:B,2,FALSE) -> 85.74 | G36: =TRUNC(E36*F36,2) -> 35925.06 | H36: =G36/$G$126 -> 0.00071945252
A37: =A36+1 -> 22 | B37: 02.011.0014-A | C37: CERCA PROTETORA DE BORDA DE VALA OU OBRA,COM TELA PLASTICA NA COR LARANJA OU AMARELA,CONSIDERANDO 1 VEZ DE UTILIZACAO,INCLUSIVE APOIOS,FORNECIMENTO,COLOCACAO E RETIRADA | D37: =VLOOKUP(B37,'DESCRIÇÃO EMOP'!A:C,3,FALSE) -> M2 | E37: ='XI - MEMORIA'!B356 -> 20954 | F37: =VLOOKUP(B37,'EMOP 092021'!A:B,2,FALSE) -> 2.21 | G37: =TRUNC(E37*F37,2) -> 46308.34 | H37: =G37/$G$126 -> 0.00092739307
A38: =A37+1 -> 23 | B38: 02.020.0005-A | C38: BARRAGEM DE BLOQUEIO DE OBRA NA VIA PUBLICA,DE ACORDO COM ARESOLUCAO DA PREFEITURA-RJ,COMPREENDENDO FORNECIMENTO,COLOCACAO E PINTURA DOS SUPORTES DE MADEIRA COM REAPROVEITAMENTO DO CONJUNTO 40 (QUARENTA) VEZES | D38: =VLOOKUP(B38,'DESCRIÇÃO EMOP'!A:C,3,FALSE) -> M | E38: ='XI - MEMORIA'!B366 -> 3580.78 | F38: =VLOOKUP(B38,'EMOP 092021'!A:B,2,FALSE) -> 3.07 | G38: =TRUNC(E38*F38,2) -> 10992.99 | H38: =G38/$G$126 -> 0.0002201509
A39: =A38+1 -> 24 | B39: 03.001.0001-B | C39: ESCAVACAO MANUAL DE VALA/CAVA EM MATERIAL DE 1ª CATEGORIA (A(AREIA,ARGILA OU PICARRA),ATE 1,50M DE PROFUNDIDADE,EXCLUSIVE ESCORAMENTO E ESGOTAMENTO | D39: =VLOOKUP(B39,'DESCRIÇÃO EMOP'!A:C,3,FALSE) -> M3 | E39: ='XI - MEMORIA'!B372 -> 1483.92 | F39: =VLOOKUP(B39,'EMOP 092021'!A:B,2,FALSE) -> 50.21 | G39: =TRUNC(E39*F39,2) -> 74507.62 | H39: =G39/$G$126 -> 0.0014921254
A40: =A39+1 -> 25 | B40: 03.016.0005-B | C40: ESCAVACAO MECANICA DE VALA NAO ESCORADA EM MATERIAL DE 1ªCATEGORIA COM PEDRAS,INSTALACOES PREDIAIS OU OUTROS REDUTORES DE PRODUTIVIDADE OU CAVAS DE FUNDACAO,ATE 1,50M DE PROFUNDIDADE,UTILIZANDO RETRO-ESCAVADEIRA,EXCLUSIVE ESGOTAMENTO | D40: =VLOOKUP(B40,'DESCRIÇÃO EMOP'!A:C,3,FALSE) -> M3 | E40: ='XI - MEMORIA'!B378 -> 9876.35 | F40: =VLOOKUP(B40,'EMOP 092021'!A:B,2,FALSE) -> 19.92 | G40: =TRUNC(E40*F40,2) -> 196736.89 | H40: =G40/$G$126 -> 0.0039399475
A41: =A40+1 -> 26 | B41: 03.020.0060-B | C41: ESCAVACAO MECANICA DE VALA ESCORADA,EM MATERIAL DE 1ªCATEGORIA COM PEDRAS,INSTALACOES PREDIAIS OU OUTROS REDUTORES DE PRODUTIVIDADE,OU CAVAS DE FUNDACAO,ATE 1,50M DE PROFUNDIDADE,UTILIZANDO ESCAVADEIRA HIDRAULICA DE 0,78M3,EXCLUSIVE ESGOTAMENTO E ESCORAMENTO | D41: =VLOOKUP(B41,'DESCRIÇÃO EMOP'!A:C,3,FALSE) -> M3 | E41: ='XI - MEMORIA'!B383 -> 12961.04 | F41: =VLOOKUP(B41,'EMOP 092021'!A:B,2,FALSE) -> 18.32 | G41: =TRUNC(E41*F41,2) -> 237446.25 | H41: =G41/$G$126 -> 0.0047552127
A42: =A41+1 -> 27 | B42: 03.020.0065-B | C42: ESCAVACAO MECANICA DE VALA ESCORADA,EM MATERIAL DE 1ªCATEGORIA COM PEDRAS,INSTALACOES PREDIAIS OU OUTROS REDUTORES DE PRODUTIVIDADE,OU CAVAS DE FUNDACAO,ENTRE 1,50 E 3,00M DE PROFUNDIDADE,UTILIZANDO ESCAVADEIRA HIDRAULICA DE 0,78M3,EXCLUSIVE ESGOTAMENTO E ESCORAMENTO | D42: =VLOOKUP(B42,'DESCRIÇÃO EMOP'!A:C,3,FALSE) -> M3 | E42: ='XI - MEMORIA'!B388 -> 6749.48 | F42: =VLOOKUP(B42,'EMOP 092021'!A:B,2,FALSE) -> 21.06 | G42: =TRUNC(E42*F42,2) -> 142144.04 | H42: =G42/$G$126 -> 0.0028466449
A43: =A42+1 -> 28 | B43: 03.020.0070-B | C43: ESCAVACAO MECANICA DE VALA ESCORADA,EM MATERIAL DE 1ªCATEGORIA COM PEDRAS,INSTALACOES PREDIAIS OU OUTROS REDUTORES DE PRODUTIVIDADE,OU CAVAS DE FUNDACAO,ENTRE 3,00 E 4,50M DE PROFUNDIDADE,UTILIZANDO ESCAVADEIRA HIDRAULICA DE 0,78M3,EXCLUSIVE ESGOTAMENTO E ESCORAMENTO | D43: =VLOOKUP(B43,'DESCRIÇÃO EMOP'!A:C,3,FALSE) -> M3 | E43: ='XI - MEMORIA'!B393 -> 1431.01 | F43: =VLOOKUP(B43,'EMOP 092021'!A:B,2,FALSE) -> 28.99 | G43: =TRUNC(E43*F43,2) -> 41484.97 | H43: =G43/$G$126 -> 0.00083079795
...

Sheet XI - MEMORIA
C2: PREFEITURA MUNICIPAL DE SÃO GONÇALO
C3: SECRETARIA MUNICIPAL DE COMPRAS E SUPRIMENTOS
A5: Titulo : | B5: ='V - ORÇAMENTO'!C4 -> SERVIÇO DE COMPLEMENTAÇÃO DA INFRAESTRUTURA INCLUINDO PAVIMENTAÇÃO E DRENAGEM EM DIVERSOS LOGRADOUROS NO BAIRRO DE VISTA ALEGRE NO MUNICIPIO DE SÃO GONÇALO
D6: ANEXO XI | K6: Prazo: | L6: 15
D7: MEMÓRIA DE CALCULO
A8: ITEM | B8: QUANT. | C8: DESCRIÇÃO
A10: A | B10: SERVIÇOS DE ESCRITÓRIO LABORATÓRIO E CAMPO
A12: 1 | B12: 02.004.0004-A | C12: =VLOOKUP(B12,'DESCRIÇÃO EMOP'!A:B,2,1) -> BARRACAO OBRA C/PAREDES CHAPAS MADEIRA COMPENSADA,PLASTIF.,LISA,COLAGEM FENOLICA,PROVA D`AGUA, COM 10MM ESP.PISO E ESTRUTURA MADEIRA 3ª,COBERTURA TELHAS ONDULADAS 6MM,FIBROCIMENTO,EXCL.PINT.E LIGACOES PROVISORIAS,INCL.INST.,APARELHOS, ESQUADRIAS E FERRAG.,PROJ.Nº2007/EMOP,ESCRITORIO,SANITARIOS,DEPOSITOS E TORRE C/CAIXA D`AGUA 500L,REAPROVEITADO 5 VEZES
F14: Comprimento | H14: Largura
B15: =TRUNC(F15*H15,2) -> 96 | C15: =VLOOKUP(B12,'DESCRIÇÃO EMOP'!A:C,3) -> M2 | D15: TOTAL DOS SERVIÇOS | F15: 16 | G15: x | H15: 6
A17: =A12+1 -> 2 | B17: 01.016.0085-A | C17: =VLOOKUP(B17,'DESCRIÇÃO EMOP'!A:B,2,1) -> LEVANTAMENTO PLANIALTIMETRICO CADASTRAL DE AREA URBANA OU SUBURBANA,DESTINADA A REGULARIZACAO FUNDIARIA,PROJETOS VIARIOSE DE INFRAESTRUTURA,URBANIZACAO E ASSEMELHADOS,UTILIZANDO POLIGONAL III PAC,DESENHO NA ESCALA DE 1:250 A 1:100,EM AREASDENSAMENTE OCUPADAS(ACIMA DE 50% DE QUADRAS),EM AREAS ACIMADE 10000M2
F19: Extensão | G19: x | H19: Largura
B20: =TRUNC(F20*H20,2) -> 9120 | C20: = | D20: Avenida Presidente Roosevelt | F20: 760 | G20: x | H20: 12
B21: =TRUNC(F21*H21,2) -> 1848 | C21: = | D21: Rua Imeri | F21: 154 | G21: x | H21: 12
B22: =TRUNC(F22*H22,2) -> 2592 | C22: = | D22: Rua Itaipé | F22: 216 | G22: x | H22: 12
B23: =TRUNC(F23*H23,2) -> 1812 | C23: = | D23: Rua Itaipá | F23: 151 | G23: x | H23: 12
B24: =TRUNC(F24*H24,2) -> 1968 | C24: = | D24: Rua Itatuba (200+0 a 208+4,163) | F24: 164 | G24: x | H24: 12
B25: =TRUNC(F25*H25,2) -> 984 | C25: = | D25: Rua Itatuba (220+0 a 224+1,540) | F25: 82 | G25: x | H25: 12
B26: =TRUNC(F26*H26,2) -> 1896 | C26: = | D26: Rua Itajaí | F26: 158 | G26: x | H26: 12
B27: =TRUNC(F27*H27,2) -> 4884 | C27: = | D27: Rua Itapagé | F27: 407 | G27: x | H27: 12
B28: =TRUNC(F28*H28,2) -> 3744 | C28: = | D28: Rua Itaporé | F28: 312 | G28: x | H28: 12
B29: =TRUNC(F29*H29,2) -> 4896 | C29: = | D29: Rua Oswaldo Mendonça de Campos | F29: 408 | G29: x | H29: 12
B30: =TRUNC(F30*H30,2) -> 6960 | C30: = | D30: Rua Itaporanga | F30: 580 | G30: x | H30: 12
B31: =TRUNC(F31*H31,2) -> 3048 | C31: = | D31: Rua Itú | F31: 254 | G31: x | H31: 12
... B55: =TRUNC(F55*H55,2) -> 3648 | C55: = | D55: Rua Itamiami | F55: 304 | G55: x | H55: 12
B56: =SUM(B20:B55) -> 134472 | C56: =VLOOKUP(B17,'DESCRIÇÃO EMOP'!A:C,3) -> M2 | D56: TOTAL DOS SERVIÇOS
A58: =A17+1 -> 3 | B58: 02.002.0011-A | C58: =VLOOKUP(B58,'DESCRIÇÃO EMOP'!A:B,2,FALSE) -> TAPUME DE VEDACAO OU PROTECAO,EXECUTADO COM TELHAS TRAPEZOIDAIS DE ACO GALVANIZADO,ESPESSURA DE 0,5MM,ESTAS COM 2 VEZESDE UTILIZACAO,INCLUSIVE ENGRADAMENTO DE MADEIRA,UTILIZADO 2VEZES E PINTURA ESMALTE SINTETICO NAS FACES INTERNA E EXTERNA
F60: Comprimento | H60: Altura
B61: =TRUNC(F61*H61,2) -> 220 | C61: = | D61: PERIMETRO DO CANTEIRO | F61: 100 | G61: x | H61: 2.2
B62: =B61 -> 220 | C62: =VLOOKUP(B58,'DESCRIÇÃO EMOP'!A:C,3) -> M2 | D62: TOTAL DOS SERVIÇOS
A64: =A58+1 -> 4 | B64: 02.020.0001-A | C64: =VLOOKUP(B64,'DESCRIÇÃO EMOP'!A:B,2,FALSE) -> PLACA DE IDENTIFICACAO DE OBRA PUBLICA,INCLUSIVE PINTURA E SUPORTES DE MADEIRA.FORNECIMENTO E COLOCACAO
E65: Altura | G65: Largura | I65: Quantidade
B66: =TRUNC(E66*G66*I66,2) -> 36 | C66: = | D66: Placa | E66: 2 | F66: x | G66: 3 | H66: x | I66: 6
B67: =B66 -> 36 | C67: =VLOOKUP(B64,'DESCRIÇÃO EMOP'!A:C,3) -> M2 | D67: TOTAL DOS SERVIÇOS
A69: =A64+1 -> 5 | B69: 01.050.0162-A | C69: =VLOOKUP(B69,'DESCRIÇÃO EMOP'!A:B,2,FALSE) -> PROJETO EXECUTIVO PARA URBANIZACAO/REURBANIZACAO DE AREAS,VISANDO A ORGANIZACAO ESPACIAL E DAS ATIVIDADES,CONTEMPLANDO:SISTEMA VIARIO,PASSEIOS,PRACAS,ARBORIZACAO,ILUMINACAO COM CRITERIOS LUMINOTECNICOS,DISTRIBUICAO E INTEGRACAO DO MOBILIARIO URBANO E EQUIPAMENTOS URBANOS,APRESENTADO EM AUTOCAD NOS PADROES DA CONTRATANTE
E71: Extensão (m) | G71: Larg. (m) | I71: Área (m²) | K71: Área (ha)
B72: =K72 -> 0.912 | C72: = | D72: Avenida Presidente Roosevelt | E72: =F20 -> 760 | F72: x | G72: =H20 -> 12 | I72: =TRUNC(E72*G72,2) -> 9120 | K72: =TRUNC(I72/10000,3) -> 0.912
B73: =K73 -> 0.184 | C73: = | D73: Rua Imeri | E73: =F21 -> 154 | F73: x | G73: =H21 -> 12 | I73: =TRUNC(E73*G73,2) -> 1848 | K73: =TRUNC(I73/10000,3) -> 0.184
B74: =K74 -> 0.259 | C74: = | D74: Rua Itaipé | E74: =F22 -> 216 | F74: x | G74: =H22 -> 12 | I74: =TRUNC(E74*G74,2) -> 2592 | K74: =TRUNC(I74/10000,3) -> 0.259
B75: =K75 -> 0.181 | C75: = | D75: Rua Itaipá | E75: =F23 -> 151 | F75: x | G75: =H23 -> 12 | I75: =TRUNC(E75*G75,2) -> 1812 | K75: =TRUNC(I75/10000,3) -> 0.181
...

Sheet DREN.ESCAV
A3: MEMÓRIA DE CÁLCULO: ESCAVAÇÕES E ESCORAMENTOS PARA REDES | Y3: MEMÓRIA DE CÁLCULO: ACRÉSCIMO NA ESCAVAÇÃO E ESCORAMENTO DE REDE PARA EXECUÇÃO DOS PV's | AP3: MEMÓRIA DE CÁLCULO: EMBASAMENTO E REATERRO
W4: considerando escoramento para profundidades maiores que | X4: 1.5 | AN4: =$W$4 -> considerando escoramento para profundidades maiores que | AO4: =$X$4 -> 1.5 | BK4: =$W$4 -> considerando escoramento para profundidades maiores que | BL4: =$X$4 -> 1.5
A5: Bacia Trecho | G5: Tipo | H5: Compr. Trecho | I5: Linhas | J5: Compr. Total | K5: Profundidade | M5: Prof. média | N5: Acréscimo | P5: Prof. de escav. | Q5: Largura da vala | R5: Volume de escavação | W5: Escoramento de vala | Y5: Nº PV | Z5: PV dimensões internas | AC5: Prof. Rede | AD5: Acréscimo Prof. Vala | AF5: Prof. de escav. | AG5: Compr. Escav. | AH5: Acréscimo largura da vala | AI5: Acréscimo volume de escavação da rede para PV | AN5: Acréscimo escoramento de vala | AP5: Bacia Trecho | AU5: Compr. Rede | AV5: PV dimensões externas | AY5: Embasamento tubo / galeria retangular | BF5: Volume | BG5: Volume a ser descontado da escavação | BL5: Volume de reaterro | BN5: Bacia Trecho | BP5: DN | BQ5: Compr. | BR5: Profundidade | BT5: Degrau
D6: DN | N6: Espessura | R6: vala não | S6: vala escorada | AD6: Parede tubo | AE6: Base PV | AI6: vala não | AJ6: vala escorada | AR6: DN | BC6: Areia ou | BD6: Pedra | BE6: Brita | BF6: escav. | BG6: Volume | BH6: Altura | BI6: Altura | BJ6: Volume | BK6: Volume
D7: ou | N7: parede | O7: base | R7: escorada | AI7: escorada | AR7: ou | AY7: Ext. | AZ7: Esp. | BA7: Esp. | BB7: Larg. | BC7: pó de | BD7: de | BE7: nº 2 | BF7: rede + | BG7: rede | BH7: PV | BI7: pescoço | BJ7: PV | BK7: pescoço | BO7: Nº DO PV
D8: Base x Altura | K8: Mont | L8: Jus | R8: até 1,5m | S8: até 1,5m | T8: de 1,5a3m | U8: de 3a4,5m | V8: de 4,5a6m | W8: ≤ 4m | X8: > 4m | AI8: até 1,5m | AJ8: até 1,5m | AK8: de 1,5a3m | AL8: de 3a4,5m | AM8: de 4,5a6m | AN8: ≤ 4m | AO8: > 4m | AR8: Base x Altura | AZ8: mat. 1 | BA8: mat. 2 | BC8: pedra | BD8: mão | BF8: PV | BR8: Mont | BS8: Jus
D9: (m) | H9: (m) | I9: (un) | J9: (m) | K9: (m) | L9: (m) | M9: (m) | N9: (m) | O9: (m) | P9: (m) | Q9: (m) | R9: (m³) | S9: (m³) | T9: (m³) | U9: (m³) | V9: (m³) | W9: (m²) | X9: (m²) | Z9: (m) | AC9: (m) | AD9: (m) | AE9: (m) | AF9: (m) | AG9: (m) | AH9: (m) | AI9: (m³) | AJ9: (m³) | AK9: (m³) | AL9: (m³) | AM9: (m³) | AN9: (m²) | AO9: (m²) | AR9: (m) | AU9: (m) | AV9: (m) | AY9: (m) | AZ9: (m) | BA9: (m) | BB9: (m) | BC9: (m³) | BD9: (m³) | BE9: (m³) | BF9: (m³) | BG9: (m³) | BH9: (m) | BI9: (m) | BJ9: (m³) | BK9: (m³) | BL9: (m³) | BP9: (m) | BQ9: (m) | BR9: (m) | BS9: (m) | BT9: (m)
A10: VISTA ALEGRE | Y10: =A10 -> VISTA ALEGRE | AP10: =A10 -> VISTA ALEGRE
A11: BACIA A | Y11: =$A11 -> BACIA A | AP11: =$A11 -> BACIA A
A12: RUA ITAPORANGA | Y12: =A12 -> RUA ITAPORANGA | AP12: =A12 -> RUA ITAPORANGA
A13: =BN13 -> A7-1 => A7-2 | D13: =BP13 -> 0.4 | G13: PA-1 | H13: =BQ13 -> 40 | I13: 1 | J13: =H13 -> 40 | K13: =BR13 -> 1.2 | L13: =BS13 -> 1.217 | M13: =ROUND((K13+L13)/2,2) -> 1.21 | N13: =IF(F13=0,ROUND($D13*10%,2),IF(D13>2.8,0.18,0.15)) -> 0.04 | O13: =IF(F13=0,IF( ROUND($D13/4,2), IF(ROUND(($D13*1.2)/6,2)<0.1,0.1,ROUND(($D13*1.2)/6,2))),0.5) -> 0.1 | P13: =M13+N13+O13 -> 1.35 | Q13: =IF(P13<2,(D13+N13*2)+0.6,(D13+N13*2)+0.6+ROUNDUP(P13-2,0)*0.1)*I13 -> 1.08 | R13: =IF($P13<=$X$4,ROUND(IF($P13<1.5,$P13*$H13*$Q13,1.5*$H13*$Q13),2),0) -> 58.32 | S13: =IF($P13>$X$4,ROUND(IF($P13<1.5,$P13*$H13*$Q13,1.5*$H13*$Q13),2),0) -> 0 | T13: =IF($P13>$X$4,ROUND(IF($P13<1.5,0,IF($P13>3,1.5*$H13*$Q13,($P13-1.5)*$H13*$Q13)),2),0) -> 0 | U13: =IF($P13>$X$4,ROUND(IF($P13<3,0,IF($P13>4.5,1.5*$H13*$Q13,($P13-3)*$H13*$Q13)),2),0) -> 0 | V13: =IF($P13>$X$4,ROUND(IF($P13<4.5,0,IF($P13>6,($P13-4.5)*$H13*$Q13,($P13-4.5)*$H13*$Q13)),2),0) -> 0 | W13: =IF($P13>$X$4, IF( $P13<=4, ROUND($H13*($P13+0.5)*2,2), 0),0) -> 0 | X13: =IF($P13>$X$4, IF( $P13>4, ROUND($H13*($P13+0.5)*2,2), 0),0) -> 0 | Y13: =BO13 -> A7-1 | Z13: =IF($D13=0.3,IF($I13=1,1.2,IF(I13=2,1.5,"--")),IF($D13=0.4,IF($I13=1,1.2,IF(I13=2,1.5,"--")),IF($D13=0.45,IF($I13=1,1.2,IF(I13=2,1.5,"--")),IF($D13=0.5,IF($I13=1,1.2,IF(I13=2,1.5,"--")),IF($D13=0.6,IF($I13=1,1.2,IF(I13=2,2,"--")),IF($D13=0.75,IF($I13=1,1.3,IF(I13=2,2,"--")),IF($D13=0.8,1.3,IF($D13=1,1.5,IF($D13=1.2,1.7,IF($D13<=2,2,"--")))))))))) -> 1.2 | AA13: x | AB13: =Z13 -> 1.2 | AC13: =IF($Z13="--","--",K13) -> 1.2 | AD13: =IF($Z13="--","--",IF(D13>1.5,0.15,ROUND($D13*10%,2))) -> 0.04 | AE13: =IF($Z13="--","--",0.15) -> 0.15 | AF13: =IF($Z13="--","--",ROUND(AC13+AD13+AE13,2)) -> 1.39 | AG13: =IF($Z13="--","--",IF($AC13<=2,$Z13+1,($Z13+1)+ROUNDUP($AC13-2,0)*0.1)) -> 2.2 | AH13: =IF($D13=0.3,1.04,IF($D13=0.4,0.92,IF($D13=0.45,0.86,IF($D13=0.5,0.8,IF($D13=0.75,0.8,IF($D13=0.6,0.68,IF($D13=0.8,0.74,IF($D13=1,0.7,IF($D13=1.2,0.66,IF($D13=1.5,0.6,IF($D13<=2,(2.4-(D13+0.3)),"--"))))))))))) -> 0.92 | AI13: =IF($Z13="--","--",IF($AF13<=$X$4,ROUND(IF($AF13<1.5,$AF13*$AG13*$AH13,1.5*$AG13*$AH13),2),0)) -> 2.81 | AJ13: =IF($Z13="--","--",IF($AF13>$X$4,ROUND(IF($AF13<1.5,$AF13*$AG13*$AH13,1.5*$AG13*$AH13),2),0)) -> 0 | AK13: =IF($Z13="--","--",IF($AF13>$X$4,ROUND(IF($AF13<1.5,0,IF($AF13>3,1.5*$AG13*$AH13,($AF13-1.5)*$AG13*$AH13)),2),0)) -> 0 | AL13: =IF($Z13="--","--",IF($AF13>$X$4,ROUND(IF($AF13<3,0,IF($AF13>4.5,1.5*$AG13*$AH13,($AF13-3)*$AG13*$AH13)),2),0)) -> 0 | AM13: =IF($Z13="--","--",IF($AF13>$X$4,ROUND(IF($AF13<4.5,0,IF($AF13>6,($AF13-4.5)*$AG13*$AH13,($AF13-4.5)*$AG13*$AH13)),2),0)) -> 0 | AN13: =IF($Z13="--","--",IF($AF13>$X$4, IF( $AF13<=4, ROUND(($AH13*4)*($AF13+0.5)*2,2), 0),0)) -> 0 | AO13: =IF($Z13="--","--",IF($AF13>$X$4, IF( $AF13>4, ROUND(($AH13*4)*($AF13+0.5)*2,2), 0),0)) -> 0 | AP13: =A13 -> A7-1 => A7-2 | AR13: =D13 -> 0.4 | AU13: =H13 -> 40 | AV13: =IF($Z13="--","--",Z13+0.2) -> 1.4 | AW13: x | AX13: =AV13 -> 1.4 | AY13: =IF(D13>2,AU13,AU13-AV13) -> 38.6 | AZ13: =O13 -> 0.1 | BB13: =Q13 -> 1.08 | BC13: =IF(F13=0,IF(ROUND( AY13 * ( ( (O13*Q13) + ( ((D13+N13*2)/6)*Q13 ) ) - ROUND( ((D13+N13*2)^2) * ( ( PI()*96.379 / (4*360) ) - ( (SIN((96.379/2)*PI()/180)) * (COS((96.379/2)*PI()/180)) / 4 ) ), 4) ),2), ROUND( AY13 * ( ( (O13*Q13) + ( ((D13+N13*2)/4)*Q13 ) ) - ROUND( ((D13+N13*2)^2) * ( ( PI()*120 / (4*360) ) - ( (SIN((120/2)*PI()/180)) * (COS((120/2)*PI()/180)) / 4 ) ), 4) ),2)),0) -> 7.8 | BD13: =IF(F13>0,ROUND(AY13*O13*Q13,2),0) -> 0 | BF13: =SUM(R13:V13,AI13:AM13) -> 61.13 | BG13: =IF(F13=0, ROUND( ( PI()*( (D13+N13*2)^2 ) / 4 ) * AY13,2), ROUND( (D13+N13*2)*(F13+N13*2) * AY13,2))*I13 -> 6.98 | BH13: =IF(($K13+N13-0.15)<=2,($K13+N13+0.15),IF(($K13+N13)<=3,2.35,($K13+N13+0.2)-0.85)) -> 1.39 | BI13: =IF(D13>2, (K13-F13-N13-0.11),IF(($K13+N13)<=2,0,IF(($K13+N13)>3,0.85,(K13+N13+0.2-BH13)))) -> 0 | BJ13: =IF($Z13="--",0,IF(D13>2,ROUND(((1.42+0.4)+(0.91+0.4))*2*BI13,2),ROUND(AV13*AX13*BH13,2))) -> 2.72 | BK13: =ROUND(((PI()*0.9^2)/4)*BI13,2) -> 0 | BL13: =ROUND(BF13-BG13-BJ13-BK13-BC13-BD13,2) -> 43.63 | BN13: A7-1 => A7-2 | BO13: A7-1 | BP13: 0.4 | BQ13: 40 | BR13: 1.2 | BS13: 1.217 | BT13: 0
A14: =BN14 -> A7-2 => A7-3 | D14: =BP14 -> 0.4 | G14: PA-1 | H14: =BQ14 -> 40 | I14: 1 | J14: =H14 -> 40 | K14: =BR14 -> 1.217 | L14: =BS14 -> 1.244 | M14: =ROUND((K14+L14)/2,2) -> 1.23 | N14: =IF(F14=0,ROUND($D14*10%,2),IF(D14>2.8,0.18,0.15)) -> 0.04 | O14: =IF(F14=0,IF( ROUND($D14/4,2), IF(ROUND(($D14*1.2)/6,2)<0.1,0.1,ROUND(($D14*1.2)/6,2))),0.5) -> 0.1 | P14: =M14+N14+O14 -> 1.37 | Q14: =IF(P14<2,(D14+N14*2)+0.6,(D14+N14*2)+0.6+ROUNDUP(P14-2,0)*0.1)*I14 -> 1.08 | R14: =IF($P14<=$X$4,ROUND(IF($P14<1.5,$P14*$H14*$Q14,1.5*$H14*$Q14),2),0) -> 59.18 | S14: =IF($P14>$X$4,ROUND(IF($P14<1.5,$P14*$H14*$Q14,1.5*$H14*$Q14),2),0) -> 0 | T14: =IF($P14>$X$4,ROUND(IF($P14<1.5,0,IF($P14>3,1.5*$H14*$Q14,($P14-1.5)*$H14*$Q14)),2),0) -> 0 | U14: =IF($P14>$X$4,ROUND(IF($P14<3,0,IF($P14>4.5,1.5*$H14*$Q14,($P14-3)*$H14*$Q14)),2),0) -> 0 | V14: =IF($P14>$X$4,ROUND(IF($P14<4.5,0,IF($P14>6,($P14-4.5)*$H14*$Q14,($P14-4.5)*$H14*$Q14)),2),0) -> 0 | W14: =IF($P14>$X$4, IF( $P14<=4, ROUND($H14*($P14+0.5)*2,2), 0),0) -> 0 | X14: =IF($P14>$X$4, IF( $P14>4, ROUND($H14*($P14+0.5)*2,2), 0),0) -> 0 | Y14: =BO14 -> A7-2 | Z14: =IF($D14=0.3,IF($I14=1,1.2,IF(I14=2,1.5,"--")),IF($D14=0.4,IF($I14=1,1.2,IF(I14=2,1.5,"--")),IF($D14=0.45,IF($I14=1,1.2,IF(I14=2,1.5,"--")),IF($D14=0.5,IF($I14=1,1.2,IF(I14=2,1.5,"--")),IF($D14=0.6,IF($I14=1,1.2,IF(I14=2,2,"--")),IF($D14=0.75,IF($I14=1,1.3,IF(I14=2,2,"--")),IF($D14=0.8,1.3,IF($D14=1,1.5,IF($D14=1.2,1.7,IF($D14<=2,2,"--")))))))))) -> 1.2 | AA14: x | AB14: =Z14 -> 1.2 | AC14: =IF($Z14="--","--",K14) -> 1.217 | AD14: =IF($Z14="--","--",IF(D14>1.5,0.15,ROUND($D14*10%,2))) -> 0.04 | AE14: =IF($Z14="--","--",0.15) -> 0.15 | AF14: =IF($Z14="--","--",ROUND(AC14+AD14+AE14,2)) -> 1.41 | AG14: =IF($Z14="--","--",IF($AC14<=2,$Z14+1,($Z14+1)+ROUNDUP($AC14-2,0)*0.1)) -> 2.2 | AH14: =IF($D14=0.3,1.04,IF($D14=0.4,0.92,IF($D14=0.45,0.86,IF($D14=0.5,0.8,IF($D14=0.75,0.8,IF($D14=0.6,0.68,IF($D14=0.8,0.74,IF($D14=1,0.7,IF($D14=1.2,0.66,IF($D14=1.5,0.6,IF($D14<=2,(2.4-(D14+0.3)),"--"))))))))))) -> 0.92 | AI14: =IF($Z14="--","--",IF($AF14<=$X$4,ROUND(IF($AF14<1.5,$AF14*$AG14*$AH14,1.5*$AG14*$AH14),2),0)) -> 2.85 | AJ14: =IF($Z14="--","--",IF($AF14>$X$4,ROUND(IF($AF14<1.5,$AF14*$AG14*$AH14,1.5*$AG14*$AH14),2),0)) -> 0 | AK14: =IF($Z14="--","--",IF($AF14>$X$4,ROUND(IF($AF14<1.5,0,IF($AF14>3,1.5*$AG14*$AH14,($AF14-1.5)*$AG14*$AH14)),2),0)) -> 0 | AL14: =IF($Z14="--","--",IF($AF14>$X$4,ROUND(IF($AF14<3,0,IF($AF14>4.5,1.5*$AG14*$AH14,($AF14-3)*$AG14*$AH14)),2),0)) -> 0 | AM14: =IF($Z14="--","--",IF($AF14>$X$4,ROUND(IF($AF14<4.5,0,IF($AF14>6,($AF14-4.5)*$AG14*$AH14,($AF14-4.5)*$AG14*$AH14)),2),0)) -> 0 | AN14: =IF($Z14="--","--",IF($AF14>$X$4, IF( $AF14<=4, ROUND(($AH14*4)*($AF14+0.5)*2,2), 0),0)) -> 0 | AO14: =IF($Z14="--","--",IF($AF14>$X$4, IF( $AF14>4, ROUND(($AH14*4)*($AF14+0.5)*2,2), 0),0)) -> 0 | AP14: =A14 -> A7-2 => A7-3 | AQ14: =C14 -> 0 | AR14: =D14 -> 0.4 | AU14: =H14 -> 40 | AV14: =IF($Z14="--","--",Z14+0.2) -> 1.4 | AW14: x | AX14: =AV14 -> 1.4 | AY14: =IF(D14>2,AU14,AU14-AV14) -> 38.6 | AZ14: =O14 -> 0.1 | BB14: =Q14 -> 1.08 | BC14: =IF(F14=0,IF(ROUND( AY14 * ( ( (O14*Q14) + ( ((D14+N14*2)/6)*Q14 ) ) - ROUND( ((D14+N14*2)^2) * ( ( PI()*96.379 / (4*360) ) - ( (SIN((96.379/2)*PI()/180)) * (COS((96.379/2)*PI()/180)) / 4 ) ), 4) ),2), ROUND( AY14 * ( ( (O14*Q14) + ( ((D14+N14*2)/4)*Q14 ) ) - ROUND( ((D14+N14*2)^2) * ( ( PI()*120 / (4*360) ) - ( (SIN((120/2)*PI()/180)) * (COS((120/2)*PI()/180)) / 4 ) ), 4) ),2)),0) -> 7.8 | BD14: =IF(F14>0,ROUND(AY14*O14*Q14,2),0) -> 0 | BF14: =SUM(R14:V14,AI14:AM14) -> 62.03 | BG14: =IF(F14=0, ROUND( ( PI()*( (D14+N14*2)^2 ) / 4 ) * AY14,2), ROUND( (D14+N14*2)*(F14+N14*2) * AY14,2))*I14 -> 6.98 | BH14: =IF(($K14+N14-0.15)<=2,($K14+N14+0.15),IF(($K14+N14)<=3,2.35,($K14+N14+0.2)-0.85)) -> 1.407 | BI14: =IF(D14>2, (K14-F14-N14-0.11),IF(($K14+N14)<=2,0,IF(($K14+N14)>3,0.85,(K14+N14+0.2-BH14)))) -> 0 | BJ14: =IF($Z14="--",0,IF(D14>2,ROUND(((1.42+0.4)+(0.91+0.4))*2*BI14,2),ROUND(AV14*AX14*BH14,2))) -> 2.76 | BK14: =ROUND(((PI()*0.9^2)/4)*BI14,2) -> 0 | BL14: =ROUND(BF14-BG14-BJ14-BK14-BC14-BD14,2) -> 44.49 | BN14: A7-2 => A7-3 | BO14: A7-2 | BP14: 0.4 | BQ14: 40 | BR14: 1.217 | BS14: 1.244 | BT14: 0
A15: =BN15 -> A7-3 => A7 | D15: =BP15 -> 0.4 | G15: PA-1 | H15: =BQ15 -> 36 | I15: 1 | J15: =H15 -> 36 | K15: =BR15 -> 1.244 | L15: =BS15 -> 1.2 | M15: =ROUND((K15+L15)/2,2) -> 1.22 | N15: =IF(F15=0,ROUND($D15*10%,2),IF(D15>2.8,0.18,0.15)) -> 0.04 | O15: =IF(F15=0,IF( ROUND($D15/4,2), IF(ROUND(($D15*1.2)/6,2)<0.1,0.1,ROUND(($D15*1.2)/6,2))),0.5) -> 0.1 | P15: =M15+N15+O15 -> 1.36 | Q15: =IF(P15<2,(D15+N15*2)+0.6,(D15+N15*2)+0.6+ROUNDUP(P15-2,0)*0.1)*I15 -> 1.08 | R15: =IF($P15<=$X$4,ROUND(IF($P15<1.5,$P15*$H15*$Q15,1.5*$H15*$Q15),2),0) -> 52.88 | S15: =IF($P15>$X$4,ROUND(IF($P15<1.5,$P15*$H15*$Q15,1.5*$H15*$Q15),2),0) -> 0 | T15: =IF($P15>$X$4,ROUND(IF($P15<1.5,0,IF($P15>3,1.5*$H15*$Q15,($P15-1.5)*$H15*$Q15)),2),0) -> 0 | U15: =IF($P15>$X$4,ROUND(IF($P15<3,0,IF($P15>4.5,1.5*$H15*$Q15,($P15-3)*$H15*$Q15)),2),0) -> 0 | V15: =IF($P15>$X$4,ROUND(IF($P15<4.5,0,IF($P15>6,($P15-4.5)*$H15*$Q15,($P15-4.5)*$H15*$Q15)),2),0) -> 0 | W15: =IF($P15>$X$4, IF( $P15<=4, ROUND($H15*($P15+0.5)*2,2), 0),0) -> 0 | X15: =IF($P15>$X$4, IF( $P15>4, ROUND($H15*($P15+0.5)*2,2), 0),0) -> 0 | Y15: =BO15 -> A7-3 | Z15: =IF($D15=0.3,IF($I15=1,1.2,IF(I15=2,1.5,"--")),IF($D15=0.4,IF($I15=1,1.2,IF(I15=2,1.5,"--")),IF($D15=0.45,IF($I15=1,1.2,IF(I15=2,1.5,"--")),IF($D15=0.5,IF($I15=1,1.2,IF(I15=2,1.5,"--")),IF($D15=0.6,IF($I15=1,1.2,IF(I15=2,2,"--")),IF($D15=0.75,IF($I15=1,1.3,IF(I15=2,2,"--")),IF($D15=0.8,1.3,IF($D15=1,1.5,IF($D15=1.2,1.7,IF($D15<=2,2,"--")))))))))) -> 1.2 | AA15: x | AB15: =Z15 -> 1.2 | AC15: =IF($Z15="--","--",K15) -> 1.244 | AD15: =IF($Z15="--","--",IF(D15>1.5,0.15,ROUND($D15*10%,2))) -> 0.04 | AE15: =IF($Z15="--","--",0.15) -> 0.15 | AF15: =IF($Z15="--","--",ROUND(AC15+AD15+AE15,2)) -> 1.43 | AG15: =IF($Z15="--","--",IF($AC15<=2,$Z15+1,($Z15+1)+ROUNDUP($AC15-2,0)*0.1)) -> 2.2 | AH15: =IF($D15=0.3,1.04,IF($D15=0.4,0.92,IF($D15=0.45,0.86,IF($D15=0.5,0.8,IF($D15=0.75,0.8,IF($D15=0.6,0.68,IF($D15=0.8,0.74,IF($D15=1,0.7,IF($D15=1.2,0.66,IF($D15=1.5,0.6,IF($D15<=2,(2.4-(D15+0.3)),"--"))))))))))) -> 0.92 | AI15: =IF($Z15="--","--",IF($AF15<=$X$4,ROUND(IF($AF15<1.5,$AF15*$AG15*$AH15,1.5*$AG15*$AH15),2),0)) -> 2.89 | AJ15: =IF($Z15="--","--",IF($AF15>$X$4,ROUND(IF($AF15<1.5,$AF15*$AG15*$AH15,1.5*$AG15*$AH15),2),0)) -> 0 | AK15: =IF($Z15="--","--",IF($AF15>$X$4,ROUND(IF($AF15<1.5,0,IF($AF15>3,1.5*$AG15*$AH15,($AF15-1.5)*$AG15*$AH15)),2),0)) -> 0 | AL15: =IF($Z15="--","--",IF($AF15>$X$4,ROUND(IF($AF15<3,0,IF($AF15>4.5,1.5*$AG15*$AH15,($AF15-3)*$AG15*$AH15)),2),0)) -> 0 | AM15: =IF($Z15="--","--",IF($AF15>$X$4,ROUND(IF($AF15<4.5,0,IF($AF15>6,($AF15-4.5)*$AG15*$AH15,($AF15-4.5)*$AG15*$AH15)),2),0)) -> 0 | AN15: =IF($Z15="--","--",IF($AF15>$X$4, IF( $AF15<=4, ROUND(($AH15*4)*($AF15+0.5)*2,2), 0),0)) -> 0 | AO15: =IF($Z15="--","--",IF($AF15>$X$4, IF( $AF15>4, ROUND(($AH15*4)*($AF15+0.5)*2,2), 0),0)) -> 0 | AP15: =A15 -> A7-3 => A7 | AQ15: =C15 -> 0 | AR15: =D15 -> 0.4 | AU15: =H15 -> 36 | AV15: =IF($Z15="--","--",Z15+0.2) -> 1.4 | AW15: x | AX15: =AV15 -> 1.4 | AY15: =IF(D15>2,AU15,AU15-AV15) -> 34.6 | AZ15: =O15 -> 0.1 | BB15: =Q15 -> 1.08 | BC15: =IF(F15=0,IF(ROUND( AY15 * ( ( (O15*Q15) + ( ((D15+N15*2)/6)*Q15 ) ) - ROUND( ((D15+N15*2)^2) * ( ( PI()*96.379 / (4*360) ) - ( (SIN((96.379/2)*PI()/180)) * (COS((96.379/2)*PI()/180)) / 4 ) ), 4) ),2), ROUND( AY15 * ( ( (O15*Q15) + ( ((D15+N15*2)/4)*Q15 ) ) - ROUND( ((D15+N15*2)^2) * ( ( PI()*120 / (4*360) ) - ( (SIN((120/2)*PI()/180)) * (COS((120/2)*PI()/180)) / 4 ) ), 4) ),2)),0) -> 7 | BD15: =IF(F15>0,ROUND(AY15*O15*Q15,2),0) -> 0 | BF15: =SUM(R15:V15,AI15:AM15) -> 55.77 | BG15: =IF(F15=0, ROUND( ( PI()*( (D15+N15*2)^2 ) / 4 ) * AY15,2), ROUND( (D15+N15*2)*(F15+N15*2) * AY15,2))*I15 -> 6.26 | BH15: =IF(($K15+N15-0.15)<=2,($K15+N15+0.15),IF(($K15+N15)<=3,2.35,($K15+N15+0.2)-0.85)) -> 1.434 | BI15: =IF(D15>2, (K15-F15-N15-0.11),IF(($K15+N15)<=2,0,IF(($K15+N15)>3,0.85,(K15+N15+0.2-BH15)))) -> 0 | BJ15: =IF($Z15="--",0,IF(D15>2,ROUND(((1.42+0.4)+(0.91+0.4))*2*BI15,2),ROUND(AV15*AX15*BH15,2))) -> 2.81 | BK15: =ROUND(((PI()*0.9^2)/4)*BI15,2) -> 0 | BL15: =ROUND(BF15-BG15-BJ15-BK15-BC15-BD15,2) -> 39.7 | BN15: A7-3 => A7 | BO15: A7-3 | BP15: 0.4 | BQ15: 36 | BR15: 1.244 | BS15: 1.2 | BT15: 0.197
A16: RUA NORONHA DOS SANTOS | Y16: =A16 -> RUA NORONHA DOS SANTOS | AP16: =A16 -> RUA NORONHA DOS SANTOS
A17: =BN17 -> A10-1 => A10-2 | D17: =BP17 -> 0.4 | G17: PA-1 | H17: =BQ17 -> 40 | I17: 1 | J17: =H17 -> 40 | K17: =BR17 -> 1.2 | L17: =BS17 -> 1.181 | M17: =ROUND((K17+L17)/2,2) -> 1.19 | N17: =IF(F17=0,ROUND($D17*10%,2),IF(D17>2.8,0.18,0.15)) -> 0.04 | O17: =IF(F17=0,IF( ROUND($D17/4,2), IF(ROUND(($D17*1.2)/6,2)<0.1,0.1,ROUND(($D17*1.2)/6,2))),0.5) -> 0.1 | P17: =M17+N17+O17 -> 1.33 | Q17: =IF(P17<2,(D17+N17*2)+0.6,(D17+N17*2)+0.6+ROUNDUP(P17-2,0)*0.1)*I17 -> 1.08 | R17: =IF($P17<=$X$4,ROUND(IF($P17<1.5,$P17*$H17*$Q17,1.5*$H17*$Q17),2),0) -> 57.46 | S17: =IF($P17>$X$4,ROUND(IF($P17<1.5,$P17*$H17*$Q17,1.5*$H17*$Q17),2),0) -> 0 | T17: =IF($P17>$X$4,ROUND(IF($P17<1.5,0,IF($P17>3,1.5*$H17*$Q17,($P17-1.5)*$H17*$Q17)),2),0) -> 0 | U17: =IF($P17>$X$4,ROUND(IF($P17<3,0,IF($P17>4.5,1.5*$H17*$Q17,($P17-3)*$H17*$Q17)),2),0) -> 0 | V17: =IF($P17>$X$4,ROUND(IF($P17<4.5,0,IF($P17>6,($P17-4.5)*$H17*$Q17,($P17-4.5)*$H17*$Q17)),2),0) -> 0 | W17: =IF($P17>$X$4, IF( $P17<=4, ROUND($H17*($P17+0.5)*2,2), 0),0) -> 0 | X17: =IF($P17>$X$4, IF( $P17>4, ROUND($H17*($P17+0.5)*2,2), 0),0) -> 0 | Y17: =BO17 -> A10-1 | Z17: =IF($D17=0.3,IF($I17=1,1.2,IF(I17=2,1.5,"--")),IF($D17=0.4,IF($I17=1,1.2,IF(I17=2,1.5,"--")),IF($D17=0.45,IF($I17=1,1.2,IF(I17=2,1.5,"--")),IF($D17=0.5,IF($I17=1,1.2,IF(I17=2,1.5,"--")),IF($D17=0.6,IF($I17=1,1.2,IF(I17=2,2,"--")),IF($D17=0.75,IF($I17=1,1.3,IF(I17=2,2,"--")),IF($D17=0.8,1.3,IF($D17=1,1.5,IF($D17=1.2,1.7,IF($D17<=2,2,"--")))))))))) -> 1.2 | AA17: x | AB17: =Z17 -> 1.2 | AC17: =IF($Z17="--","--",K17) -> 1.2 | AD17: =IF($Z17="--","--",IF(D17>1.5,0.15,ROUND($D17*10%,2))) -> 0.04 | AE17: =IF($Z17="--","--",0.15) -> 0.15 | AF17: =IF($Z17="--","--",ROUND(AC17+AD17+AE17,2)) -> 1.39 | AG17: =IF($Z17="--","--",IF($AC17<=2,$Z17+1,($Z17+1)+ROUNDUP($AC17-2,0)*0.1)) -> 2.2 | AH17: =IF($D17=0.3,1.04,IF($D17=0.4,0.92,IF($D17=0.45,0.86,IF($D17=0.5,0.8,IF($D17=0.75,0.8,IF($D17=0.6,0.68,IF($D17=0.8,0.74,IF($D17=1,0.7,IF($D17=1.2,0.66,IF($D17=1.5,0.6,IF($D17<=2,(2.4-(D17+0.3)),"--"))))))))))) -> 0.92 | AI17: =IF($Z17="--","--",IF($AF17<=$X$4,ROUND(IF($AF17<1.5,$AF17*$AG17*$AH17,1.5*$AG17*$AH17),2),0)) -> 2.81 | AJ17: =IF($Z17="--","--",IF($AF17>$X$4,ROUND(IF($AF17<1.5,$AF17*$AG17*$AH17,1.5*$AG17*$AH17),2),0)) -> 0 | AK17: =IF($Z17="--","--",IF($AF17>$X$4,ROUND(IF($AF17<1.5,0,IF($AF17>3,1.5*$AG17*$AH17,($AF17-1.5)*$AG17*$AH17)),2),0)) -> 0 | AL17: =IF($Z17="--","--",IF($AF17>$X$4,ROUND(IF($AF17<3,0,IF($AF17>4.5,1.5*$AG17*$AH17,($AF17-3)*$AG17*$AH17)),2),0)) -> 0 | AM17: =IF($Z17="--","--",IF($AF17>$X$4,ROUND(IF($AF17<4.5,0,IF($AF17>6,($AF17-4.5)*$AG17*$AH17,($AF17-4.5)*$AG17*$AH17)),2),0)) -> 0 | AN17: =IF($Z17="--","--",IF($AF17>$X$4, IF( $AF17<=4, ROUND(($AH17*4)*($AF17+0.5)*2,2), 0),0)) -> 0 | AO17: =IF($Z17="--","--",IF($AF17>$X$4, IF( $AF17>4, ROUND(($AH17*4)*($AF17+0.5)*2,2), 0),0)) -> 0 | AP17: =A17 -> A10-1 => A10-2 | AQ17: =C17 -> 0 | AR17: =D17 -> 0.4 | AU17: =H17 -> 40 | AV17: =IF($Z17="--","--",Z17+0.2) -> 1.4 | AW17: x | AX17: =AV17 -> 1.4 | AY17: =IF(D17>2,AU17,AU17-AV17) -> 38.6 | AZ17: =O17 -> 0.1 | BB17: =Q17 -> 1.08 | BC17: =IF(F17=0,IF(ROUND( AY17 * ( ( (O17*Q17) + ( ((D17+N17*2)/6)*Q17 ) ) - ROUND( ((D17+N17*2)^2) * ( ( PI()*96.379 / (4*360) ) - ( (SIN((96.379/2)*PI()/180)) * (COS((96.379/2)*PI()/180)) / 4 ) ), 4) ),2), ROUND( AY17 * ( ( (O17*Q17) + ( ((D17+N17*2)/4)*Q17 ) ) - ROUND( ((D17+N17*2)^2) * ( ( PI()*120 / (4*360) ) - ( (SIN((120/2)*PI()/180)) * (COS((120/2)*PI()/180)) / 4 ) ), 4) ),2)),0) -> 7.8 | BD17: =IF(F17>0,ROUND(AY17*O17*Q17,2),0) -> 0 | BF17: =SUM(R17:V17,AI17:AM17) -> 60.27 | BG17: =IF(F17=0, ROUND( ( PI()*( (D17+N17*2)^2 ) / 4 ) * AY17,2), ROUND( (D17+N17*2)*(F17+N17*2) * AY17,2))*I17 -> 6.98 | BH17: =IF(($K17+N17-0.15)<=2,($K17+N17+0.15),IF(($K17+N17)<=3,2.35,($K17+N17+0.2)-0.85)) -> 1.39 | BI17: =IF(D17>2, (K17-F17-N17-0.11),IF(($K17+N17)<=2,0,IF(($K17+N17)>3,0.85,(K17+N17+0.2-BH17)))) -> 0 | BJ17: =IF($Z17="--",0,IF(D17>2,ROUND(((1.42+0.4)+(0.91+0.4))*2*BI17,2),ROUND(AV17*AX17*BH17,2))) -> 2.72 | BK17: =ROUND(((PI()*0.9^2)/4)*BI17,2) -> 0 | BL17: =ROUND(BF17-BG17-BJ17-BK17-BC17-BD17,2) -> 42.77 | BN17: A10-1 => A10-2 | BO17: A10-1 | BP17: 0.4 | BQ17: 40 | BR17: 1.2 | BS17: 1.181 | BT17: 0.052
A18: =BN18 -> A10-2 => A10 | D18: =BP18 -> 0.4 | G18: PA-1 | H18: =BQ18 -> 40 | I18: 1 | J18: =H18 -> 40 | K18: =BR18 -> 1.233 | L18: =BS18 -> 1.219 | M18: =ROUND((K18+L18)/2,2) -> 1.23 | N18: =IF(F18=0,ROUND($D18*10%,2),IF(D18>2.8,0.18,0.15)) -> 0.04 | O18: =IF(F18=0,IF( ROUND($D18/4,2), IF(ROUND(($D18*1.2)/6,2)<0.1,0.1,ROUND(($D18*1.2)/6,2))),0.5) -> 0.1 | P18: =M18+N18+O18 -> 1.37 | Q18: =IF(P18<2,(D18+N18*2)+0.6,(D18+N18*2)+0.6+ROUNDUP(P18-2,0)*0.1)*I18 -> 1.08 | R18: =IF($P18<=$X$4,ROUND(IF($P18<1.5,$P18*$H18*$Q18,1.5*$H18*$Q18),2),0) -> 59.18 | S18: =IF($P18>$X$4,ROUND(IF($P18<1.5,$P18*$H18*$Q18,1.5*$H18*$Q18),2),0) -> 0 | T18: =IF($P18>$X$4,ROUND(IF($P18<1.5,0,IF($P18>3,1.5*$H18*$Q18,($P18-1.5)*$H18*$Q18)),2),0) -> 0 | U18: =IF($P18>$X$4,ROUND(IF($P18<3,0,IF($P18>4.5,1.5*$H18*$Q18,($P18-3)*$H18*$Q18)),2),0) -> 0 | V18: =IF($P18>$X$4,ROUND(IF($P18<4.5,0,IF($P18>6,($P18-4.5)*$H18*$Q18,($P18-4.5)*$H18*$Q18)),2),0) -> 0 | W18: =IF($P18>$X$4, IF( $P18<=4, ROUND($H18*($P18+0.5)*2,2), 0),0) -> 0 | X18: =IF($P18>$X$4, IF( $P18>4, ROUND($H18*($P18+0.5)*2,2), 0),0) -> 0 | Y18: =BO18 -> A10-2 | Z18: =IF($D18=0.3,IF($I18=1,1.2,IF(I18=2,1.5,"--")),IF($D18=0.4,IF($I18=1,1.2,IF(I18=2,1.5,"--")),IF($D18=0.45,IF($I18=1,1.2,IF(I18=2,1.5,"--")),IF($D18=0.5,IF($I18=1,1.2,IF(I18=2,1.5,"--")),IF($D18=0.6,IF($I18=1,1.2,IF(I18=2,2,"--")),IF($D18=0.75,IF($I18=1,1.3,IF(I18=2,2,"--")),IF($D18=0.8,1.3,IF($D18=1,1.5,IF($D18=1.2,1.7,IF($D18<=2,2,"--")))))))))) -> 1.2 | AA18: x | AB18: =Z18 -> 1.2 | AC18: =IF($Z18="--","--",K18) -> 1.233 | AD18: =IF($Z18="--","--",IF(D18>1.5,0.15,ROUND($D18*10%,2))) -> 0.04 | AE18: =IF($Z18="--","--",0.15) -> 0.15 | AF18: =IF($Z18="--","--",ROUND(AC18+AD18+AE18,2)) -> 1.42 | AG18: =IF($Z18="--","--",IF($AC18<=2,$Z18+1,($Z18+1)+ROUNDUP($AC18-2,0)*0.1)) -> 2.2 | AH18: =IF($D18=0.3,1.04,IF($D18=0.4,0.92,IF($D18=0.45,0.86,IF($D18=0.5,0.8,IF($D18=0.75,0.8,IF($D18=0.6,0.68,IF($D18=0.8,0.74,IF($D18=1,0.7,IF($D18=1.2,0.66,IF($D18=1.5,0.6,IF($D18<=2,(2.4-(D18+0.3)),"--"))))))))))) -> 0.92 | AI18: =IF($Z18="--","--",IF($AF18<=$X$4,ROUND(IF($AF18<1.5,$AF18*$AG18*$AH18,1.5*$AG18*$AH18),2),0)) -> 2.87 | AJ18: =IF($Z18="--","--",IF($AF18>$X$4,ROUND(IF($AF18<1.5,$AF18*$AG18*$AH18,1.5*$AG18*$AH18),2),0)) -> 0 | AK18: =IF($Z18="--","--",IF($AF18>$X$4,ROUND(IF($AF18<1.5,0,IF($AF18>3,1.5*$AG18*$AH18,($AF18-1.5)*$AG18*$AH18)),2),0)) -> 0 | AL18: =IF($Z18="--","--",IF($AF18>$X$4,ROUND(IF($AF18<3,0,IF($AF18>4.5,1.5*$AG18*$AH18,($AF18-3)*$AG18*$AH18)),2),0)) -> 0 | AM18: =IF($Z18="--","--",IF($AF18>$X$4,ROUND(IF($AF18<4.5,0,IF($AF18>6,($AF18-4.5)*$AG18*$AH18,($AF18-4.5)*$AG18*$AH18)),2),0)) -> 0 | AN18: =IF($Z18="--","--",IF($AF18>$X$4, IF( $AF18<=4, ROUND(($AH18*4)*($AF18+0.5)*2,2), 0),0)) -> 0 | AO18: =IF($Z18="--","--",IF($AF18>$X$4, IF( $AF18>4, ROUND(($AH18*4)*($AF18+0.5)*2,2), 0),0)) -> 0 | AP18: =A18 -> A10-2 => A10 | AQ18: =C18 -> 0 | AR18: =D18 -> 0.4 | AU18: =H18 -> 40 | AV18: =IF($Z18="--","--",Z18+0.2) -> 1.4 | AW18: x | AX18: =AV18 -> 1.4 | AY18: =IF(D18>2,AU18,AU18-AV18) -> 38.6 | AZ18: =O18 -> 0.1 | BB18: =Q18 -> 1.08 | BC18: =IF(F18=0,IF(ROUND( AY18 * ( ( (O18*Q18) + ( ((D18+N18*2)/6)*Q18 ) ) - ROUND( ((D18+N18*2)^2) * ( ( PI()*96.379 / (4*360) ) - ( (SIN((96.379/2)*PI()/180)) * (COS((96.379/2)*PI()/180)) / 4 ) ), 4) ),2), ROUND( AY18 * ( ( (O18*Q18) + ( ((D18+N18*2)/4)*Q18 ) ) - ROUND( ((D18+N18*2)^2) * ( ( PI()*120 / (4*360) ) - ( (SIN((120/2)*PI()/180)) * (COS((120/2)*PI()/180)) / 4 ) ), 4) ),2)),0) -> 7.8 | BD18: =IF(F18>0,ROUND(AY18*O18*Q18,2),0) -> 0 | BF18: =SUM(R18:V18,AI18:AM18) -> 62.05 | BG18: =IF(F18=0, ROUND( ( PI()*( (D18+N18*2)^2 ) / 4 ) * AY18,2), ROUND( (D18+N18*2)*(F18+N18*2) * AY18,2))*I18 -> 6.98 | BH18: =IF(($K18+N18-0.15)<=2,($K18+N18+0.15),IF(($K18+N18)<=3,2.35,($K18+N18+0.2)-0.85)) -> 1.423 | BI18: =IF(D18>2, (K18-F18-N18-0.11),IF(($K18+N18)<=2,0,IF(($K18+N18)>3,0.85,(K18+N18+0.2-BH18)))) -> 0 | BJ18: =IF($Z18="--",0,IF(D18>2,ROUND(((1.42+0.4)+(0.91+0.4))*2*BI18,2),ROUND(AV18*AX18*BH18,2))) -> 2.79 | BK18: =ROUND(((PI()*0.9^2)/4)*BI18,2) -> 0 | BL18: =ROUND(BF18-BG18-BJ18-BK18-BC18-BD18,2) -> 44.48 | BN18: A10-2 => A10 | BO18: A10-2 | BP18: 0.4 | BQ18: 40 | BR18: 1.233 | BS18: 1.219 | BT18: 0.239
A19: AVENIDA PRESIDENTE TRUMAN | Y19: =A19 -> AVENIDA PRESIDENTE TRUMAN | AP19: =A19 -> AVENIDA PRESIDENTE TRUMAN
A20: =BN20 -> A13-1 => A13-2 | D20: =BP20 -> 0.4 | G20: PA-1 | H20: =BQ20 -> 40 | I20: 1 | J20: =H20 -> 40 | K20: =BR20 -> 1.2 | L20: =BS20 -> 1.292 | M20: =ROUND((K20+L20)/2,2) -> 1.25 | N20: =IF(F20=0,ROUND($D20*10%,2),IF(D20>2.8,0.18,0.15)) -> 0.04 | O20: =IF(F20=0,IF( ROUND($D20/4,2), IF(ROUND(($D20*1.2)/6,2)<0.1,0.1,ROUND(($D20*1.2)/6,2))),0.5) -> 0.1 | P20: =M20+N20+O20 -> 1.39 | Q20: =IF(P20<2,(D20+N20*2)+0.6,(D20+N20*2)+0.6+ROUNDUP(P20-2,0)*0.1)*I20 -> 1.08 | R20: =IF($P20<=$X$4,ROUND(IF($P20<1.5,$P20*$H20*$Q20,1.5*$H20*$Q20),2),0) -> 60.05 | S20: =IF($P20>$X$4,ROUND(IF($P20<1.5,$P20*$H20*$Q20,1.5*$H20*$Q20),2),0) -> 0 | T20: =IF($P20>$X$4,ROUND(IF($P20<1.5,0,IF($P20>3,1.5*$H20*$Q20,($P20-1.5)*$H20*$Q20)),2),0) -> 0 | U20: =IF($P20>$X$4,ROUND(IF($P20<3,0,IF($P20>4.5,1.5*$H20*$Q20,($P20-3)*$H20*$Q20)),2),0) -> 0 | V20: =IF($P20>$X$4,ROUND(IF($P20<4.5,0,IF($P20>6,($P20-4.5)*$H20*$Q20,($P20-4.5)*$H20*$Q20)),2),0) -> 0 | W20: =IF($P20>$X$4, IF( $P20<=4, ROUND($H20*($P20+0.5)*2,2), 0),0) -> 0 | X20: =IF($P20>$X$4, IF( $P20>4, ROUND($H20*($P20+0.5)*2,2), 0),0) -> 0 | Y20: =BO20 -> A13-1 | Z20: =IF($D20=0.3,IF($I20=1,1.2,IF(I20=2,1.5,"--")),IF($D20=0.4,IF($I20=1,1.2,IF(I20=2,1.5,"--")),IF($D20=0.45,IF($I20=1,1.2,IF(I20=2,1.5,"--")),IF($D20=0.5,IF($I20=1,1.2,IF(I20=2,1.5,"--")),IF($D20=0.6,IF($I20=1,1.2,IF(I20=2,2,"--")),IF($D20=0.75,IF($I20=1,1.3,IF(I20=2,2,"--")),IF($D20=0.8,1.3,IF($D20=1,1.5,IF($D20=1.2,1.7,IF($D20<=2,2,"--")))))))))) -> 1.2 | AA20: x | AB20: =Z20 -> 1.2 | AC20: =IF($Z20="--","--",K20) -> 1.2 | AD20: =IF($Z20="--","--",IF(D20>1.5,0.15,ROUND($D20*10%,2))) -> 0.04 | AE20: =IF($Z20="--","--",0.15) -> 0.15 | AF20: =IF($Z20="--","--",ROUND(AC20+AD20+AE20,2)) -> 1.39 | AG20: =IF($Z20="--","--",IF($AC20<=2,$Z20+1,($Z20+1)+ROUNDUP($AC20-2,0)*0.1)) -> 2.2 | AH20: =IF($D20=0.3,1.04,IF($D20=0.4,0.92,IF($D20=0.45,0.86,IF($D20=0.5,0.8,IF($D20=0.75,0.8,IF($D20=0.6,0.68,IF($D20=0.8,0.74,IF($D20=1,0.7,IF($D20=1.2,0.66,IF($D20=1.5,0.6,IF($D20<=2,(2.4-(D20+0.3)),"--"))))))))))) -> 0.92 | AI20: =IF($Z20="--","--",IF($AF20<=$X$4,ROUND(IF($AF20<1.5,$AF20*$AG20*$AH20,1.5*$AG20*$AH20),2),0)) -> 2.81 | AJ20: =IF($Z20="--","--",IF($AF20>$X$4,ROUND(IF($AF20<1.5,$AF20*$AG20*$AH20,1.5*$AG20*$AH20),2),0)) -> 0 | AK20: =IF($Z20="--","--",IF($AF20>$X$4,ROUND(IF($AF20<1.5,0,IF($AF20>3,1.5*$AG20*$AH20,($AF20-1.5)*$AG20*$AH20)),2),0)) -> 0 | AL20: =IF($Z20="--","--",IF($AF20>$X$4,ROUND(IF($AF20<3,0,IF($AF20>4.5,1.5*$AG20*$AH20,($AF20-3)*$AG20*$AH20)),2),0)) -> 0 | AM20: =IF($Z20="--","--",IF($AF20>$X$4,ROUND(IF($AF20<4.5,0,IF($AF20>6,($AF20-4.5)*$AG20*$AH20,($AF20-4.5)*$AG20*$AH20)),2),0)) -> 0 | AN20: =IF($Z20="--","--",IF($AF20>$X$4, IF( $AF20<=4, ROUND(($AH20*4)*($AF20+0.5)*2,2), 0),0)) -> 0 | AO20: =IF($Z20="--","--",IF($AF20>$X$4, IF( $AF20>4, ROUND(($AH20*4)*($AF20+0.5)*2,2), 0),0)) -> 0 | AP20: =A20 -> A13-1 => A13-2 | AQ20: =C20 -> 0 | AR20: =D20 -> 0.4 | AU20: =H20 -> 40 | AV20: =IF($Z20="--","--",Z20+0.2) -> 1.4 | AW20: x | AX20: =AV20 -> 1.4 | AY20: =IF(D20>2,AU20,AU20-AV20) -> 38.6 | AZ20: =O20 -> 0.1 | BB20: =Q20 -> 1.08 | BC20: =IF(F20=0,IF(ROUND( AY20 * ( ( (O20*Q20) + ( ((D20+N20*2)/6)*Q20 ) ) - ROUND( ((D20+N20*2)^2) * ( ( PI()*96.379 / (4*360) ) - ( (SIN((96.379/2)*PI()/180)) * (COS((96.379/2)*PI()/180)) / 4 ) ), 4) ),2), ROUND( AY20 * ( ( (O20*Q20) + ( ((D20+N20*2)/4)*Q20 ) ) - ROUND( ((D20+N20*2)^2) * ( ( PI()*120 / (4*360) ) - ( (SIN((120/2)*PI()/180)) * (COS((120/2)*PI()/180)) / 4 ) ), 4) ),2)),0) -> 7.8 | BD20: =IF(F20>0,ROUND(AY20*O20*Q20,2),0) -> 0 | BF20: =SUM(R20:V20,AI20:AM20) -> 62.86 | BG20: =IF(F20=0, ROUND( ( PI()*( (D20+N20*2)^2 ) / 4 ) * AY20,2), ROUND( (D20+N20*2)*(F20+N20*2) * AY20,2))*I20 -> 6.98 | BH20: =IF(($K20+N20-0.15)<=2,($K20+N20+0.15),IF(($K20+N20)<=3,2.35,($K20+N20+0.2)-0.85)) -> 1.39 | BI20: =IF(D20>2, (K20-F20-N20-0.11),IF(($K20+N20)<=2,0,IF(($K20+N20)>3,0.85,(K20+N20+0.2-BH20)))) -> 0 | BJ20: =IF($Z20="--",0,IF(D20>2,ROUND(((1.42+0.4)+(0.91+0.4))*2*BI20,2),ROUND(AV20*AX20*BH20,2))) -> 2.72 | BK20: =ROUND(((PI()*0.9^2)/4)*BI20,2) -> 0 | BL20: =ROUND(BF20-BG20-BJ20-BK20-BC20-BD20,2) -> 45.36 | BN20: A13-1 => A13-2 | BO20: A13-1 | BP20: 0.4 | BQ20: 40 | BR20: 1.2 | BS20: 1.292 | BT20: 0.1
A21: =BN21 -> A13-2 => A13 | D21: =BP21 -> 0.4 | G21: PA-1 | H21: =BQ21 -> 40 | I21: 1 | J21: =H21 -> 40 | K21: =BR21 -> 1.392 | L21: =BS21 -> 1.372 | M21: =ROUND((K21+L21)/2,2) -> 1.38 | N21: =IF(F21=0,ROUND($D21*10%,2),IF(D21>2.8,0.18,0.15)) -> 0.04 | O21: =IF(F21=0,IF( ROUND($D21/4,2), IF(ROUND(($D21*1.2)/6,2)<0.1,0.1,ROUND(($D21*1.2)/6,2))),0.5) -> 0.1 | P21: =M21+N21+O21 -> 1.52 | Q21: =IF(P21<2,(D21+N21*2)+0.6,(D21+N21*2)+0.6+ROUNDUP(P21-2,0)*0.1)*I21 -> 1.08 | R21: =IF($P21<=$X$4,ROUND(IF($P21<1.5,$P21*$H21*$Q21,1.5*$H21*$Q21),2),0) -> 0 | S21: =IF($P21>$X$4,ROUND(IF($P21<1.5,$P21*$H21*$Q21,1.5*$H21*$Q21),2),0) -> 64.8 | T21: =IF($P21>$X$4,ROUND(IF($P21<1.5,0,IF($P21>3,1.5*$H21*$Q21,($P21-1.5)*$H21*$Q21)),2),0) -> 0.86 | U21: =IF($P21>$X$4,ROUND(IF($P21<3,0,IF($P21>4.5,1.5*$H21*$Q21,($P21-3)*$H21*$Q21)),2),0) -> 0 | V21: =IF($P21>$X$4,ROUND(IF($P21<4.5,0,IF($P21>6,($P21-4.5)*$H21*$Q21,($P21-4.5)*$H21*$Q21)),2),0) -> 0 | W21: =IF($P21>$X$4, IF( $P21<=4, ROUND($H21*($P21+0.5)*2,2), 0),0) -> 161.6 | X21: =IF($P21>$X$4, IF( $P21>4, ROUND($H21*($P21+0.5)*2,2), 0),0) -> 0 | Y21: =BO21 -> A13-2 | Z21: =IF($D21=0.3,IF($I21=1,1.2,IF(I21=2,1.5,"--")),IF($D21=0.4,IF($I21=1,1.2,IF(I21=2,1.5,"--")),IF($D21=0.45,IF($I21=1,1.2,IF(I21=2,1.5,"--")),IF($D21=0.5,IF($I21=1,1.2,IF(I21=2,1.5,"--")),IF($D21=0.6,IF($I21=1,1.2,IF(I21=2,2,"--")),IF($D21=0.75,IF($I21=1,1.3,IF(I21=2,2,"--")),IF($D21=0.8,1.3,IF($D21=1,1.5,IF($D21=1.2,1.7,IF($D21<=2,2,"--")))))))))) -> 1.2 | AA21: x | AB21: =Z21 -> 1.2 | AC21: =IF($Z21="--","--",K21) -> 1.392 | AD21: =IF($Z21="--","--",IF(D21>1.5,0.15,ROUND($D21*10%,2))) -> 0.04 | AE21: =IF($Z21="--","--",0.15) -> 0.15 | AF21: =IF($Z21="--","--",ROUND(AC21+AD21+AE21,2)) -> 1.58 | AG21: =IF($Z21="--","--",IF($AC21<=2,$Z21+1,($Z21+1)+ROUNDUP($AC21-2,0)*0.1)) -> 2.2 | AH21: =IF($D21=0.3,1.04,IF($D21=0.4,0.92,IF($D21=0.45,0.86,IF($D21=0.5,0.8,IF($D21=0.75,0.8,IF($D21=0.6,0.68,IF($D21=0.8,0.74,IF($D21=1,0.7,IF($D21=1.2,0.66,IF($D21=1.5,0.6,IF($D21<=2,(2.4-(D21+0.3)),"--"))))))))))) -> 0.92 | AI21: =IF($Z21="--","--",IF($AF21<=$X$4,ROUND(IF($AF21<1.5,$AF21*$AG21*$AH21,1.5*$AG21*$AH21),2),0)) -> 0 | AJ21: =IF($Z21="--","--",IF($AF21>$X$4,ROUND(IF($AF21<1.5,$AF21*$AG21*$AH21,1.5*$AG21*$AH21),2),0)) -> 3.04 | AK21: =IF($Z21="--","--",IF($AF21>$X$4,ROUND(IF($AF21<1.5,0,IF($AF21>3,1.5*$AG21*$AH21,($AF21-1.5)*$AG21*$AH21)),2),0)) -> 0.16 | AL21: =IF($Z21="--","--",IF($AF21>$X$4,ROUND(IF($AF21<3,0,IF($AF21>4.5,1.5*$AG21*$AH21,($AF21-3)*$AG21*$AH21)),2),0)) -> 0 | AM21: =IF($Z21="--","--",IF($AF21>$X$4,ROUND(IF($AF21<4.5,0,IF($AF21>6,($AF21-4.5)*$AG21*$AH21,($AF21-4.5)*$AG21*$AH21)),2),0)) -> 0 | AN21: =IF($Z21="--","--",IF($AF21>$X$4, IF( $AF21<=4, ROUND(($AH21*4)*($AF21+0.5)*2,2), 0),0)) -> 15.31 | AO21: =IF($Z21="--","--",IF($AF21>$X$4, IF( $AF21>4, ROUND(($AH21*4)*($AF21+0.5)*2,2), 0),0)) -> 0 | AP21: =A21 -> A13-2 => A13 | AQ21: =C21 -> 0 | AR21: =D21 -> 0.4 | AU21: =H21 -> 40 | AV21: =IF($Z21="--","--",Z21+0.2) -> 1.4 | AW21: x | AX21: =AV21 -> 1.4 | AY21: =IF(D21>2,AU21,AU21-AV21) -> 38.6 | AZ21: =O21 -> 0.1 | BB21: =Q21 -> 1.08 | BC21: =IF(F21=0,IF(ROUND( AY21 * ( ( (O21*Q21) + ( ((D21+N21*2)/6)*Q21 ) ) - ROUND( ((D21+N21*2)^2) * ( ( PI()*96.379 / (4*360) ) - ( (SIN((96.379/2)*PI()/180)) * (COS((96.379/2)*PI()/180)) / 4 ) ), 4) ),2), ROUND( AY21 * ( ( (O21*Q21) + ( ((D21+N21*2)/4)*Q21 ) ) - ROUND( ((D21+N21*2)^2) * ( ( PI()*120 / (4*360) ) - ( (SIN((120/2)*PI()/180)) * (COS((120/2)*PI()/180)) / 4 ) ), 4) ),2)),0) -> 7.8 | BD21: =IF(F21>0,ROUND(AY21*O21*Q21,2),0) -> 0 | BF21: =SUM(R21:V21,AI21:AM21) -> 68.86 | BG21: =IF(F21=0, ROUND( ( PI()*( (D21+N21*2)^2 ) / 4 ) * AY21,2), ROUND( (D21+N21*2)*(F21+N21*2) * AY21,2))*I21 -> 6.98 | BH21: =IF(($K21+N21-0.15)<=2,($K21+N21+0.15),IF(($K21+N21)<=3,2.35,($K21+N21+0.2)-0.85)) -> 1.582 | BI21: =IF(D21>2, (K21-F21-N21-0.11),IF(($K21+N21)<=2,0,IF(($K21+N21)>3,0.85,(K21+N21+0.2-BH21)))) -> 0 | BJ21: =IF($Z21="--",0,IF(D21>2,ROUND(((1.42+0.4)+(0.91+0.4))*2*BI21,2),ROUND(AV21*AX21*BH21,2))) -> 3.1 | BK21: =ROUND(((PI()*0.9^2)/4)*BI21,2) -> 0 | BL21: =ROUND(BF21-BG21-BJ21-BK21-BC21-BD21,2) -> 50.98 | BN21: A13-2 => A13 | BO21: A13-2 | BP21: 0.4 | BQ21: 40 | BR21: 1.392 | BS21: 1.372 | BT21: 0.486
A22: RUA PLÍNIO ROCHA | Y22: =A22 -> RUA PLÍNIO ROCHA | AP22: =A22 -> RUA PLÍNIO ROCHA
A23: =BN23 -> A19-6-1 => A19-6-2 | D23: =BP23 -> 0.4 | G23: PA-1 | H23: =BQ23 -> 40 | I23: 1 | J23: =H23 -> 40 | K23: =BR23 -> 1.2 | L23: =BS23 -> 1.223 | M23: =ROUND((K23+L23)/2,2) -> 1.21 | N23: =IF(F23=0,ROUND($D23*10%,2),IF(D23>2.8,0.18,0.15)) -> 0.04 | O23: =IF(F23=0,IF( ROUND($D23/4,2), IF(ROUND(($D23*1.2)/6,2)<0.1,0.1,ROUND(($D23*1.2)/6,2))),0.5) -> 0.1 | P23: =M23+N23+O23 -> 1.35 | Q23: =IF(P23<2,(D23+N23*2)+0.6,(D23+N23*2)+0.6+ROUNDUP(P23-2,0)*0.1)*I23 -> 1.08 | R23: =IF($P23<=$X$4,ROUND(IF($P23<1.5,$P23*$H23*$Q23,1.5*$H23*$Q23),2),0) -> 58.32 | S23: =IF($P23>$X$4,ROUND(IF($P23<1.5,$P23*$H23*$Q23,1.5*$H23*$Q23),2),0) -> 0 | T23: =IF($P23>$X$4,ROUND(IF($P23<1.5,0,IF($P23>3,1.5*$H23*$Q23,($P23-1.5)*$H23*$Q23)),2),0) -> 0 | U23: =IF($P23>$X$4,ROUND(IF($P23<3,0,IF($P23>4.5,1.5*$H23*$Q23,($P23-3)*$H23*$Q23)),2),0) -> 0 | V23: =IF($P23>$X$4,ROUND(IF($P23<4.5,0,IF($P23>6,($P23-4.5)*$H23*$Q23,($P23-4.5)*$H23*$Q23)),2),0) -> 0 | W23: =IF($P23>$X$4, IF( $P23<=4, ROUND($H23*($P23+0.5)*2,2), 0),0) -> 0 | X23: =IF($P23>$X$4, IF( $P23>4, ROUND($H23*($P23+0.5)*2,2), 0),0) -> 0 | Y23: =BO23 -> A19-6-1 | Z23: =IF($D23=0.3,IF($I23=1,1.2,IF(I23=2,1.5,"--")),IF($D23=0.4,IF($I23=1,1.2,IF(I23=2,1.5,"--")),IF($D23=0.45,IF($I23=1,1.2,IF(I23=2,1.5,"--")),IF($D23=0.5,IF($I23=1,1.2,IF(I23=2,1.5,"--")),IF($D23=0.6,IF($I23=1,1.2,IF(I23=2,2,"--")),IF($D23=0.75,IF($I23=1,1.3,IF(I23=2,2,"--")),IF($D23=0.8,1.3,IF($D23=1,1.5,IF($D23=1.2,1.7,IF($D23<=2,2,"--")))))))))) -> 1.2 | AA23: x | AB23: =Z23 -> 1.2 | AC23: =IF($Z23="--","--",K23) -> 1.2 | AD23: =IF($Z23="--","--",IF(D23>1.5,0.15,ROUND($D23*10%,2))) -> 0.04 | AE23: =IF($Z23="--","--",0.15) -> 0.15 | AF23: =IF($Z23="--","--",ROUND(AC23+AD23+AE23,2)) -> 1.39 | AG23: =IF($Z23="--","--",IF($AC23<=2,$Z23+1,($Z23+1)+ROUNDUP($AC23-2,0)*0.1)) -> 2.2 | AH23: =IF($D23=0.3,1.04,IF($D23=0.4,0.92,IF($D23=0.45,0.86,IF($D23=0.5,0.8,IF($D23=0.75,0.8,IF($D23=0.6,0.68,IF($D23=0.8,0.74,IF($D23=1,0.7,IF($D23=1.2,0.66,IF($D23=1.5,0.6,IF($D23<=2,(2.4-(D23+0.3)),"--"))))))))))) -> 0.92 | AI23: =IF($Z23="--","--",IF($AF23<=$X$4,ROUND(IF($AF23<1.5,$AF23*$AG23*$AH23,1.5*$AG23*$AH23),2),0)) -> 2.81 | AJ23: =IF($Z23="--","--",IF($AF23>$X$4,ROUND(IF($AF23<1.5,$AF23*$AG23*$AH23,1.5*$AG23*$AH23),2),0)) -> 0 | AK23: =IF($Z23="--","--",IF($AF23>$X$4,ROUND(IF($AF23<1.5,0,IF($AF23>3,1.5*$AG23*$AH23,($AF23-1.5)*$AG23*$AH23)),2),0)) -> 0 | AL23: =IF($Z23="--","--",IF($AF23>$X$4,ROUND(IF($AF23<3,0,IF($AF23>4.5,1.5*$AG23*$AH23,($AF23-3)*$AG23*$AH23)),2),0)) -> 0 | AM23: =IF($Z23="--","--",IF($AF23>$X$4,ROUND(IF($AF23<4.5,0,IF($AF23>6,($AF23-4.5)*$AG23*$AH23,($AF23-4.5)*$AG23*$AH23)),2),0)) -> 0 | AN23: =IF($Z23="--","--",IF($AF23>$X$4, IF( $AF23<=4, ROUND(($AH23*4)*($AF23+0.5)*2,2), 0),0)) -> 0 | AO23: =IF($Z23="--","--",IF($AF23>$X$4, IF( $AF23>4, ROUND(($AH23*4)*($AF23+0.5)*2,2), 0),0)) -> 0 | AP23: =A23 -> A19-6-1 => A19-6-2 | AQ23: =C23 -> 0 | AR23: =D23 -> 0.4 | AU23: =H23 -> 40 | AV23: =IF($Z23="--","--",Z23+0.2) -> 1.4 | AW23: x | AX23: =AV23 -> 1.4 | AY23: =IF(D23>2,AU23,AU23-AV23) -> 38.6 | AZ23: =O23 -> 0.1 | BB23: =Q23 -> 1.08 | BC23: =IF(F23=0,IF(ROUND( AY23 * ( ( (O23*Q23) + ( ((D23+N23*2)/6)*Q23 ) ) - ROUND( ((D23+N23*2)^2) * ( ( PI()*96.379 / (4*360) ) - ( (SIN((96.379/2)*PI()/180)) * (COS((96.379/2)*PI()/180)) / 4 ) ), 4) ),2), ROUND( AY23 * ( ( (O23*Q23) + ( ((D23+N23*2)/4)*Q23 ) ) - ROUND( ((D23+N23*2)^2) * ( ( PI()*120 / (4*360) ) - ( (SIN((120/2)*PI()/180)) * (COS((120/2)*PI()/180)) / 4 ) ), 4) ),2)),0) -> 7.8 | BD23: =IF(F23>0,ROUND(AY23*O23*Q23,2),0) -> 0 | BF23: =SUM(R23:V23,AI23:AM23) -> 61.13 | BG23: =IF(F23=0, ROUND( ( PI()*( (D23+N23*2)^2 ) / 4 ) * AY23,2), ROUND( (D23+N23*2)*(F23+N23*2) * AY23,2))*I23 -> 6.98 | BH23: =IF(($K23+N23-0.15)<=2,($K23+N23+0.15),IF(($K23+N23)<=3,2.35,($K23+N23+0.2)-0.85)) -> 1.39 | BI23: =IF(D23>2, (K23-F23-N23-0.11),IF(($K23+N23)<=2,0,IF(($K23+N23)>3,0.85,(K23+N23+0.2-BH23)))) -> 0 | BJ23: =IF($Z23="--",0,IF(D23>2,ROUND(((1.42+0.4)+(0.91+0.4))*2*BI23,2),ROUND(AV23*AX23*BH23,2))) -> 2.72 | BK23: =ROUND(((PI()*0.9^2)/4)*BI23,2) -> 0 | BL23: =ROUND(BF23-BG23-BJ23-BK23-BC23-BD23,2) -> 43.63 | BN23: A19-6-1 => A19-6-2 | BO23: A19-6-1 | BP23: 0.4 | BQ23: 40 | BR23: 1.2 | BS23: 1.223 | BT23: 0.15
