Workbook
Name CompDN600: #REF!
Name Database: #REF!
Name Database: #REF!
Name Database: #REF!
Name orcamento: 'III - Memória'!#REF!
Name orcamento: #REF!

Sheet VII - Orçamento
C1: PREFEITURA MUNICIPAL DE SÃO GONÇALO
C2: SECRETARIA MUNICIPAL DE COMPRAS E SUPRIMENTOS
E3: MÊS/ANO REF. : | G3: EMOP - 12/2021
C4: SERVIÇO DE COMPLEMENTAÇÃO DA INFRAESTRUTURA INCLUINDO PAVIMENTAÇÃO E DRENAGEM EM DIVERSAS RUAS NOS BAIRROS PACHECO E SACRAMENTO NO MUNICÍPIO DE SÃO GONÇALO | E4: BDI | F4: 0.2857
E5: VALOR DA OBRA | G5: 47612747
C6: ANEXO VII
C7: PLANILHA ORÇAMENTARIA | E7: PRAZO DA OBRA | G7: 12 MESES
A9: ITEM | B9: CÓDIGO | C9: DESCRIÇÃO | D9: UN | E9: QTD | F9: PREÇO
F10: UNITÁRIO | G10: TOTAL
A12: A | B12: SERVIÇOS DE ESCRITORIO LABORATORIO E CAMPO
A13: 1 | B13: 02.004.0004-A | C13: BARRACAO OBRA C/PAREDES CHAPAS MADEIRA COMPENSADA,PLASTIF.,LISA,COLAGEM FENOLICA,PROVA D`AGUA, COM 10MM ESP.PISO E ESTRUTURA MADEIRA 3ª,COBERTURA TELHAS ONDULADAS 6MM,FIBROCIMENTO,EXCL.PINT.E LIGACOES PROVISORIAS,INCL.INST.,APARELHOS, ESQUADRIAS E FERRAG.,PROJ.Nº2007/EMOP,ESCRITORIO,SANITARIOS,DEPOSITOS E TORRE C/CAIXA D`AGUA 500L,REAPROVEITADO 5 VEZES | D13: M2 | E13: 96 | F13: 358.37 | G13: 34403.52
A14: 2 | B14: 01.016.0085-A | C14: LEVANTAMENTO PLANIALTIMETRICO CADASTRAL DE AREA URBANA OU SUBURBANA,DESTINADA A REGULARIZACAO FUNDIARIA,PROJETOS VIARIOSE DE INFRAESTRUTURA,URBANIZACAO E ASSEMELHADOS,UTILIZANDO POLIGONAL III PAC,DESENHO NA ESCALA DE 1:250 A 1:100,EM AREASDENSAMENTE OCUPADAS(ACIMA DE 50% DE QUADRAS),EM AREAS ACIMADE 10000M2 | D14: M2 | E14: 140551.42 | F14: 2.23 | G14: 313429.66
A15: 3 | B15: 02.002.0011-A | C15: TAPUME DE VEDACAO OU PROTECAO,EXECUTADO COM TELHAS TRAPEZOIDAIS DE ACO GALVANIZADO,ESPESSURA DE 0,5MM,ESTAS COM 2 VEZESDE UTILIZACAO,INCLUSIVE ENGRADAMENTO DE MADEIRA,UTILIZADO 2VEZES E PINTURA ESMALTE SINTETICO NAS FACES INTERNA E EXTERNA | D15: M2 | E15: 220 | F15: 58.89 | G15: 12955.8
A16: 4 | B16: 02.020.0001-A | C16: PLACA DE IDENTIFICACAO DE OBRA PUBLICA,INCLUSIVE PINTURA E SUPORTES DE MADEIRA.FORNECIMENTO E COLOCACAO | D16: M2 | E16: 18 | F16: 465.82 | G16: 8384.76
A17: 5 | B17: 01.050.0162-A | C17: PROJETO EXECUTIVO PARA URBANIZACAO/REURBANIZACAO DE AREAS,VISANDO A ORGANIZACAO ESPACIAL E DAS ATIVIDADES,CONTEMPLANDO:SISTEMA VIARIO,PASSEIOS,PRACAS,ARBORIZACAO,ILUMINACAO COM CRITERIOS LUMINOTECNICOS,DISTRIBUICAO E INTEGRACAO DO MOBILIARIO URBANO E EQUIPAMENTOS URBANOS,APRESENTADO EM AUTOCAD NOS PADROES DA CONTRATANTE | D17: HA | E17: 14.036 | F17: 98707.8 | G17: 1385462.7
A18: 6 | B18: 02.006.0050-A | C18: ALUGUEL DE BANHEIRO QUIMICO,PORTATIL,MEDINDO 2,31M ALTURA X1,56M LARGURA E 1,16M PROFUNDIDADE,INCLUSIVE INSTALACAO E RETIRADA DO EQUIPAMENTO,FORNECIMENTO DE QUIMICA DESODORIZANTE,BACTERICIDA E BACTERIOSTATICA,PAPEL HIGIENICO E VEICULO PROPRIO COM UNIDADE MOVEL DE SUCCAO PARA LIMPEZA | D18: UNXMES | E18: 96 | F18: 950 | G18: 91200
A19: 7 | B19: 02.010.0001-A | C19: GALPAO ABERTO PARA OFICINAS E DEPOSITOS DE CANTEIRO DE OBRAS,ESTRUTURADO EM MADEIRA DE LEI,COBERTURA DE TELHAS DE CIMENTO SEM AMIANTO ONDULADAS,DE 6MM DE ESPESSURA,PISO CIMENTADO EPREPARO DO TERRENO | D19: M2 | E19: 48 | F19: 270.68 | G19: 12992.64
A20: 8 | B20: 02.006.0010-A | C20: ALUGUEL DE CONTAINER PARA ESCRITORIO,MEDINDO 2,20M LARGURA,6,20M COMPRIMENTO E 2,50M ALTURA,COMPOSTO DE CHAPAS DE ACO C/NERVURAS TRAPEZOIDAIS,ISOLAMENTO TERMO-ACUSTICO NO FORRO,CHASSIS REFORCADO E PISO EM COMPENSADO NAVAL, INCLUINDO INSTALACOES ELETRICAS,EXCLUSIVE TRANSPORTE(VIDE ITEM 04.005.0300) ECARGA E DESCARGA(VIDE ITEM 04.013.0015) | D20: UNXMES | E20: 24 | F20: 515.62 | G20: 12374.88
A21: 9 | B21: 02.006.0025-A | C21: ALUGUEL CONTAINER,PARA SANITARIO-VESTIARIO,MEDINDO 2,20M LARGURA,6,20M COMPRIMENTO E 2,50M ALTURA,CHAPAS ACO C/NERVURASTRAPEZOIDAIS,ISOLAMENTO TERMO-ACUSTICO FORRO,CHASSIS REFORCADO E PISO COMPENSADO NAVAL,INCL.INST.ELETRICAS E HIDRO-SANITARIAS,ACESSORIOS,4 VASOS SANITARIOS,1 LAVATORIO,1 MICTORIO E4 CHUVEIROS,EXCL.TRANSP.,CARGA E DESCARGA | D21: UNXMES | E21: 48 | F21: 825 | G21: 39600
A22: 10 | B22: 02.006.0030-A | C22: ALUGUEL CONTAINER,PARA SANITARIO-VESTIARIO,MEDINDO 2,20M LARGURA,6,20M COMPRIMENTO E 2,50M ALTURA,CHAPAS ACO C/NERVURASTRAPEZOIDAIS,ISOLAMENTO TERMO-ACUSTICO FORRO,CHASSIS REFORCADO E PISO COMPENSADO NAVAL,INCL.INST.ELETRICAS E HIDRO-SANITARIAS,ACESSORIOS,7 VASOS SANITARIOS,1 LAVATORIO E 1 MICTORIO,EXCL.TRANSP.,CARGA E DESCARGA | D22: UNXMES | E22: 24 | F22: 825 | G22: 19800
A23: 11 | B23: 01.001.0040-A | C23: SONDAGEM MANUAL,COM TRADO CAVADEIRA,POR METRO LINEAR OU FRACAO | D23: M | E23: 874.5 | F23: 167.09 | G23: 146120.2
A24: 12 | B24: 01.001.0014-A | C24: INDICE SUPORTE CALIFORNIA,POR 1 PONTO,COMPACTACAO COM ENERGIA PROCTOR NORMAL | D24: UN | E24: 583 | F24: 765.92 | G24: 446531.36
... A31: 19 | B31: 01.001.0302-A | C31: DETERMINACAO DA DEFORMACAO DE PAVIMENTOS COM O AUXILIO DA VIGA BENKELMANN,POR PONTO | D31: UN | E31: 1105 | F31: 110.81 | G31: 122445.05
E32: TOTAL DO ITEM | G32: 3053849.6 | H32: 3053849.6 | I32: TRUE
A33: B | B33: MESO E MICRO DRENAGEM PLUVIAL
A34: 20 | B34: 02.020.0009-A | C34: SEMAFORO PARA SINALIZACAO DE BLOQUEIO DE OBRA NA VIA PUBLICA,DE ACORDO COM A RESOLUCAO DA PREFEITURA-RJ,COMPREENDENDO FORNECIMENTO E COLOCACAO DE TODOS OS MATERIAIS NECESSARIOS,INCLUSIVE MATERIAIS ELETRICOS,CONSIDERANDO 40 VEZES O REAPROVEITAMENTO DA MADEIRA | D34: UN | E34: 273 | F34: 101.95 | G34: 27832.35
A35: 21 | B35: 02.030.0005-A | C35: PLACA DE SINALIZACAO PREVENTIVA PARA OBRA NA VIA PUBLICA,DEACORDO COM A RESOLUCAO DA PREFEITURA-RJ, COMPREENDENDO FORNECIMENTO E PINTURA DA PLACA E DOS SUPORTES DE MADEIRA.FORNECIMENTO E COLOCACAO | D35: UN | E35: 301 | F35: 84.93 | G35: 25563.93
A36: 22 | B36: 02.011.0014-A | C36: CERCA PROTETORA DE BORDA DE VALA OU OBRA,COM TELA PLASTICA NA COR LARANJA OU AMARELA,CONSIDERANDO 1 VEZ DE UTILIZACAO,INCLUSIVE APOIOS,FORNECIMENTO,COLOCACAO E RETIRADA | D36: M2 | E36: 15068 | F36: 2.21 | G36: 33300.28
A37: 23 | B37: 02.020.0005-A | C37: BARRAGEM DE BLOQUEIO DE OBRA NA VIA PUBLICA,DE ACORDO COM ARESOLUCAO DA PREFEITURA-RJ,COMPREENDENDO FORNECIMENTO,COLOCACAO E PINTURA DOS SUPORTES DE MADEIRA COM REAPROVEITAMENTO DO CONJUNTO 40 (QUARENTA) VEZES | D37: M | E37: 2972.76 | F37: 3.07 | G37: 9126.37
A38: 24 | B38: 03.001.0001-B | C38: ESCAVACAO MANUAL DE VALA/CAVA EM MATERIAL DE 1ª CATEGORIA (A(AREIA,ARGILA OU PICARRA),ATE 1,50M DE PROFUNDIDADE,EXCLUSIVE ESCORAMENTO E ESGOTAMENTO | D38: M3 | E38: 1153.44 | F38: 50.21 | G38: 57914.22
A39: 25 | B39: 03.016.0005-B | C39: ESCAVACAO MECANICA DE VALA NAO ESCORADA EM MATERIAL DE 1ªCATEGORIA COM PEDRAS,INSTALACOES PREDIAIS OU OUTROS REDUTORES DE PRODUTIVIDADE OU CAVAS DE FUNDACAO,ATE 1,50M DE PROFUNDIDADE,UTILIZANDO RETRO-ESCAVADEIRA,EXCLUSIVE ESGOTAMENTO | D39: M3 | E39: 5562.93 | F39: 22.04 | G39: 122606.97
A40: 26 | B40: 03.020.0060-B | C40: ESCAVACAO MECANICA DE VALA ESCORADA,EM MATERIAL DE 1ªCATEGORIA COM PEDRAS,INSTALACOES PREDIAIS OU OUTROS REDUTORES DE PRODUTIVIDADE,OU CAVAS DE FUNDACAO,ATE 1,50M DE PROFUNDIDADE,UTILIZANDO ESCAVADEIRA HIDRAULICA DE 0,78M3,EXCLUSIVE ESGOTAMENTO E ESCORAMENTO | D40: M3 | E40: 3725.95 | F40: 18.36 | G40: 68408.44
A41: 27 | B41: 03.020.0065-B | C41: ESCAVACAO MECANICA DE VALA ESCORADA,EM MATERIAL DE 1ªCATEGORIA COM PEDRAS,INSTALACOES PREDIAIS OU OUTROS REDUTORES DE PRODUTIVIDADE,OU CAVAS DE FUNDACAO,ENTRE 1,50 E 3,00M DE PROFUNDIDADE,UTILIZANDO ESCAVADEIRA HIDRAULICA DE 0,78M3,EXCLUSIVE ESGOTAMENTO E ESCORAMENTO | D41: M3 | E41: 1309.77 | F41: 21.11 | G41: 27649.24
A42: 28 | B42: 03.020.0070-B | C42: ESCAVACAO MECANICA DE VALA ESCORADA,EM MATERIAL DE 1ªCATEGORIA COM PEDRAS,INSTALACOES PREDIAIS OU OUTROS REDUTORES DE PRODUTIVIDADE,OU CAVAS DE FUNDACAO,ENTRE 3,00 E 4,50M DE PROFUNDIDADE,UTILIZANDO ESCAVADEIRA HIDRAULICA DE 0,78M3,EXCLUSIVE ESGOTAMENTO E ESCORAMENTO | D42: M3 | E42: 107.75 | F42: 29.06 | G42: 3131.21
A43: 29 | B43: 03.020.0075-B | C43: ESCAVACAO MECANICA DE VALA ESCORADA,EM MATERIAL DE 1ªCATEGORIA COM PEDRAS,INSTALACOES PREDIAIS OU OUTROS REDUTORES DE PRODUTIVIDADE,OU CAVAS DE FUNDACAO,ENTRE 4,50 E 6,00M DE PROFUNDIDADE,UTILIZANDO ESCAVADEIRA HIDRAULICA DE 0,78M3,EXCLUSIVE ESGOTAMENTO E ESCORAMENTO | D43: M3 | E43: 1.83 | F43: 44.83 | G43: 82.03
A44: 30 | B44: 03.008.0020-B | C44: ESCAVACAO EM MATERIAL DE 2ªCATEGORIA(MOLEDO OU ROCHA DECOMPOSTA),COM EQUIPAMENTO A AR COMPRIMIDO,SEM UTILIZACAO DE EXPLOSIVOS,EM TALUDES,VALA/CAVA,ATE 1,50M DE PROFUNDIDADE,INCLUSIVE EMPILHAMENTO DO MATERIAL PARA REMOCAO | D44: M3 | E44: 5049.95 | F44: 485.86 | G44: 2453568.7
A45: 31 | B45: 03.008.0021-A | C45: ESCAVACAO EM MATERIAL DE 2ªCATEGORIA(MOLEDO OU ROCHA DECOMPOSTA),COM EQUIPAMENTO A AR COMPRIMIDO,SEM UTILIZACAO DE EXPLOSIVOS,EM TALUDES,VALA/CAVA,ENTRE 1,50 E 3,00M DE PROFUNDIDADE,INCLUSIVE EMPILHAMENTO DO MATERIAL PARA REMOCAO | D45: M3 | E45: 903.29 | F45: 500.62 | G45: 452205.03
... A80: 66 | B80: 15.069.0010-A | C80: INTERVENCAO NO RAMAL CONFORME ESPECIFICACOES CEDAE,INCLUSIVEESCAVACAO E REATERRO COM O FORNECIMENTO DE TODO O MATERIALNECESSARIO,EXCLUSIVE REMOCAO E REPOSICAO DE PAVIMENTOS E RETIRADA DO CAVALETE,COM DIAMETRO DE 3/4" | D80: UN | E80: 314 | F80: 239.07 | G80: 75067.98
E81: TOTAL DO ITEM | G81: 11545205 | H81: 11545205 | I81: TRUE
A82: C | B82: PAVIMENTAÇÃO
...

Sheet III - Memória
C2: PREFEITURA MUNICIPAL DE SÃO GONÇALO
C3: SECRETARIA MUNICIPAL DE DESENVOLVIMENTO URBANO
A5: Titulo : | B5: SERVIÇO DE COMPLEMENTAÇÃO DA INFRAESTRUTURA INCLUINDO PAVIMENTAÇÃO E DRENAGEM EM DIVERSAS RUAS NOS BAIRROS PACHECO E SACRAMENTO NO MUNICÍPIO DE SÃO GONÇALO
A6: ANEXO III | K6: Prazo: | L6: 12
D7: MEMÓRIA DE CÁLCULO
A8: ITEM | B8: QUANT. | C8: DESCRIÇÃO
A10: A | B10: SERVIÇOS DE ESCRITÓRIO LABORATÓRIO E CAMPO
A12: 1 | B12: 02.004.0004-A | C12: BARRACAO OBRA C/PAREDES CHAPAS MADEIRA COMPENSADA,PLASTIF.,LISA,COLAGEM FENOLICA,PROVA D`AGUA, COM 10MM ESP.PISO E ESTRUTURA MADEIRA 3ª,COBERTURA TELHAS ONDULADAS 6MM,FIBROCIMENTO,EXCL.PINT.E LIGACOES PROVISORIAS,INCL.INST.,APARELHOS, ESQUADRIAS E FERRAG.,PROJ.Nº2007/EMOP,ESCRITORIO,SANITARIOS,DEPOSITOS E TORRE C/CAIXA D`AGUA 500L,REAPROVEITADO 5 VEZES | M12: 96
F14: Comprimento | H14: Largura
B15: 96 | C15: M2 | D15: TOTAL DOS SERVIÇOS | F15: 16 | G15: x | H15: 6
A17: 2 | B17: 01.016.0085-A | C17: LEVANTAMENTO PLANIALTIMETRICO CADASTRAL DE AREA URBANA OU SUBURBANA,DESTINADA A REGULARIZACAO FUNDIARIA,PROJETOS VIARIOSE DE INFRAESTRUTURA,URBANIZACAO E ASSEMELHADOS,UTILIZANDO POLIGONAL III PAC,DESENHO NA ESCALA DE 1:250 A 1:100,EM AREASDENSAMENTE OCUPADAS(ACIMA DE 50% DE QUADRAS),EM AREAS ACIMADE 10000M2 | M17: 140551.42
D19: PACHECO | F19: Extensão | H19: Largura
B20: 5086.78 | C20: = | D20: RUA EXPEDICIONÁRIO OTÁVIO CARLOS DA SILVA | F20: 423.899 | G20: x | H20: 12
B21: 4438.06 | C21: = | D21: RUA ARLINDO LUCIO DA SILVA | F21: 369.839 | G21: x | H21: 12
B22: 5732.37 | C22: = | D22: RUA MAMEDES GONÇALVES | F22: 477.698 | G22: x | H22: 12
B23: 2480.78 | C23: = | D23: RUA FRANCISCO GONCALVES | F23: 206.732 | G23: x | H23: 12
B24: 2484.76 | C24: = | D24: RUA LUIS CEARÁ | F24: 207.064 | G24: x | H24: 12
B25: 1256.65 | C25: = | D25: RUA HUGO SÁ PEIXOTO | F25: 104.721 | G25: x | H25: 12
B26: 3189.2 | C26: = | D26: RUA BENEDITA DE ALMEIDA E RUA LEÔNIDAS DE OLIVEIRA | F26: 265.767 | G26: x | H26: 12
B27: 3176.73 | C27: = | D27: RUA JUDITE CISNEIRO | F27: 264.728 | G27: x | H27: 12
B28: 2327.82 | C28: = | D28: RUA BENEDITA CARNEIRO | F28: 193.985 | G28: x | H28: 12
B29: 9636.44 | C29: = | D29: RUA ALBINO CUPERTINIO DE ABREU | F29: 803.037 | G29: x | H29: 12
B30: 540 | C30: = | D30: RUA EXP. ANTONIO COELHO DA SILVEIRA (400 a 402+5) | F30: 45 | G30: x | H30: 12
B31: 8693.4 | D31: RUA EXP. ANTONIO COELHO DA SILVEIRA (402+5 a 438+9,45) | F31: 724.45 | G31: x | H31: 12
B32: 3360 | C32: = | D32: RUA EXPEDICIONARIO VICENTE JOSÉ DE ALMEIDA | F32: 280 | G32: x | H32: 12
B33: 1821.96 | C33: = | D33: RUA NAZÁRIO MACHADO | F33: 151.83 | G33: x | H33: 12
B34: 835.7 | C34: = | D34: RUA ANTÔNIO JACINTO DA SILVA | F34: 69.642 | G34: x | H34: 12
B35: 2392.1 | C35: = | D35: RUA EXPEDICIONARIO FRANCISCO DIAS | F35: 199.342 | G35: x | H35: 12
B36: 3782.38 | C36: = | D36: RUA CAETANO MUNIZ | F36: 315.199 | G36: x | H36: 12
B37: 1399.08 | C37: = | D37: RUA EXPEDICIONARIO VASCO TEIXEIRA DA SILVA | F37: 116.59 | G37: x | H37: 12
B38: 1316.06 | C38: = | D38: RUA 12 DE OUTUBRO | F38: 109.672 | G38: x | H38: 12
B39: 2028.1 | C39: = | D39: RUA PROFESSORA MARIA MACHADO PANZA | F39: 169.009 | G39: x | H39: 12
B40: 5264.02 | C40: = | D40: RUA EXPEDICIONARIO JOAQUIM ONÍLIO BORGES | F40: 438.669 | G40: x | H40: 12
B41: 2013.92 | C41: = | D41: RUA ANTENOR GUIRLANDA | F41: 167.827 | G41: x | H41: 12
B42: 1767.38 | C42: = | D42: RUA EXPEDICIONÁRIO JOSÉ ANTÔNIO SANTOS - EIXO1 | F42: 147.282 | G42: x | H42: 12
B43: 1472.42 | C43: = | D43: RUA EXPEDICIONÁRIO JOSÉ ANTÔNIO SANTOS - EIXO2 | F43: 122.702 | G43: x | H43: 12
... B45: 18360 | C45: = | D45: RUA DOMÍCIO PORTO FILHO | F45: 1530 | G45: x | H45: 12
D47: SACRAMENTO
B48: 2818.09 | C48: = | D48: RUA CRISTÓVÃO FERREIRA PORTO | F48: 234.841 | G48: x | H48: 12
B49: 4363.8 | C49: = | D49: RUA ANTONIO AZEVEDO PIMENTA | F49: 363.65 | G49: x | H49: 12
...

Sheet DREN.ESCAV
A3: MEMÓRIA DE CÁLCULO: ESCAVAÇÕES E ESCORAMENTOS PARA REDES | Y3: MEMÓRIA DE CÁLCULO: ACRÉSCIMO NA ESCAVAÇÃO E ESCORAMENTO DE REDE PARA EXECUÇÃO DOS PV's | AP3: MEMÓRIA DE CÁLCULO: EMBASAMENTO E REATERRO
W4: considerando escoramento para profundidades maiores que | X4: 1.5 | AN4: considerando escoramento para profundidades maiores que | AO4: 1.5 | BK4: considerando escoramento para profundidades maiores que | BL4: 1.5
A5: Bacia Trecho | G5: Tipo | H5: Compr. Trecho | I5: Linhas | J5: Compr. Total | K5: Profundidade | M5: Prof. média | N5: Acréscimo | P5: Prof. de escav. | Q5: Largura da vala | R5: Volume de escavação | W5: Escoramento de vala | Y5: Nº PV | Z5: PV dimensões internas | AC5: Prof. Rede | AD5: Acréscimo Prof. Vala | AF5: Prof. de escav. | AG5: Compr. Escav. | AH5: Acréscimo largura da vala | AI5: Acréscimo volume de escavação da rede para PV | AN5: Acréscimo escoramento de vala | AP5: Bacia Trecho | AU5: Compr. Rede | AV5: PV dimensões externas | AY5: Embasamento tubo / galeria retangular | BF5: Volume | BG5: Volume a ser descontado da escavação | BL5: Volume de reaterro | BN5: Bacia Trecho | BP5: DN | BR5: Compr. | BS5: Profundidade | BU5: Degrau
D6: DN | N6: Espessura | R6: vala não | S6: vala escorada | AD6: Parede tubo | AE6: Base PV | AI6: vala não | AJ6: vala escorada | AR6: DN | BC6: Areia ou | BD6: Pedra | BE6: Brita | BF6: escav. | BG6: Volume | BH6: Altura | BI6: Altura | BJ6: Volume | BK6: Volume
D7: ou | N7: parede | O7: base | R7: escorada | AI7: escorada | AR7: ou | AY7: Ext. | AZ7: Esp. | BA7: Esp. | BB7: Larg. | BC7: pó de | BD7: de | BE7: nº 2 | BF7: rede + | BG7: rede | BH7: PV | BI7: pescoço | BJ7: PV | BK7: pescoço | BO7: Nº DO PV
D8: Base x Altura | K8: Mont | L8: Jus | R8: até 1,5m | S8: até 1,5m | T8: de 1,5a3m | U8: de 3a4,5m | V8: de 4,5a6m | W8: ≤ 4m | X8: > 4m | AI8: até 1,5m | AJ8: até 1,5m | AK8: de 1,5a3m | AL8: de 3a4,5m | AM8: de 4,5a6m | AN8: ≤ 4m | AO8: > 4m | AR8: Base x Altura | AZ8: mat. 1 | BA8: mat. 2 | BC8: pedra | BD8: mão | BF8: PV | BS8: Mont | BT8: Jus
D9: (m) | H9: (m) | I9: (un) | J9: (m) | K9: (m) | L9: (m) | M9: (m) | N9: (m) | O9: (m) | P9: (m) | Q9: (m) | R9: (m³) | S9: (m³) | T9: (m³) | U9: (m³) | V9: (m³) | W9: (m²) | X9: (m²) | Z9: (m) | AC9: (m) | AD9: (m) | AE9: (m) | AF9: (m) | AG9: (m) | AH9: (m) | AI9: (m³) | AJ9: (m³) | AK9: (m³) | AL9: (m³) | AM9: (m³) | AN9: (m²) | AO9: (m²) | AR9: (m) | AU9: (m) | AV9: (m) | AY9: (m) | AZ9: (m) | BA9: (m) | BB9: (m) | BC9: (m³) | BD9: (m³) | BE9: (m³) | BF9: (m³) | BG9: (m³) | BH9: (m) | BI9: (m) | BJ9: (m³) | BK9: (m³) | BL9: (m³) | BP9: (m) | BR9: (m) | BS9: (m) | BT9: (m) | BU9: (m)
A10: PACHECO / SACRAMENTO | Y10: PACHECO / SACRAMENTO | AP10: PACHECO / SACRAMENTO
A11: BACIA A | Y11: BACIA A | AP11: BACIA A
Y12: 0 | AP12: 0
A13: A1->A2 | D13: 0.4 | G13: PA-1 | H13: 20 | I13: 1 | J13: 20 | K13: 1.26 | L13: 1 | M13: 1.13 | N13: 0.04 | O13: 0.1 | P13: 1.27 | Q13: 1.08 | R13: 27.43 | S13: 0 | T13: 0 | U13: 0 | V13: 0 | W13: 0 | X13: 0 | Y13: A1 | Z13: 1.2 | AA13: x | AB13: 1.2 | AC13: 1.26 | AD13: 0.04 | AE13: 0.15 | AF13: 1.45 | AG13: 2.2 | AH13: 0.92 | AI13: 2.93 | AJ13: 0 | AK13: 0 | AL13: 0 | AM13: 0 | AN13: 0 | AO13: 0 | AP13: A1->A2 | AR13: 0.4 | AU13: 20 | AV13: 1.4 | AW13: x | AX13: 1.4 | AY13: 18.6 | AZ13: 0.1 | BB13: 1.08 | BC13: 3.76 | BD13: 0 | BF13: 30.36 | BG13: 3.37 | BH13: 1.45 | BI13: 0 | BJ13: 2.84 | BK13: 0 | BL13: 20.39 | BN13: A1->A2 | BO13: A1 | BP13: 0.4 | BQ13: PA-1 | BR13: 20 | BS13: 1.26 | BT13: 1
A14: A2->A3 | D14: 0.4 | G14: PA-1 | H14: 19.608031 | I14: 1 | J14: 19.608031 | K14: 1.505 | L14: 1 | M14: 1.25 | N14: 0.04 | O14: 0.1 | P14: 1.39 | Q14: 1.08 | R14: 29.44 | S14: 0 | T14: 0 | U14: 0 | V14: 0 | W14: 0 | X14: 0 | Y14: A2 | Z14: 1.2 | AA14: x | AB14: 1.2 | AC14: 1.505 | AD14: 0.04 | AE14: 0.15 | AF14: 1.69 | AG14: 2.2 | AH14: 0.92 | AI14: 0 | AJ14: 3.04 | AK14: 0.38 | AL14: 0 | AM14: 0 | AN14: 16.12 | AO14: 0 | AP14: A2->A3 | AQ14: 0 | AR14: 0.4 | AU14: 19.608031 | AV14: 1.4 | AW14: x | AX14: 1.4 | AY14: 18.208031 | AZ14: 0.1 | BB14: 1.08 | BC14: 3.68 | BD14: 0 | BF14: 32.86 | BG14: 3.29 | BH14: 1.695 | BI14: 0 | BJ14: 3.32 | BK14: 0 | BL14: 22.57 | BN14: A2->A3 | BO14: A2 | BP14: 0.4 | BQ14: PA-1 | BR14: 19.608031 | BS14: 1.505 | BT14: 1
A15: A3->A4 | D15: 0.4 | G15: PA-1 | H15: 27.391969 | I15: 1 | J15: 27.391969 | K15: 1.7842965 | L15: 1.17 | M15: 1.48 | N15: 0.04 | O15: 0.1 | P15: 1.62 | Q15: 1.08 | R15: 0 | S15: 44.37 | T15: 3.55 | U15: 0 | V15: 0 | W15: 116.14 | X15: 0 | Y15: A3 | Z15: 1.2 | AA15: x | AB15: 1.2 | AC15: 1.7842965 | AD15: 0.04 | AE15: 0.15 | AF15: 1.97 | AG15: 2.2 | AH15: 0.92 | AI15: 0 | AJ15: 3.04 | AK15: 0.95 | AL15: 0 | AM15: 0 | AN15: 18.18 | AO15: 0 | AP15: A3->A4 | AQ15: 0 | AR15: 0.4 | AU15: 27.391969 | AV15: 1.4 | AW15: x | AX15: 1.4 | AY15: 25.991969 | AZ15: 0.1 | BB15: 1.08 | BC15: 5.26 | BD15: 0 | BF15: 51.91 | BG15: 4.7 | BH15: 1.9742965 | BI15: 0 | BJ15: 3.87 | BK15: 0 | BL15: 38.08 | BN15: A3->A4 | BO15: A3 | BP15: 0.4 | BQ15: PA-1 | BR15: 27.391969 | BS15: 1.7842965 | BT15: 1.17
A16: A4->A5 | D16: 0.4 | G16: PA-1 | H16: 28 | I16: 1 | J16: 28 | K16: 2.03 | L16: 1.2 | M16: 1.62 | N16: 0.04 | O16: 0.1 | P16: 1.76 | Q16: 1.08 | R16: 0 | S16: 45.36 | T16: 7.86 | U16: 0 | V16: 0 | W16: 126.56 | X16: 0 | Y16: A4 | Z16: 1.2 | AA16: x | AB16: 1.2 | AC16: 2.03 | AD16: 0.04 | AE16: 0.15 | AF16: 2.22 | AG16: 2.3 | AH16: 0.92 | AI16: 0 | AJ16: 3.17 | AK16: 1.52 | AL16: 0 | AM16: 0 | AN16: 20.02 | AO16: 0 | AP16: A4->A5 | AQ16: 0 | AR16: 0.4 | AU16: 28 | AV16: 1.4 | AW16: x | AX16: 1.4 | AY16: 26.6 | AZ16: 0.1 | BB16: 1.08 | BC16: 5.38 | BD16: 0 | BF16: 57.91 | BG16: 4.81 | BH16: 2.22 | BI16: 0.05 | BJ16: 4.35 | BK16: 0.03 | BL16: 43.34 | BN16: A4->A5 | BO16: A4 | BP16: 0.4 | BQ16: PA-1 | BR16: 28 | BS16: 2.03 | BT16: 1.2
A17: A5->A6 | D17: 0.4 | G17: PA-1 | H17: 27 | I17: 1 | J17: 27 | K17: 1.65 | L17: 1.325 | M17: 1.49 | N17: 0.04 | O17: 0.1 | P17: 1.63 | Q17: 1.08 | R17: 0 | S17: 43.74 | T17: 3.79 | U17: 0 | V17: 0 | W17: 115.02 | X17: 0 | Y17: A5 | Z17: 1.2 | AA17: x | AB17: 1.2 | AC17: 1.65 | AD17: 0.04 | AE17: 0.15 | AF17: 1.84 | AG17: 2.2 | AH17: 0.92 | AI17: 0 | AJ17: 3.04 | AK17: 0.69 | AL17: 0 | AM17: 0 | AN17: 17.22 | AO17: 0 | AP17: A5->A6 | AQ17: 0 | AR17: 0.4 | AU17: 27 | AV17: 1.4 | AW17: x | AX17: 1.4 | AY17: 25.6 | AZ17: 0.1 | BB17: 1.08 | BC17: 5.18 | BD17: 0 | BF17: 51.26 | BG17: 4.63 | BH17: 1.84 | BI17: 0 | BJ17: 3.61 | BK17: 0 | BL17: 37.84 | BN17: A5->A6 | BO17: A5 | BP17: 0.4 | BQ17: PA-1 | BR17: 27 | BS17: 1.65 | BT17: 1.325
A18: A6-1->A6 | D18: 0.4 | G18: PA-2 | H18: 18 | I18: 1 | J18: 18 | K18: 2.3458621 | L18: 1.005 | M18: 1.68 | N18: 0.04 | O18: 0.1 | P18: 1.82 | Q18: 1.08 | R18: 0 | S18: 29.16 | T18: 6.22 | U18: 0 | V18: 0 | W18: 83.52 | X18: 0 | Y18: A6-1 | Z18: 1.2 | AA18: x | AB18: 1.2 | AC18: 2.3458621 | AD18: 0.04 | AE18: 0.15 | AF18: 2.54 | AG18: 2.3 | AH18: 0.92 | AI18: 0 | AJ18: 3.17 | AK18: 2.2 | AL18: 0 | AM18: 0 | AN18: 22.37 | AO18: 0 | AP18: A6-1->A6 | AQ18: 0 | AR18: 0.4 | AU18: 18 | AV18: 1.4 | AW18: x | AX18: 1.4 | AY18: 16.6 | AZ18: 0.1 | BB18: 1.08 | BC18: 3.36 | BD18: 0 | BF18: 40.75 | BG18: 3 | BH18: 2.35 | BI18: 0.2358621 | BJ18: 4.61 | BK18: 0.15 | BL18: 29.63 | BN18: A6-1->A6 | BO18: A6-1 | BP18: 0.4 | BQ18: PA-2 | BR18: 18 | BS18: 2.3458621 | BT18: 1.005
A19: A6->A7 | D19: 0.4 | G19: PA-2 | H19: 40 | I19: 1 | J19: 40 | K19: 2.85 | L19: 0.905 | M19: 1.88 | N19: 0.04 | O19: 0.1 | P19: 2.02 | Q19: 1.18 | R19: 0 | S19: 70.8 | T19: 24.54 | U19: 0 | V19: 0 | W19: 201.6 | X19: 0 | Y19: A6-1 | Z19: 1.2 | AA19: x | AB19: 1.2 | AC19: 2.85 | AD19: 0.04 | AE19: 0.15 | AF19: 3.04 | AG19: 2.3 | AH19: 0.92 | AI19: 0 | AJ19: 3.17 | AK19: 3.17 | AL19: 0.08 | AM19: 0 | AN19: 26.05 | AO19: 0 | AP19: A6->A7 | AQ19: 0 | AR19: 0.4 | AU19: 40 | AV19: 1.4 | AW19: x | AX19: 1.4 | AY19: 38.6 | AZ19: 0.1 | BB19: 1.18 | BC19: 8.65 | BD19: 0 | BF19: 101.76 | BG19: 6.98 | BH19: 2.35 | BI19: 0.74 | BJ19: 4.61 | BK19: 0.47 | BL19: 81.05 | BN19: A6->A7 | BO19: A6-1 | BP19: 0.4 | BQ19: PA-2 | BR19: 40 | BS19: 2.85 | BT19: 0.905
A20: A7->A8 | D20: 0.4 | G20: PA-2 | H20: 5 | I20: 1 | J20: 5 | K20: 0.95 | L20: 0.88 | M20: 0.92 | N20: 0.04 | O20: 0.1 | P20: 1.06 | Q20: 1.08 | R20: 5.72 | S20: 0 | T20: 0 | U20: 0 | V20: 0 | W20: 0 | X20: 0 | Y20: A7 | Z20: 1.2 | AA20: x | AB20: 1.2 | AC20: 0.95 | AD20: 0.04 | AE20: 0.15 | AF20: 1.14 | AG20: 2.2 | AH20: 0.92 | AI20: 2.31 | AJ20: 0 | AK20: 0 | AL20: 0 | AM20: 0 | AN20: 0 | AO20: 0 | AP20: A7->A8 | AQ20: 0 | AR20: 0.4 | AU20: 5 | AV20: 1.4 | AW20: x | AX20: 1.4 | AY20: 3.6 | AZ20: 0.1 | BB20: 1.08 | BC20: 0.73 | BD20: 0 | BF20: 8.03 | BG20: 0.65 | BH20: 1.14 | BI20: 0 | BJ20: 2.23 | BK20: 0 | BL20: 4.42 | BN20: A7->A8 | BO20: A7 | BP20: 0.4 | BQ20: PA-2 | BR20: 5 | BS20: 0.95 | BT20: 0.88
A22: BACIA B | Y22: BACIA B | AP22: BACIA B
A24: B1->B2 | D24: 0.4 | G24: PA-1 | H24: 11.40618 | I24: 1 | J24: 11.40618 | K24: 1.08 | L24: 1 | M24: 1.04 | N24: 0.04 | O24: 0.1 | P24: 1.18 | Q24: 1.08 | R24: 14.54 | S24: 0 | T24: 0 | U24: 0 | V24: 0 | W24: 0 | X24: 0 | Y24: B1 | Z24: 1.2 | AA24: x | AB24: 1.2 | AC24: 1.08 | AD24: 0.04 | AE24: 0.15 | AF24: 1.27 | AG24: 2.2 | AH24: 0.92 | AI24: 2.57 | AJ24: 0 | AK24: 0 | AL24: 0 | AM24: 0 | AN24: 0 | AO24: 0 | AP24: B1->B2 | AQ24: 0 | AR24: 0.4 | AU24: 11.40618 | AV24: 1.4 | AW24: x | AX24: 1.4 | AY24: 10.00618 | AZ24: 0.1 | BB24: 1.08 | BC24: 2.02 | BD24: 0 | BF24: 17.11 | BG24: 1.81 | BH24: 1.27 | BI24: 0 | BJ24: 2.49 | BK24: 0 | BL24: 10.79 | BN24: B1->B2 | BO24: B1 | BP24: 0.4 | BQ24: PA-1 | BR24: 11.40618 | BS24: 1.08 | BT24: 1
A25: B2->B3 | D25: 0.4 | G25: PA-1 | H25: 35 | I25: 1 | J25: 35 | K25: 1.84 | L25: 1 | M25: 1.42 | N25: 0.04 | O25: 0.1 | P25: 1.56 | Q25: 1.08 | R25: 0 | S25: 56.7 | T25: 2.27 | U25: 0 | V25: 0 | W25: 144.2 | X25: 0 | Y25: B2 | Z25: 1.2 | AA25: x | AB25: 1.2 | AC25: 1.84 | AD25: 0.04 | AE25: 0.15 | AF25: 2.03 | AG25: 2.2 | AH25: 0.92 | AI25: 0 | AJ25: 3.04 | AK25: 1.07 | AL25: 0 | AM25: 0 | AN25: 18.62 | AO25: 0 | AP25: B2->B3 | AQ25: 0 | AR25: 0.4 | AU25: 35 | AV25: 1.4 | AW25: x | AX25: 1.4 | AY25: 33.6 | AZ25: 0.1 | BB25: 1.08 | BC25: 6.79 | BD25: 0 | BF25: 63.08 | BG25: 6.08 | BH25: 2.03 | BI25: 0 | BJ25: 3.98 | BK25: 0 | BL25: 46.23 | BN25: B2->B3 | BO25: B2 | BP25: 0.4 | BQ25: PA-1 | BR25: 35 | BS25: 1.84 | BT25: 1
A26: B3->B4 | D26: 0.4 | G26: PA-1 | H26: 35 | I26: 1 | J26: 35 | K26: 2.24 | L26: 1.06 | M26: 1.65 | N26: 0.04 | O26: 0.1 | P26: 1.79 | Q26: 1.08 | R26: 0 | S26: 56.7 | T26: 10.96 | U26: 0 | V26: 0 | W26: 160.3 | X26: 0 | Y26: B3 | Z26: 1.2 | AA26: x | AB26: 1.2 | AC26: 2.24 | AD26: 0.04 | AE26: 0.15 | AF26: 2.43 | AG26: 2.3 | AH26: 0.92 | AI26: 0 | AJ26: 3.17 | AK26: 1.97 | AL26: 0 | AM26: 0 | AN26: 21.56 | AO26: 0 | AP26: B3->B4 | AQ26: 0 | AR26: 0.4 | AU26: 35 | AV26: 1.4 | AW26: x | AX26: 1.4 | AY26: 33.6 | AZ26: 0.1 | BB26: 1.08 | BC26: 6.79 | BD26: 0 | BF26: 72.8 | BG26: 6.08 | BH26: 2.35 | BI26: 0.13 | BJ26: 4.61 | BK26: 0.08 | BL26: 55.24 | BN26: B3->B4 | BO26: B3 | BP26: 0.4 | BQ26: PA-1 | BR26: 35 | BS26: 2.24 | BT26: 1.06
A27: B4->B5 | D27: 0.4 | G27: PA-2 | H27: 30 | I27: 1 | J27: 30 | K27: 1.81 | L27: 0.85 | M27: 1.33 | N27: 0.04 | O27: 0.1 | P27: 1.47 | Q27: 1.08 | R27: 47.63 | S27: 0 | T27: 0 | U27: 0 | V27: 0 | W27: 0 | X27: 0 | Y27: B4 | Z27: 1.2 | AA27: x | AB27: 1.2 | AC27: 1.81 | AD27: 0.04 | AE27: 0.15 | AF27: 2 | AG27: 2.2 | AH27: 0.92 | AI27: 0 | AJ27: 3.04 | AK27: 1.01 | AL27: 0 | AM27: 0 | AN27: 18.4 | AO27: 0 | AP27: B4->B5 | AQ27: 0 | AR27: 0.4 | AU27: 30 | AV27: 1.4 | AW27: x | AX27: 1.4 | AY27: 28.6 | AZ27: 0.1 | BB27: 1.08 | BC27: 5.78 | BD27: 0 | BF27: 51.68 | BG27: 5.18 | BH27: 2 | BI27: 0 | BJ27: 3.92 | BK27: 0 | BL27: 36.8 | BN27: B4->B5 | BO27: B4 | BP27: 0.4 | BQ27: PA-2 | BR27: 30 | BS27: 1.81 | BT27: 0.85
A28: B5->B | D28: 0.4 | G28: PA-2 | H28: 7 | I28: 1 | J28: 7 | K28: 0.85 | L28: 0.85 | M28: 0.85 | N28: 0.04 | O28: 0.1 | P28: 0.99 | Q28: 1.08 | R28: 7.48 | S28: 0 | T28: 0 | U28: 0 | V28: 0 | W28: 0 | X28: 0 | Y28: B5 | Z28: 1.2 | AA28: x | AB28: 1.2 | AC28: 0.85 | AD28: 0.04 | AE28: 0.15 | AF28: 1.04 | AG28: 2.2 | AH28: 0.92 | AI28: 2.1 | AJ28: 0 | AK28: 0 | AL28: 0 | AM28: 0 | AN28: 0 | AO28: 0 | AP28: B5->B | AQ28: 0 | AR28: 0.4 | AU28: 7 | AV28: 1.4 | AW28: x | AX28: 1.4 | AY28: 5.6 | AZ28: 0.1 | BB28: 1.08 | BC28: 1.13 | BD28: 0 | BF28: 9.58 | BG28: 1.01 | BH28: 1.04 | BI28: 0 | BJ28: 2.04 | BK28: 0 | BL28: 5.4 | BN28: B5->B | BO28: B5 | BP28: 0.4 | BQ28: PA-2 | BR28: 7 | BS28: 0.85 | BT28: 0.85
A30: BACIA C | Y30: BACIA C | AP30: BACIA C
A32: C1->C2 | D32: 0.4 | G32: PA-1 | H32: 40 | I32: 1 | J32: 40 | K32: 1.235 | L32: 1.123157 | M32: 1.18 | N32: 0.04 | O32: 0.1 | P32: 1.32 | Q32: 1.08 | R32: 57.02 | S32: 0 | T32: 0 | U32: 0 | V32: 0 | W32: 0 | X32: 0 | Y32: C1 | Z32: 1.2 | AA32: x | AB32: 1.2 | AC32: 1.235 | AD32: 0.04 | AE32: 0.15 | AF32: 1.43 | AG32: 2.2 | AH32: 0.92 | AI32: 2.89 | AJ32: 0 | AK32: 0 | AL32: 0 | AM32: 0 | AN32: 0 | AO32: 0 | AP32: C1->C2 | AQ32: 0 | AR32: 0.4 | AU32: 40 | AV32: 1.4 | AW32: x | AX32: 1.4 | AY32: 38.6 | AZ32: 0.1 | BB32: 1.08 | BC32: 7.8 | BD32: 0 | BF32: 59.91 | BG32: 6.98 | BH32: 1.425 | BI32: 0 | BJ32: 2.79 | BK32: 0 | BL32: 42.34 | BN32: C1->C2 | BO32: C1 | BP32: 0.4 | BQ32: PA-1 | BR32: 40 | BS32: 1.235 | BT32: 1.123157
A33: C2->C3 | D33: 0.4 | G33: PA-1 | H33: 40 | I33: 1 | J33: 40 | K33: 1.598157 | L33: 1.1455846 | M33: 1.37 | N33: 0.04 | O33: 0.1 | P33: 1.51 | Q33: 1.08 | R33: 0 | S33: 64.8 | T33: 0.43 | U33: 0 | V33: 0 | W33: 160.8 | X33: 0 | Y33: C2 | Z33: 1.2 | AA33: x | AB33: 1.2 | AC33: 1.598157 | AD33: 0.04 | AE33: 0.15 | AF33: 1.79 | AG33: 2.2 | AH33: 0.92 | AI33: 0 | AJ33: 3.04 | AK33: 0.59 | AL33: 0 | AM33: 0 | AN33: 16.85 | AO33: 0 | AP33: C2->C3 | AQ33: 0 | AR33: 0.4 | AU33: 40 | AV33: 1.4 | AW33: x | AX33: 1.4 | AY33: 38.6 | AZ33: 0.1 | BB33: 1.08 | BC33: 7.8 | BD33: 0 | BF33: 68.86 | BG33: 6.98 | BH33: 1.788157 | BI33: 0 | BJ33: 3.5 | BK33: 0 | BL33: 50.58 | BN33: C2->C3 | BO33: C2 | BP33: 0.4 | BQ33: PA-1 | BR33: 40 | BS33: 1.598157 | BT33: 1.1455846
A34: C3->C4 | D34: 0.4 | G34: PA-2 | H34: 20 | I34: 1 | J34: 20 | K34: 2.2795556 | L34: 0.85 | M34: 1.56 | N34: 0.04 | O34: 0.1 | P34: 1.7 | Q34: 1.08 | R34: 0 | S34: 32.4 | T34: 4.32 | U34: 0 | V34: 0 | W34: 88 | X34: 0 | Y34: C3 | Z34: 1.2 | AA34: x | AB34: 1.2 | AC34: 2.2795556 | AD34: 0.04 | AE34: 0.15 | AF34: 2.47 | AG34: 2.3 | AH34: 0.92 | AI34: 0 | AJ34: 3.17 | AK34: 2.05 | AL34: 0 | AM34: 0 | AN34: 21.86 | AO34: 0 | AP34: C3->C4 | AQ34: 0 | AR34: 0.4 | AU34: 20 | AV34: 1.4 | AW34: x | AX34: 1.4 | AY34: 18.6 | AZ34: 0.1 | BB34: 1.08 | BC34: 3.76 | BD34: 0 | BF34: 41.94 | BG34: 3.37 | BH34: 2.35 | BI34: 0.1695556 | BJ34: 4.61 | BK34: 0.11 | BL34: 30.09 | BN34: C3->C4 | BO34: C3 | BP34: 0.4 | BQ34: PA-2 | BR34: 20 | BS34: 2.2795556 | BT34: 0.85
A35: C4->C5 | D35: 0.4 | G35: PA-2 | H35: 20 | I35: 1 | J35: 20 | K35: 2.145 | L35: 0.85 | M35: 1.5 | N35: 0.04 | O35: 0.1 | P35: 1.64 | Q35: 1.08 | R35: 0 | S35: 32.4 | T35: 3.02 | U35: 0 | V35: 0 | W35: 85.6 | X35: 0 | Y35: C4 | Z35: 1.2 | AA35: x | AB35: 1.2 | AC35: 2.145 | AD35: 0.04 | AE35: 0.15 | AF35: 2.34 | AG35: 2.3 | AH35: 0.92 | AI35: 0 | AJ35: 3.17 | AK35: 1.78 | AL35: 0 | AM35: 0 | AN35: 20.9 | AO35: 0 | AP35: C4->C5 | AQ35: 0 | AR35: 0.4 | AU35: 20 | AV35: 1.4 | AW35: x | AX35: 1.4 | AY35: 18.6 | AZ35: 0.1 | BB35: 1.08 | BC35: 3.76 | BD35: 0 | BF35: 40.37 | BG35: 3.37 | BH35: 2.35 | BI35: 0.035 | BJ35: 4.61 | BK35: 0.02 | BL35: 28.61 | BN35: C4->C5 | BO35: C4 | BP35: 0.4 | BQ35: PA-2 | BR35: 20 | BS35: 2.145 | BT35: 0.85
A36: C5->C6 | D36: 0.4 | G36: PA-2 | H36: 34.990447 | I36: 1 | J36: 34.990447 | K36: 1.9000666 | L36: 0.92128847 | M36: 1.41 | N36: 0.04 | O36: 0.1 | P36: 1.55 | Q36: 1.08 | R36: 0 | S36: 56.68 | T36: 1.89 | U36: 0 | V36: 0 | W36: 143.46 | X36: 0 | Y36: C5 | Z36: 1.2 | AA36: x | AB36: 1.2 | AC36: 1.9000666 | AD36: 0.04 | AE36: 0.15 | AF36: 2.09 | AG36: 2.2 | AH36: 0.92 | AI36: 0 | AJ36: 3.04 | AK36: 1.19 | AL36: 0 | AM36: 0 | AN36: 19.06 | AO36: 0 | AP36: C5->C6 | AQ36: 0 | AR36: 0.4 | AU36: 34.990447 | AV36: 1.4 | AW36: x | AX36: 1.4 | AY36: 33.590447 | AZ36: 0.1 | BB36: 1.08 | BC36: 6.79 | BD36: 0 | BF36: 62.8 | BG36: 6.08 | BH36: 2.0900666 | BI36: 0 | BJ36: 4.1 | BK36: 0 | BL36: 45.83 | BN36: C5->C6 | BO36: C5 | BP36: 0.4 | BQ36: PA-2 | BR36: 34.990447 | BS36: 1.9000666 | BT36: 0.92128847
A37: C6->C7 | D37: 0.4 | G37: PA-2 | H37: 9.4275209 | I37: 1 | J37: 9.4275209 | K37: 0.92128847 | L37: 0.88316243 | M37: 0.9 | N37: 0.04 | O37: 0.1 | P37: 1.04 | Q37: 1.08 | R37: 10.59 | S37: 0 | T37: 0 | U37: 0 | V37: 0 | W37: 0 | X37: 0 | Y37: C6 | Z37: 1.2 | AA37: x | AB37: 1.2 | AC37: 0.92128847 | AD37: 0.04 | AE37: 0.15 | AF37: 1.11 | AG37: 2.2 | AH37: 0.92 | AI37: 2.25 | AJ37: 0 | AK37: 0 | AL37: 0 | AM37: 0 | AN37: 0 | AO37: 0 | AP37: C6->C7 | AQ37: 0 | AR37: 0.4 | AU37: 9.4275209 | AV37: 1.4 | AW37: x | AX37: 1.4 | AY37: 8.0275209 | AZ37: 0.1 | BB37: 1.08 | BC37: 1.62 | BD37: 0 | BF37: 12.84 | BG37: 1.45 | BH37: 1.1112885 | BI37: 0 | BJ37: 2.18 | BK37: 0 | BL37: 7.59 | BN37: C6->C7 | BO37: C6 | BP37: 0.4 | BQ37: PA-2 | BR37: 9.4275209 | BS37: 0.92128847 | BT37: 0.88316243
A39: BACIA D | Y39: BACIA D | AP39: BACIA D
A41: D1->D2 | D41: 0.4 | G41: PA-1 | H41: 20 | I41: 1 | J41: 20 | K41: 1.3572262 | L41: 1.25 | M41: 1.3 | N41: 0.04 | O41: 0.1 | P41: 1.44 | Q41: 1.08 | R41: 31.1 | S41: 0 | T41: 0 | U41: 0 | V41: 0 | W41: 0 | X41: 0 | Y41: D1 | Z41: 1.2 | AA41: x | AB41: 1.2 | AC41: 1.3572262 | AD41: 0.04 | AE41: 0.15 | AF41: 1.55 | AG41: 2.2 | AH41: 0.92 | AI41: 0 | AJ41: 3.04 | AK41: 0.1 | AL41: 0 | AM41: 0 | AN41: 15.09 | AO41: 0 | AP41: D1->D2 | AQ41: 0 | AR41: 0.4 | AU41: 20 | AV41: 1.4 | AW41: x | AX41: 1.4 | AY41: 18.6 | AZ41: 0.1 | BB41: 1.08 | BC41: 3.76 | BD41: 0 | BF41: 34.24 | BG41: 3.37 | BH41: 1.5472262 | BI41: 0 | BJ41: 3.03 | BK41: 0 | BL41: 24.08 | BN41: D1->D2 | BO41: D1 | BP41: 0.4 | BQ41: PA-1 | BR41: 20 | BS41: 1.3572262 | BT41: 1.25
A42: D2->D3 | D42: 0.4 | G42: PA-1 | H42: 20 | I42: 1 | J42: 20 | K42: 1.3680896 | L42: 1.1 | M42: 1.23 | N42: 0.04 | O42: 0.1 | P42: 1.37 | Q42: 1.08 | R42: 29.59 | S42: 0 | T42: 0 | U42: 0 | V42: 0 | W42: 0 | X42: 0 | Y42: D2 | Z42: 1.2 | AA42: x | AB42: 1.2 | AC42: 1.3680896 | AD42: 0.04 | AE42: 0.15 | AF42: 1.56 | AG42: 2.2 | AH42: 0.92 | AI42: 0 | AJ42: 3.04 | AK42: 0.12 | AL42: 0 | AM42: 0 | AN42: 15.16 | AO42: 0 | AP42: D2->D3 | AQ42: 0 | AR42: 0.4 | AU42: 20 | AV42: 1.4 | AW42: x | AX42: 1.4 | AY42: 18.6 | AZ42: 0.1 | BB42: 1.08 | BC42: 3.76 | BD42: 0 | BF42: 32.75 | BG42: 3.37 | BH42: 1.5580896 | BI42: 0 | BJ42: 3.05 | BK42: 0 | BL42: 22.57 | BN42: D2->D3 | BO42: D2 | BP42: 0.4 | BQ42: PA-1 | BR42: 20 | BS42: 1.3680896 | BT42: 1.1
A43: D3->D4 | D43: 0.4 | G43: PA-1 | H43: 14 | I43: 1 | J43: 14 | K43: 1.1 | L43: 1 | M43: 1.05 | N43: 0.04 | O43: 0.1 | P43: 1.19 | Q43: 1.08 | R43: 17.99 | S43: 0 | T43: 0 | U43: 0 | V43: 0 | W43: 0 | X43: 0 | Y43: D3 | Z43: 1.2 | AA43: x | AB43: 1.2 | AC43: 1.1 | AD43: 0.04 | AE43: 0.15 | AF43: 1.29 | AG43: 2.2 | AH43: 0.92 | AI43: 2.61 | AJ43: 0 | AK43: 0 | AL43: 0 | AM43: 0 | AN43: 0 | AO43: 0 | AP43: D3->D4 | AQ43: 0 | AR43: 0.4 | AU43: 14 | AV43: 1.4 | AW43: x | AX43: 1.4 | AY43: 12.6 | AZ43: 0.1 | BB43: 1.08 | BC43: 2.55 | BD43: 0 | BF43: 20.6 | BG43: 2.28 | BH43: 1.29 | BI43: 0 | BJ43: 2.53 | BK43: 0 | BL43: 13.24 | BN43: D3->D4 | BO43: D3 | BP43: 0.4 | BQ43: PA-1 | BR43: 14 | BS43: 1.1 | BT43: 1
A44: D4->D5 | D44: 0.4 | G44: PA-1 | H44: 14 | I44: 1 | J44: 14 | K44: 1.1 | L44: 1 | M44: 1.05 | N44: 0.04 | O44: 0.1 | P44: 1.19 | Q44: 1.08 | R44: 17.99 | S44: 0 | T44: 0 | U44: 0 | V44: 0 | W44: 0 | X44: 0 | Y44: D4 | Z44: 1.2 | AA44: x | AB44: 1.2 | AC44: 1.1 | AD44: 0.04 | AE44: 0.15 | AF44: 1.29 | AG44: 2.2 | AH44: 0.92 | AI44: 2.61 | AJ44: 0 | AK44: 0 | AL44: 0 | AM44: 0 | AN44: 0 | AO44: 0 | AP44: D4->D5 | AQ44: 0 | AR44: 0.4 | AU44: 14 | AV44: 1.4 | AW44: x | AX44: 1.4 | AY44: 12.6 | AZ44: 0.1 | BB44: 1.08 | BC44: 2.55 | BD44: 0 | BF44: 20.6 | BG44: 2.28 | BH44: 1.29 | BI44: 0 | BJ44: 2.53 | BK44: 0 | BL44: 13.24 | BN44: D4->D5 | BO44: D4 | BP44: 0.4 | BQ44: PA-1 | BR44: 14 | BS44: 1.1 | BT44: 1
A45: D5->D6 | D45: 0.4 | G45: PA-1 | H45: 40 | I45: 1 | J45: 40 | K45: 2.02 | L45: 1.205 | M45: 1.61 | N45: 0.04 | O45: 0.1 | P45: 1.75 | Q45: 1.08 | R45: 0 | S45: 64.8 | T45: 10.8 | U45: 0 | V45: 0 | W45: 180 | X45: 0 | Y45: D5 | Z45: 1.2 | AA45: x | AB45: 1.2 | AC45: 2.02 | AD45: 0.04 | AE45: 0.15 | AF45: 2.21 | AG45: 2.3 | AH45: 0.92 | AI45: 0 | AJ45: 3.17 | AK45: 1.5 | AL45: 0 | AM45: 0 | AN45: 19.95 | AO45: 0 | AP45: D5->D6 | AQ45: 0 | AR45: 0.4 | AU45: 40 | AV45: 1.4 | AW45: x | AX45: 1.4 | AY45: 38.6 | AZ45: 0.1 | BB45: 1.08 | BC45: 7.8 | BD45: 0 | BF45: 80.27 | BG45: 6.98 | BH45: 2.21 | BI45: 0.05 | BJ45: 4.33 | BK45: 0.03 | BL45: 61.13 | BN45: D5->D6 | BO45: D5 | BP45: 0.4 | BQ45: PA-1 | BR45: 40 | BS45: 2.02 | BT45: 1.205
A46: D6->D7 | D46: 0.6 | G46: PA-1 | H46: 20 | I46: 1 | J46: 20 | K46: 1.42 | L46: 1.47686 | M46: 1.45 | N46: 0.06 | O46: 0.12 | P46: 1.63 | Q46: 1.32 | R46: 0 | S46: 39.6 | T46: 3.43 | U46: 0 | V46: 0 | W46: 85.2 | X46: 0 | Y46: D6 | Z46: 1.2 | AA46: x | AB46: 1.2 | AC46: 1.42 | AD46: 0.06 | AE46: 0.15 | AF46: 1.63 | AG46: 2.2 | AH46: 0.68 | AI46: 0 | AJ46: 2.24 | AK46: 0.19 | AL46: 0 | AM46: 0 | AN46: 11.59 | AO46: 0 | AP46: D6->D7 | AQ46: 0 | AR46: 0.6 | AU46: 20 | AV46: 1.4 | AW46: x | AX46: 1.4 | AY46: 18.6 | AZ46: 0.12 | BB46: 1.32 | BC46: 5.89 | BD46: 0 | BF46: 45.46 | BG46: 7.57 | BH46: 1.63 | BI46: 0 | BJ46: 3.19 | BK46: 0 | BL46: 28.81 | BN46: D6->D7 | BO46: D6 | BP46: 0.6 | BQ46: PA-1 | BR46: 20 | BS46: 1.42 | BT46: 1.47686
A47: D7->D8 | D47: 0.6 | G47: PA-2 | H47: 25 | I47: 1 | J47: 25 | K47: 1.47686 | L47: 1.1284398 | M47: 1.3 | N47: 0.06 | O47: 0.12 | P47: 1.48 | Q47: 1.32 | R47: 48.84 | S47: 0 | T47: 0 | U47: 0 | V47: 0 | W47: 0 | X47: 0 | Y47: D7 | Z47: 1.2 | AA47: x | AB47: 1.2 | AC47: 1.47686 | AD47: 0.06 | AE47: 0.15 | AF47: 1.69 | AG47: 2.2 | AH47: 0.68 | AI47: 0 | AJ47: 2.24 | AK47: 0.28 | AL47: 0 | AM47: 0 | AN47: 11.91 | AO47: 0 | AP47: D7->D8 | AQ47: 0 | AR47: 0.6 | AU47: 25 | AV47: 1.4 | AW47: x | AX47: 1.4 | AY47: 23.6 | AZ47: 0.12 | BB47: 1.32 | BC47: 7.47 | BD47: 0 | BF47: 51.36 | BG47: 9.61 | BH47: 1.68686 | BI47: 0 | BJ47: 3.31 | BK47: 0 | BL47: 30.97 | BN47: D7->D8 | BO47: D7 | BP47: 0.6 | BQ47: PA-2 | BR47: 25 | BS47: 1.47686 | BT47: 1.1284398
A48: D8->D | D48: 0.6 | G48: PA-2 | H48: 8.2222992 | I48: 1 | J48: 8.2222992 | K48: 1.1284398 | L48: 1.1284398 | M48: 1.13 | N48: 0.06 | O48: 0.12 | P48: 1.31 | Q48: 1.32 | R48: 14.22 | S48: 0 | T48: 0 | U48: 0 | V48: 0 | W48: 0 | X48: 0 | Y48: D8 | Z48: 1.2 | AA48: x | AB48: 1.2 | AC48: 1.1284398 | AD48: 0.06 | AE48: 0.15 | AF48: 1.34 | AG48: 2.2 | AH48: 0.68 | AI48: 2 | AJ48: 0 | AK48: 0 | AL48: 0 | AM48: 0 | AN48: 0 | AO48: 0 | AP48: D8->D | AQ48: 0 | AR48: 0.6 | AU48: 8.2222992 | AV48: 1.4 | AW48: x | AX48: 1.4 | AY48: 6.8222992 | AZ48: 0.12 | BB48: 1.32 | BC48: 2.16 | BD48: 0 | BF48: 16.22 | BG48: 2.78 | BH48: 1.3384398 | BI48: 0 | BJ48: 2.62 | BK48: 0 | BL48: 8.66 | BN48: D8->D | BO48: D8 | BP48: 0.6 | BQ48: PA-2 | BR48: 8.2222992 | BS48: 1.1284398 | BT48: 1.1284398
...

Sheet MEMORIA GOV RJ
A1: ANEXO VI
B2: Governo do Estado do Rio de Janeiro Secretaria de Estado das Cidades Subsecretaria de Infraestrutura
A3: Natureza: | B3: ='VII - Orçamento'!C4 -> SERVIÇO DE COMPLEMENTAÇÃO DA INFRAESTRUTURA INCLUINDO PAVIMENTAÇÃO E DRENAGEM EM DIVERSAS RUAS NOS BAIRROS PACHECO E SACRAMENTO NO MUNICÍPIO DE SÃO GONÇALO | I3: MÊS /ANO REF. : | K3: ='VII - Orçamento'!G3 -> EMOP - 12/2021
I4: VALOR DA OBRA | K4: ='VII - Orçamento'!G5 -> 47612747
A5: Localização: | I5: PRAZO DA OBRA: | K5: ='VII - Orçamento'!G7 -> 12 MESES
A7: ITEM | B7: COD | C7: DESCRIÇÃO | K7: UNID. | L7: QUANT.
A8: 1 | B8: SERVIÇOS DE ESCRITÓRIO LABORATÓRIO E CAMPO
A9: 1.1 | B9: 02.004.0004-A | C9: =VLOOKUP(B9,#REF!,2,1) -> #REF! | K9: ='III - Memória'!C15 -> M2 | L9: ='III - Memória'!B15 -> 96 | N9: =VLOOKUP(B9,#REF!,2,FALSE) -> #REF! | O9: =L9*N9 -> #REF!
C11: Comprimento | E11: Largura
C12: 16 | D12: X | E12: 6 | F12: = | G12: =E12*C12 -> 96
A14: 1.2 | B14: 01.016.0085-A | C14: =VLOOKUP(B14,#REF!,2,1) -> #REF! | K14: =K23 -> M2 | L14: =J23 -> #N/A | N14: =VLOOKUP(B14,#REF!,2,FALSE) -> #REF! | O14: =L14*N14 -> #N/A
E15: Comprimento | F15: x | G15: Largura
C16: Av. Presidente Roosevelt | E16: 260 | F16: x | G16: 14 | I16: = | J16: =E16*G16 -> 3640
C17: Estrada de Marambaia | E17: 300 | F17: x | G17: 14 | I17: = | J17: =#N/A -> #N/A
C18: Rua da Igualdade | E18: 560 | F18: x | G18: 14 | I18: = | J18: =#N/A -> #N/A
C19: Rua da Liberdade | E19: 560 | F19: x | G19: 14 | I19: = | J19: =#N/A -> #N/A
C20: Rua da Fraternidade | E20: 560 | F20: x | G20: 14 | I20: = | J20: =#N/A -> #N/A
C21: Rua Heloísa Torres | E21: 620 | F21: x | G21: 14 | I21: = | J21: =#N/A -> #N/A
C22: Rua E (Rua da Maçonaria) | E22: 340 | F22: x | G22: 14 | I22: = | J22: =#N/A -> #N/A
H23: TOTAL DOS SERVIÇOS | J23: =SUM(J16:J22) -> #N/A | K23: M2
A24: 1.3 | B24: 02.002.0011-A | C24: =VLOOKUP(B24,#REF!,2,1) -> #REF! | K24: =K28 -> M2 | L24: =J28 -> 220 | N24: =VLOOKUP(B24,#REF!,2,FALSE) -> #REF! | O24: =L24*N24 -> #REF!
C26: Comprimento | F26: Altura
A27: Perímetro do canteiro | C27: 100 | D27: X | F27: 2.2 | I27: = | J27: =C27*F27 -> 220
H28: TOTAL DOS SERVIÇOS | J28: =J27 -> 220 | K28: M2
A30: 1.4 | B30: 02.020.0001-A | C30: =VLOOKUP(B30,#REF!,2,1) -> #REF! | K30: =K34 -> M2 | L30: =J34 -> 12 | N30: =VLOOKUP(B30,#REF!,2,FALSE) -> #REF! | O30: =L30*N30 -> #REF!
C32: Altura | E32: Largura | G32: Quantidade
C33: 2 | D33: X | E33: 3 | F33: X | G33: 2 | I33: = | J33: =C33*E33*G33 -> 12
J34: =J33 -> 12 | K34: M2
A36: 1.5 | B36: COMPOSIÇÃO | C36: ADMINISTRAÇÃO LOCAL | K36: =K40 -> 0 | L36: =H39 -> 12565.344 | N36: =VLOOKUP(B36,#REF!,2,FALSE) -> #REF! | O36: =L36*N36 -> #REF!
C38: Mão de Obra | E38: QTD | H38: Unitário
C39: ='IV - Adm'!F21 -> 1256534.4 | D39: / | E39: 100 | F39: % | H39: =C39/E39 -> 12565.344 | K39: = | L39: ='VII - Orçamento'!G17/'VII - Orçamento'!G125 -> 0.029098566
A41: 1.6 | B41: 01.050.0093-A | C41: =VLOOKUP(B41,#REF!,2,1) -> #REF! | K41: =K45 -> M2 | L41: =J45 -> 38400 | N41: =VLOOKUP(B41,#REF!,2,FALSE) -> #REF! | O41: =L41*N41 -> #REF!
C43: Extensão | E43: Largura
C44: 3200 | D44: X | E44: 12 | I44: = | J44: =C44*E44 -> 38400
J45: =J44 -> 38400 | K45: M2
A47: 1.7 | B47: 01.050.0190-A | C47: =VLOOKUP(B47,#REF!,2,1) -> #REF! | K47: =K50 -> .HA | L47: =J50 -> 4.48 | N47: =VLOOKUP(B47,#REF!,2,FALSE) -> #REF! | O47: =L47*N47 -> #REF!
C49: Extensão (m) | E49: Larg. (m) | H49: Área (m²) | J49: Área (ha)
C50: 3200 | D50: X | E50: 14 | G50: X | H50: =C50*E50 -> 44800 | I50: = | J50: =TRUNC(H50/10000,2) -> 4.48 | K50: .HA
A52: 1.8 | B52: 02.006.0050-A | C52: =VLOOKUP(B52,#REF!,2,1) -> #REF! | K52: UNXMES | L52: =L56 -> 32 | N52: =VLOOKUP(B52,#REF!,2,FALSE) -> #REF! | O52: =L52*N52 -> #REF!
C55: Quantidade | E55: Frentes trabalho | H55: Tempo de Obra / Meses
...

Sheet V - Físico-Financeiro
B2: ESTADO DO RIO DE JANEIRO
B3: PREFEITURA MUNICIPAL DE SÃO GONÇALO
B4: SECRETARIA MUNICIPAL DE DESENVOLVIMENTO URBANO
A5: ANEXO V - CRONOGRAMA FÍSICO-FINANCEIRO
A6: SERVIÇO DE COMPLEMENTAÇÃO DA INFRAESTRUTURA INCLUINDO PAVIMENTAÇÃO E DRENAGEM EM DIVERSAS RUAS NOS BAIRROS PACHECO E SACRAMENTO NO MUNICÍPIO DE SÃO GONÇALO
A9: METAS | C9: VALOR PREVISTO (R$) | D9: ETAPAS
D10: Etapa | E10: Etapa | F10: Etapa | G10: Etapa | H10: Etapa | I10: Etapa | J10: Etapa | K10: Etapa | L10: Etapa | M10: Etapa | N10: Etapa | O10: Etapa
A11: ITENS DE OBRAS / SERVIÇOS | D11: 1 | E11: 2 | F11: 3 | G11: 4 | H11: 5 | I11: 6 | J11: 7 | K11: 8 | L11: 9 | M11: 10 | N11: 11 | O11: 12
A13: 1 - SERVIÇOS DE ESCRITORIO LABORATORIO E CAMPO | B13: % | C13: 1 | D13: 0.1 | E13: 0.1 | F13: 0.1 | G13: 0.1 | H13: 0.1 | I13: 0.1 | J13: 0.1 | K13: 0.1 | L13: 0.05 | M13: 0.05 | N13: 0.05 | O13: 0.05
B14: valor R$ | C14: 3053849.6 | D14: 305384.96 | E14: 305384.96 | F14: 305384.96 | G14: 305384.96 | H14: 305384.96 | I14: 305384.96 | J14: 305384.96 | K14: 305384.96 | L14: 152692.48 | M14: 152692.48 | N14: 152692.49 | O14: 152692.48
A15: 2 - MESO E MICRO DRENAGEM PLUVIAL | B15: % | C15: 1 | D15: 0.1 | E15: 0.1 | F15: 0.1 | G15: 0.15 | H15: 0.15 | I15: 0.1 | J15: 0.1 | K15: 0.1 | L15: 0.05 | M15: 0.05
B16: valor R$ | C16: 11545205 | D16: 1154520.5 | E16: 1154520.5 | F16: 1154520.5 | G16: 1731780.7 | H16: 1731780.7 | I16: 1154520.5 | J16: 1154520.5 | K16: 1154520.5 | L16: 577260.25 | M16: 577260.25
A17: 3 - PAVIMENTAÇÃO | B17: % | C17: 1 | E17: 0.1 | F17: 0.1 | G17: 0.1 | H17: 0.1 | I17: 0.1 | J17: 0.1 | K17: 0.1 | L17: 0.1 | M17: 0.1 | N17: 0.1
B18: Valor R$ | C18: 20007592 | E18: 2000759.2 | F18: 2000759.2 | G18: 2000759.2 | H18: 2000759.2 | I18: 2000759.2 | J18: 2000759.2 | K18: 2000759.2 | L18: 2000759.2 | M18: 2000759.2 | N18: 2000759.2
A19: 4 -SINALIZAÇÃO | B19: % | C19: 1 | I19: 0.1 | J19: 0.2 | K19: 0.2 | L19: 0.2 | M19: 0.1 | N19: 0.1 | O19: 0.1
B20: Valor R$ | C20: 1169367.6 | I20: 116936.76 | J20: 233873.52 | K20: 233873.52 | L20: 233873.52 | M20: 116936.76 | N20: 116936.76 | O20: 116936.76
A21: 5 - ADMINISTRAÇÃO LOCAL | B21: % | C21: 1 | D21: 0.083333333 | E21: 0.083333333 | F21: 0.083333333 | G21: 0.083333333 | H21: 0.083333333 | I21: 0.083333333 | J21: 0.083333333 | K21: 0.083333333 | L21: 0.083333333 | M21: 0.083333333 | N21: 0.083333333 | O21: 0.083333333
B22: Valor R$ | C22: 1256534.4 | D22: 104711.2 | E22: 104711.2 | F22: 104711.2 | G22: 104711.2 | H22: 104711.2 | I22: 104711.2 | J22: 104711.2 | K22: 104711.2 | L22: 104711.2 | M22: 104711.2 | N22: 104711.2 | O22: 104711.2
A24: BDI | B24: % | C24: 1 | D24: 0.04224977 | E24: 0.096276816 | F24: 0.096276816 | G24: 0.11186473 | H24: 0.11186473 | I24: 0.099434491 | J24: 0.10259217 | K24: 0.10259217 | L24: 0.082881054 | M24: 0.079723378 | N24: 0.064135463 | O24: 0.010108417
B25: valor R$ | C25: 10580199 | D25: 447010.98 | E25: 1018627.9 | F25: 1018627.9 | G25: 1183551.1 | H25: 1183551.1 | I25: 1052036.7 | J25: 1085445.5 | K25: 1085445.5 | L25: 876898.05 | M25: 843489.21 | N25: 678565.96 | O25: 106949.06
B26: Valor R$ | C26: TOTAL MENSAL | D26: 2011627.6 | E26: 4584003.7 | F26: 4584003.7 | G26: 5326187.2 | H26: 5326187.2 | I26: 4734349.3 | J26: 4884694.9 | K26: 4884694.9 | L26: 3946194.7 | M26: 3795849.1 | N26: 3053665.6 | O26: 481289.51
A27: TOTAL ACUMULADO | B27: Valor R$ | C27: 47612747 | D27: 2011627.6 | E27: 6595631.3 | F27: 11179635 | G27: 16505822 | H27: 21832009 | I27: 26566359 | J27: 31451054 | K27: 36335749 | L27: 40281943 | M27: 44077792 | N27: 47131458 | O27: 47612747
A30: PERCENTUAL | D30: 0.04224977 | E30: 0.096276816 | F30: 0.096276816 | G30: 0.11186473 | H30: 0.11186473 | I30: 0.099434491 | J30: 0.10259217 | K30: 0.10259217 | L30: 0.082881054 | M30: 0.079723378 | N30: 0.064135463 | O30: 0.010108417
A31: PERCENTUAL ACUMULADO | D31: 0.04224977 | E31: 0.13852659 | F31: 0.2348034 | G31: 0.34666813 | H31: 0.45853286 | I31: 0.55796736 | J31: 0.66055952 | K31: 0.76315169 | L31: 0.84603274 | M31: 0.92575612 | N31: 0.98989158 | O31: 1

Sheet XIII - DEsembolso
C1: ESTADO DO RIO DE JANEIRO
C2: PREFEITURA MUNICIPAL DE SÃO GONÇALO
C3: SECRETARIA MUNICIPAL DE DESENVOLVIMENTO URBANO
C5: LICITAÇÃO NA MODALIDADE CONCORRÊNCIA PÚBLICA Nº 2022
B8: ANEXO XIII - CRONOGRAMA DE DESEMBOLSO MÁXIMO FINANCEIRO
A12: SERVIÇO DE COMPLEMENTAÇÃO DA INFRAESTRUTURA INCLUINDO PAVIMENTAÇÃO E DRENAGEM EM DIVERSAS RUAS NOS BAIRROS PACHECO E SACRAMENTO NO MUNICÍPIO DE SÃO GONÇALO
D15: PERCENTUAL | F15: VALOR CORRESPONDENTE
C16: ETAPAS | D16: ( % ) | F16: (R$)
D17: Parcial | E17: Acum. | F17: Parcial | G17: Acum.
C18: 1º | D18: 0.04224977 | E18: 0.04224977 | F18: 2011627.6 | G18: 2011627.6
C19: 2º | D19: 0.096276816 | E19: 0.13852659 | F19: 4584003.7 | G19: 6595631.3
C20: 3º | D20: 0.096276816 | E20: 0.2348034 | F20: 4584003.7 | G20: 11179635
C21: 4º | D21: 0.11186473 | E21: 0.34666813 | F21: 5326187.2 | G21: 16505822
C22: 5º | D22: 0.11186473 | E22: 0.45853286 | F22: 5326187.2 | G22: 21832009
C23: 6º | D23: 0.099434491 | E23: 0.55796736 | F23: 4734349.3 | G23: 26566359
C24: 7º | D24: 0.10259217 | E24: 0.66055952 | F24: 4884694.9 | G24: 31451054
C25: 8º | D25: 0.10259217 | E25: 0.76315169 | F25: 4884694.9 | G25: 36335749
C26: 9º | D26: 0.082881054 | E26: 0.84603274 | F26: 3946194.7 | G26: 40281943
C27: 10º | D27: 0.079723378 | E27: 0.92575612 | F27: 3795849.1 | G27: 44077792
C28: 11º | D28: 0.064135463 | E28: 0.98989158 | F28: 3053665.6 | G28: 47131458
C29: 12º | D29: 0.010108417 | E29: 1 | F29: 481289.51 | G29: 47612747

Sheet IV - Adm
A1: ORÇAMENTO: | B1: SERVIÇO DE COMPLEMENTAÇÃO DA INFRAESTRUTURA INCLUINDO PAVIMENTAÇÃO E DRENAGEM EM DIVERSAS RUAS NOS BAIRROS PACHECO E SACRAMENTO NO MUNICÍPIO DE SÃO GONÇALO
A2: MUNICÍPIO: | B2: SÃO GONÇALO
A3: LOCALIDADE: | B3: PACHECO E SACRAMENTO
A4: CÓDIGO
A5: ITEM: | E5: I0= 12/2021
E6: Unid: %
A7: ANEXO IV - ADMINISTRAÇÃO LOCAL DO CANTEIRO DE OBRAS: MÃO DE OBRA DA ADMINISTRAÇÃO LOCAL INCLUSIVE ACOMPANHAMENTO
A10: Elementos | B10: Código | C10: PreçoR$ | D10: Quant. | E10: Unidade | F10: Total
C11: Unitário
A12: Engenheiro ou arquiteto senior | B12: 05.105.0131-A | C12: 28636.96 | D12: 12 | E12: mês | F12: 343643.52
A13: Mestre de obras | B13: 05.105.0128-A | C13: 7972.8 | D13: 12 | E13: mês | F13: 95673.6
A14: Encarregado | B14: 05.105.0127-A | C14: 5804.48 | D14: 60 | E14: mês | F14: 348268.8
A15: Vigia | B15: 05.105.0100-A | C15: 2659.36 | D15: 24 | E15: mês | F15: 63824.64
A16: Almoxarife | B16: 05.105.0122-A | C16: 4127.2 | D16: 12 | E16: mês | F16: 49526.4
A17: Apontador | B17: 05.105.0121-A | C17: 4127.2 | D17: 60 | E17: mês | F17: 247632
A18: Tecnico de Edificações | B18: 05.105.0144-A | C18: 5804.48 | D18: 12 | E18: mês | F18: 69653.76
A19: Auxiliar de escritório | B19: 05.105.0139-A | C19: 3192.64 | D19: 12 | E19: mês | F19: 38311.68
F21: 1256534.4
A24: SOMATÓRIO DA MÃO DE OBRA | B24: = | C24: 1256534.4 | D24: / | E24: 100 | F24: = | G24: 12565.344

Sheet XIV - BDI
B1: OBRAS DE PAVIMENTAÇÃO E DRENAGEM
B4: ANEXO XIV - BDI (DESONERADO)
B6: ITEM | C6: DESCRIÇÃO | F6: % adotado
B7: 1. | C7: CUSTOS INDIRETOS | F7: 6.3
B8: 1.1 | C8: Admistração Central | E8: AC | F8: 4
B9: 1.2 | C9: Despesas Financeiras | E9: DF | F9: 0.8
B10: 1.3 | C10: Garantias e Seguros | E10: R | F10: 1
B11: 1.4 | C11: Riscos | E11: R | F11: 0.5
B12: 2. | C12: TRIBUTOS | E12: I | F12: 13.15
B13: 2.1 | C13: Cofins | E13: I | F13: 3
B14: 2.2 | C14: Pis/Pasep | E14: I | F14: 0.65
B15: 2.3 | C15: ISS | E15: I | F15: 5
B16: 2.4 | C16: INSS | E16: I | F16: 4.5
B17: 3. | C17: LUCRO | E17: L | F17: 5
B18: 3.1 | C18: Lucro Bruto | F18: 5
C20: BDI = [{ | D20: (1+(AC+R)/100) | E20: (1+DF/100) | F20: (1+L/100) | G20: } -1 x100
E21: [ 1- (I/100)]
C24: BDI ={ | D24: 1.055 | E24: 1.008 | F24: 1.05 | G24: } -1 x100
E25: 0.8685
C27: BDI ={ | D27: 1.1166 | E27: } - 1 x 100
D28: 0.8685
C30: BDI ={ | D30: 1.2856649 | E30: } - 1 x 100
C32: BDI ={ | D32: 0.28566494 | E32: } x 100
C34: BDI = | D34: 0.2857
