Workbook
Name Restituição: '[1]CATALOGO 13ª ED.'!#REF!

Sheet Anexo II PB-Pl. de Custo Geral
A1: ANEXO II DO PROJETO BÁSICO
A2: Planilha Orçamentária Geral do Serviço de Gestão do Sistema de Iluminação Pública
A3: Item | B3: Código/ref. | C3: Descrição | D3: Unidade | E3: Quantidade | F3: Preço Unitário | G3: Total Geral | H3: Preço Unitário c/ BDI 23,38% | I3: Total Geral com BDI
A4: 1 - Administração Local
A5: 1.1 | B5: 05.100.0900-A | C5: Unidade de referência p/complemento da adm. Local, considerando: consumo de água, telefone, energia elétrica, mat. De limpeza e de escritório, computadores, licença de software, móveis e utensílios. | D5: UR | E5: 5934.0475 | F5: =VLOOKUP(B5,EMOP0522!A:B,2) -> 31.48 | G5: =F5*E5 -> 186803.82 | H5: =F5*1.2338 -> 38.840024 | I5: =H5*E5 -> 230478.55
A6: Total Serviços Preliminares | I6: =SUM(I5:I5) -> 230478.55
A7: 2 - Serviços de Reparos de Falhas Internas - Manutenção do Sistema de Iluminação
A8: Item | B8: Código/ref. | C8: Descrição | D8: Unidade | E8: Quantidade | F8: Preço Unitário c/ BDI | G8: Total Geral | I8: Total Geral com BDI
A9: 2.1 | B9: COMPOSIÇÃO anexo II.A | C9: Custo geral com reparos internos (manutenção) sistema de iluminação pública no período de 30 (trinta) dias | D9: MÊS | E9: 12 | F9: ='Anexo II-A-Comp. Manutenção'!I71 -> 582520.14 | G9: =F9*E9 -> 6990241.7 | I9: ='Anexo II-A-Comp. Manutenção'!I70 -> 6990241.7
A10: Total Serviços de Reparo Falhas Internas - Manutenção do Sistema de Iluminação | I10: =I9 -> 6990241.7
A11: 3 - Serviços de Reparos de Falhas Externas - Melhoria e Expansão do Sistema
A12: 3.1 - Insumos
A13: Item | B13: Código/ref. | C13: Descrição | D13: Unidade | E13: Quantidade | F13: Preço Unitário | G13: Total Geral | H13: Preço Unitário c/ BDI 12,64% | I13: Total Geral com BDI
A14: 3.1.1 | B14: IP49.05.0500 | C14: Luminaria a led, corpo em aluminio injetado/extrudado, para instalacao em ponta de braco/nucleo, potencia maxima de 60 W, fluxo minimo 9000 lm, temperatura de cor 5800/6500 K, IP 66, IK 08, resistente a UV, tensao de 100/240 V, eficiencia minima 150 lm/W, IRC maior ou igual a 70, temperatura de operacao de -20/75o C, preparada para telegestão. Fornecimento. | D14: Unidade | E14: 13733 | F14: 1093.87 | G14: =F14*E14 -> 15022117 | H14: =F14*1.1264 -> 1232.1352 | I14: =H14*E14 -> 16920912
A15: 3.1.2 | B15: IP49.05.0550 | C15: Luminaria a led, corpo em aluminio injetado/extrudado, para instalacao em ponta de braco/nucleo, potencia maxima de 100 W, fluxo minimo 15000 lm, temperatura de cor 5800/6500 K, IP 66, IK 08, resistente a UV, tensao de 100/240 V, eficiencia minima 90,6 lm/W, IRC maior ou igual a 70, temperatura de operacao de -20/75o C. Preparada para telegestão. Fornecimento | D15: UN | E15: 5686 | F15: 1673.94 | G15: =E15*F15 -> 9518022.8 | H15: =F15*1.1264 -> 1885.526 | I15: =H15*E15 -> 10721101
A16: 3.1.3 | B16: IP49.05.0600 | C16: Luminaria a led, corpo em aluminio injetado/extrudado, para instalacao em ponta de braco/nucleo, potencia maxima de 150 W, fluxo minimo 22500 lm, temperatura de cor 5800/6500K, IP 66, IK 08, resistente a UV, tensao de 100/240 V, eficiencia minima 150 lm/W, IRC maior ou igual a 70, temperatura de operacao de -20/75o C, preparada para telegestão. Fornecimento | D16: UN | E16: 2068 | F16: 1580.23 | G16: =F16*E16 -> 3267915.6 | H16: =F16*1.1264 -> 1779.9711 | I16: =H16*E16 -> 3680980.2
A17: 3.1.4 | B17: 13505/orse | C17: Refletor modular LED DC com DPS 2 x 50w de potência, alumínio, 5000k, 150LM/W, Autovolt, branca, ref.: RFMLED-DC-DPS-150-100-50-3C-ME, da marca G-light ou similar | D17: UN | E17: 200 | F17: 1509.54 | G17: =F17*E17 -> 301908 | H17: =F17*1.1264 -> 1700.3459 | I17: =H17*E17 -> 340069.17
A18: 3.1.5 | B18: IP04.50.0506 | C18: Braco curvo, em aco de baixo teor de carbono SAE 1010/1020 galvanizado a fusao, interna e externamente por imersao unica em banho de zinco, conforme NBR-7398 e 7400 da ABNT, com 1,77m de projecao horizontal, diametro externo de 48mm. Fornecimento. | D18: UN | E18: 13733 | F18: 340.67 | G18: =F18*E18 -> 4678421.1 | H18: =F18*1.1264 -> 383.73069 | I18: =H18*E18 -> 5269773.5
A19: 3.1.6 | B19: IP04.50.0562 | C19: Braco de aco galvanizado, curvo, com 2,5m de projecao horizontal e diametro externo de 48mm. Fornecimento | D19: UN | E19: 5686 | F19: 414.57 | G19: =F19*E19 -> 2357245 | H19: =F19*1.1264 -> 466.97165 | I19: =H19*E19 -> 2655200.8
A20: 3.1.7 | B20: IP04.50.0600 | C20: Braco curvo, em aco de baixo teor de carbono SAE 1010/1020 galvanizado a fusao, interna e externamente por imersao unica em banho de zinco, conforme NBR-7398 e 7400 da ABNT, com 3,50m de projecao horizontal, diametro externo de 60,3mm, conforme desenho A4-1153-PD e especificacao EM-RIOLUZ n.o 17. Fornecimento. | D20: UN | E20: 2068 | F20: 674.18 | G20: =F20*E20 -> 1394204.2 | H20: =F20*1.1264 -> 759.39635 | I20: =H20*E20 -> 1570431.7
A21: 3.1.8 | B21: MAT091556 | C21: Nucleo simples para luminarias em aco de baixo teor de carbono SAE 1010/1020, nucleo diametro interno de 68mm, bracos com diametro externo de 48mm, comprimento de 140mm. Fornecimento. | D21: UN | E21: 110 | F21: 134.39 | G21: =F21*E21 -> 14782.9 | H21: =F21*1.1264 -> 151.3769 | I21: =H21*E21 -> 16651.459
A22: 3.1.9 | B22: MAT091562 | C22: Nucleo duplo para luminarias em aco de baixo teor de carbono SAE 1010/1020, nucleo diametro interno de 68mm, bracos com diametro externo de 48mm, comprimento de 140mm. Fornecimento. | D22: UN | E22: 150 | F22: 188.99 | G22: =F22*E22 -> 28348.5 | H22: =F22*1.1264 -> 212.87834 | I22: =H22*E22 -> 31931.75
A23: 3.1.10 | B23: MAT091568 | C23: Nucleo triplo para luminarias em aco de baixo teor de carbono SAE 1010/1020, nucleo diametro interno de 68mm, bracos com diametro externo de 48mm, comprimento de 140mm. Fornecimento. | D23: UN | E23: 180 | F23: 251 | G23: =F23*E23 -> 45180 | H23: =F23*1.1264 -> 282.7264 | I23: =H23*E23 -> 50890.752
A24: 3.1.11 | B24: MAT039050 | C24: Conector tipo cunha, em liga de cobre estanhado, para a fixacao de condutores de aluminio ou cobre, por efeito de mola. FORNECIMENTO | D24: UN | E24: 42974 | F24: 5.6 | G24: =F24*E24 -> 240654.4 | H24: =F24*1.1264 -> 6.30784 | I24: =H24*E24 -> 271073.12
A25: 3.1.12 | B25: IP14.30.0106 | C25: Cabo de cobre flexivel, 750V, secao de 3x2,5mm2, PVC/70oC. Fornecimento | D25: M | E25: 75204 | F25: 6.48 | G25: =F25*E25 -> 487321.92 | H25: =F25*1.1264 -> 7.299072 | I25: =H25*E25 -> 548919.41
A26: 3.1.13 | B26: IP14.30.0300 | C26: Cabo De cobre flexível de 750V, seção 16mm², PVC/70°C. Fornecimento . | D26: M | E26: 11208 | F26: 10.69 | G26: =F26*E26 -> 119813.52 | H26: =F26*1.1264 -> 12.041216 | I26: =H26*E26 -> 134957.95
A27: 3.1.14 | B27: IP44.05.0275 | C27: Relé fotoeletrônico para iluminação pública, tipo FAIL-OFF, tensão de alimentação de 105V e 305V, potência da carga 1000W ou 1800VA, corrente máxima da carga 10A. Corpo em policarbonato na cor azul, estabilizado ao UV; pinos em latão estanhado. Fornecimento. | D27: UN | E27: 21487 | F27: 25.69 | G27: =F27*E27 -> 552001.03 | H27: =F27*1.1264 -> 28.937216 | I27: =H27*E27 -> 621773.96
... A38: 3.1.25 | B38: IP54.15.0150 | C38: Cruzeta no 2, de 2 pinos. Fornecimento. | D38: UN | E38: 100 | F38: 115 | G38: =F38*E38 -> 11500 | H38: =F38*1.1264 -> 129.536 | I38: =H38*E38 -> 12953.6
A39: Total Custo Insumos | I39: =SUM(I14:I38) -> 44202757
A40: 3.2 - Serviços
A41: Item | B41: Código/ref. | C41: Descrição | D41: Unidade | E41: Quantidade | F41: Preço Unitário | G41: Total Geral | H41: Preço Unitário c/ BDI 23,38% | I41: Total Geral com BDI
A42: 3.2.1 | B42: IP59.20.0350 | C42: Retirada de luminária em poste com 4,50m a 9m de altura. | D42: UN | E42: 21487 | F42: 7.05 | G42: =F42*E42 -> 151483.35 | H42: =F42*1.2338 -> 8.69829 | I42: =H42*E42 -> 186900.16
A43: 3.2.2 | B43: IP04.55.0150 | C43: Colocação de braço de 1,5m até 2,5m dre projeção horizontal, em poste de aço ou concreto, com fornecimento de ferragens de fixação, exclusive fornecimento do Braço. | D43: UN | E43: 19419 | F43: 321.72 | G43: =F43*E43 -> 6247480.7 | H43: =F43*1.2338 -> 396.93814 | I43: =H43*E43 -> 7708141.7
A44: 3.2.3 | B44: IP04.55.0200 | C44: Colocacao de braco, padrao RIOLUZ, de 2,6m ate 3,50m de projecao horizontal, em poste reto de aco ou concreto, com fornecimento das ferragens de fixacao; exclusive fornecimento do braco. | D44: UN | E44: 2068 | F44: 349.88 | G44: =F44*E44 -> 723551.84 | H44: =F44*1.2338 -> 431.68194 | I44: =H44*E44 -> 892718.26
A45: 3.2.4 | B45: IP09.20.0050 | C45: Nucleo para fixacao de luminaria, tipo Petala, em poste reto (aco ou concreto) de até 15m, exclusive luminaria e nucleo. Colocacao | D45: UN | E45: 440 | F45: 84.48 | G45: =F45*E45 -> 37171.2 | H45: =F45*1.2338 -> 104.23142 | I45: =H45*E45 -> 45861.827
A46: 3.2.5 | B46: IP49.35.0100 | C46: Colocação de luminária, em cordoalha, exclusive luminária e fornecimento da cordalha. | D46: UN | E46: 21487 | F46: 112.64 | G46: =F46*E46 -> 2420295.7 | H46: =F46*1.2338 -> 138.97523 | I46: =H46*E46 -> 2986160.8
A47: 3.2.6 | B47: IP44.10.0050 | C47: Colocação de rele fotoeletrico individual, exclusive fornecimento do rele e base. | D47: UN | E47: 21487 | F47: 22.55 | G47: =F47*E47 -> 484531.85 | H47: =F47*1.2338 -> 27.82219 | I47: =H47*E47 -> 597815.4
A48: 3.2.7 | B48: IP04.25.0200 | C48: Poste de aço, reto, ou de composto de poliester reforçado com fibra de vidro - PRFV, seção única, reto, ambos de 7,00 até 12,00m, com engastamento da parte inferior da coluna diretamente no solo; exclusive fornecimento do poste. Assentamento. | D48: UN | E48: 373 | F48: 304.16 | G48: =F48*E48 -> 113451.68 | H48: =F48*1.2338 -> 375.27261 | I48: =H48*E48 -> 139976.68
A49: 3.2.8 | B49: IT24.99.0250 | C49: Instalação de cabo em eletroduto com diametrode 1" até 3", exclusive fornecimento e cabos. | D49: M | E49: 11208 | F49: 7.07 | G49: =F49*E49 -> 79240.56 | H49: =F49*1.2338 -> 8.722966 | I49: =H49*E49 -> 97767.003
A50: 3.2.9 | B50: IP35.20.0203 | C50: Colocacao de equipamentos de comando de circuito, padrao RIOLUZ, com fornecimento de ferragens de fixacao; exclusive o fornecimento do comando. | D50: UN | E50: 35 | F50: 273.96 | G50: =F50*E50 -> 9588.6 | H50: =F50*1.2338 -> 338.01185 | I50: =H50*E50 -> 11830.415
...

Sheet Anexo II-A-Comp. Manutenção
A1: ANEXO II-A - COMPOSIÇÃO DE MANUTENÇÃO
A2: Planilha Orçamentária Geral do Serviço de Gestão do Sistema de Iluminação Pública I0=05-2022
A3: 1 - Custo com Insumos
A4: Item | B4: Código/Ref. | C4: Descrição | D4: Unidade | E4: Quantidade | F4: Preço Unitário | G4: Total Geral | H4: Preço Unitário c/ BDI 12,64% | I4: Total Geral com BDI
A5: 1.1 | B5: IP49.25.0806 | C5: Lampada a vapor de sodio, alta pressao, potencia de 70W, base E-27, bulbo ovoide, difuso, corrente 1,0A, tensao 90V, pulso de acendimento 2,5 a 4kv, fluxo luminoso nominal >=5600 lm, temperatura de cor >= 1900o K, vida media >= 16000hs, posicao de funcionamento universal a NBR - 662 e EM-RIOLUZ no 57. Fornecimento. | D5: Unid. | E5: 459 | F5: 31.8 | G5: =E5*F5 -> 14596.2 | H5: =F5*1.1264 -> 35.81952 | I5: =H5*E5 -> 16441.16
A6: 1.2 | B6: IP49.25.0809 | C6: Lampada a vapor de sodio, alta pressao, potencia de 100W, base E-40, bulbo ovoide, difuso, corrente 1,2A, tensao 100V, pulso de acendimento 2,8 a 4,5kv, fluxo luminoso nominal >=9000 lm, temperatura de cor >= 2000o K, vida media >= 24000hs, posicao de funcionamento universal a NBR - 662 e EM-RIOLUZ no 57. Fornecimento.(desonerado) | D6: Unid. | E6: 116 | F6: 34.3 | G6: =E6*F6 -> 3978.8 | H6: =F6*1.1264 -> 38.63552 | I6: =H6*E6 -> 4481.7203
A7: 1.3 | B7: IP49.25.0850 | C7: Lampada a vapor de sodio, alta pressao, potencia de 150W, base E-40, bulbo ovoide, difuso, corrente 1,8A, tensao 100V, pulso de acendimento 2,8 a 4,5kv, fluxo luminoso nominal >=14000 lm, temperatura de cor >= 1950o K, vida media >= 24000hs, posicao de funcionamento universal a NBR - 662 e EM-RIOLUZ no 57. Fornecimento. | D7: Unid. | E7: 5886 | F7: 57.24 | G7: =E7*F7 -> 336914.64 | H7: =F7*1.1264 -> 64.475136 | I7: =H7*E7 -> 379500.65
A8: 1.4 | B8: IP49.25.0900 | C8: Lampada a vapor de sodio, alta pressao, potencia de 250W, base E-40, bulbo ovoide, difuso, corrente 3A, tensao 100V, pulso de acendimento 2,8 a 4,5kv, fluxo luminoso nominal >=25000 lm, temperatura de cor >= 2000o K, vida media >= 24000hs, posicao de funcionamento universal a NBR - 662 e EM-RIOLUZ no 57. Fornecimento. | D8: Unid. | E8: 1044 | F8: 55.4 | G8: =E8*F8 -> 57837.6 | H8: =F8*1.1264 -> 62.40256 | I8: =H8*E8 -> 65148.273
A9: 1.5 | B9: IP49.25.1000 | C9: Lampada a vapor de sodio, alta pressao, potencia de 400W, base E-40, bulbo tubular, claro, corrente 4,6A, tensao 100V, pulso de acendimento 2,8 a 4,5kv, fluxo luminoso nominal >=47500 lm, temperatura de cor >= 1950o K, vida media >= 24000hs, posicao de funcionamento universal a NBR - 662 e EM-RIOLUZ no 57. Fornecimento. | D9: Unid. | E9: 157 | F9: 84.7 | G9: =E9*F9 -> 13297.9 | H9: =F9*1.1264 -> 95.40608 | I9: =H9*E9 -> 14978.755
A10: 1.6 | B10: IP49.25.0406 | C10: Lampada de multivapor metalico (MVM) de 70W/220V/E-27, clara 4000oK, bulbo ovoide. Fornecimento. | D10: Unid. | E10: 73 | F10: 192.49 | G10: =E10*F10 -> 14051.77 | H10: =F10*1.1264 -> 216.82074 | I10: =H10*E10 -> 15827.914
A11: 1.7 | B11: IP49.25.0412 | C11: Lampada de multivapor metalico (MVM) de 150W/220V/E-27. Fornecimento. | D11: Unid. | E11: 468 | F11: 287.02 | G11: =E11*F11 -> 134325.36 | H11: =F11*1.1264 -> 323.29933 | I11: =H11*E11 -> 151304.09
A12: 1.8 | B12: IP49.25.0418 | C12: Lampada de multivapor metalico (MVM) de 250/220V, bulbo ovoide. Fornecimento | D12: Unid. | E12: 284 | F12: 114.9 | G12: =E12*F12 -> 32631.6 | H12: =F12*1.1264 -> 129.42336 | I12: =H12*E12 -> 36756.234
A13: 1.9 | B13: IP49.25.0424 | C13: Lampada multivapor metalico (MVM) de 400W, bulbo tubular, tensao de ignicao maior ou igual a 3Kv e menor ou igual a 4,5Kv, temperatura de cor entre 4000 e 5000oK, posicao de funcionamento horizontal mais ou menos 20o ou qualquer. Fornecimento | D13: Unid. | E13: 242 | F13: 71.31 | G13: =E13*F13 -> 17257.02 | H13: =F13*1.1264 -> 80.323584 | I13: =H13*E13 -> 19438.307
A14: 1.10 | B14: 3755 | C14: Lâmpada mista de 160W, base E-27 | D14: Unid | E14: 124 | F14: 27.3 | G14: =E14*F14 -> 3385.2 | H14: =F14*1.1264 -> 30.75072 | I14: =H14*E14 -> 3813.0893
A15: 1.11 | B15: 3750 | C15: Lâmpada mista de 250W, base E-27 | D15: Unid. | E15: 440 | F15: 36.71 | G15: =E15*F15 -> 16152.4 | H15: =F15*1.1264 -> 41.350144 | I15: =H15*E15 -> 18194.063
A16: 1.12 | B16: 3756 | C16: Lâmpada mista de 500W, base E-40 | D16: Unid. | E16: 155 | F16: 68.6 | G16: =E16*F16 -> 10633 | H16: =F16*1.1264 -> 77.27104 | I16: =H16*E16 -> 11977.011
A17: 1.13 | B17: 38191 | C17: LAMPADA FLUORESCENTE COMPACTA 2U BRANCA 15 W, BASE E27 (127/220 V) | D17: Unid. | E17: 28 | F17: 15.13 | G17: =E17*F17 -> 423.64 | H17: =F17*1.1264 -> 17.042432 | I17: =H17*E17 -> 477.1881
A18: 1.14 | B18: 39381 | C18: LAMPADA FLUORESCENTE COMPACTA 2U/3U BRANCA 9/10 W, BASE E27 (127/220 V) | D18: Unid. | E18: 12 | F18: 15.93 | G18: =E18*F18 -> 191.16 | H18: =F18*1.1264 -> 17.943552 | I18: =H18*E18 -> 215.32262
A19: 1.15 | B19: 38780 | C19: LAMPADA FLUORESCENTE COMPACTA 3U BRANCA 20 W, BASE E27 (127/220 V) | D19: Unid. | E19: 266 | F19: 14.11 | G19: =E19*F19 -> 3753.26 | H19: =F19*1.1264 -> 15.893504 | I19: =H19*E19 -> 4227.6721
A20: 1.16 | B20: 38781 | C20: LAMPADA FLUORESCENTE ESPIRAL BRANCA 45 W, BASE E27 (127/220 V | D20: Unid. | E20: 182 | F20: 58.29 | G20: =E20*F20 -> 10608.78 | H20: =F20*1.1264 -> 65.657856 | I20: =H20*E20 -> 11949.73
A21: 1.17 | B21: 38194 | C21: LAMPADA LED 10 W BIVOLT BRANCA, FORMATO TRADICIONAL (BASE E27) | D21: Unid. | E21: 127 | F21: 8.9 | G21: =E21*F21 -> 1130.3 | H21: =F21*1.1264 -> 10.02496 | I21: =H21*E21 -> 1273.1699
A22: 1.18 | B22: 38193 | C22: LAMPADA LED 6 W BIVOLT BRANCA, FORMATO TRADICIONAL (BASE E27) | D22: Unid. | E22: 65 | F22: 7.73 | G22: =E22*F22 -> 502.45 | H22: =F22*1.1264 -> 8.707072 | I22: =H22*E22 -> 565.95968
A23: 1.19 | B23: IP49.30.0062 | C23: Reator aereo para lampada VS/MVM 70W, com ignitor pico de tensao 2,8 a 4Kv, fator de potencia minimo 0,92, tensao de alimentacao 220V, corrente na lampada 0,98A, tensao na lampada 90V. Fornecimento | D23: Unid | E23: 2513 | F23: 60.98 | G23: =E23*F23 -> 153242.74 | H23: =F23*1.1264 -> 68.687872 | I23: =H23*E23 -> 172612.62
A24: 1.20 | B24: 21.046.0020-A | C24: REATOR EXTERNO PARA LAMPADA VAPOR DE SODIO DE 100W,IGNITOR COM PICO DE TENSAO 2,8 A 4KV,FATOR DE POTENCIA MINIMO 0,92,TENSAO DE ALIMENTACAO 220V,EM-RIOLUZ-30,NBR-13593,IEC-60662.FORNECIMENTO | D24: Unid. | E24: 95 | F24: =VLOOKUP(B24,EMOP0522!A:B,2) -> 78.19 | G24: =E24*F24 -> 7428.05 | H24: =F24*1.1264 -> 88.073216 | I24: =H24*E24 -> 8366.9555
A25: 1.21 | B25: IP49.30.0153 | C25: Reator aereo para lampada VS/MVM 150W, com ignitor pico de tensao 2,8 a 4Kv, fator de potencia minimo 0,92, tensao de alimentacao 220V, corrente na lampada 1,8A, tensao na lampada 100V, NBR-13593/13594, IEC-662. Fornecimento. | D25: Unid. | E25: 4236 | F25: 81.95 | G25: =E25*F25 -> 347140.2 | H25: =F25*1.1264 -> 92.30848 | I25: =H25*E25 -> 391018.72
A26: 1.22 | B26: 21.046.0035-A | C26: REATOR EXTERNO PARA LAMPADA VAPOR DE SODIO DE 250W,IGNITOR COM PICO DE TENSAO 2,8 A 4KV,FATOR DE POTENCIA MINIMO 0,92,TENSAO DE ALIMENTACAO 220V,EM-RIOLUZ-30,NBR-13593,IEC-60662.FORNECIMENTO | D26: Unid. | E26: 900 | F26: =VLOOKUP(B26,EMOP0522!A:B,2) -> 118.45 | G26: =E26*F26 -> 106605 | H26: =F26*1.1264 -> 133.42208 | I26: =H26*E26 -> 120079.87
A27: 1.23 | B27: 21.046.0040-A | C27: REATOR EXTERNO PARA LAMPADA VAPOR DE SODIO DE 400W,IGNITOR COM PICO DE TENSAO 2,8 A 4KV,FATOR DE POTENCIA MINIMO 0,92,TENSAO DE ALIMENTACAO 220V,EM-RIOLUZ-30,NBR-13593,IEC-60662.FORNECIMENTO | D27: Unid. | E27: 248 | F27: =VLOOKUP(B27,EMOP0522!A:B,2) -> 91.67 | G27: =E27*F27 -> 22734.16 | H27: =F27*1.1264 -> 103.25709 | I27: =H27*E27 -> 25607.758
A28: 1.25 | B28: IP44.05.0275 | C28: Rele fotoeletronico para iluminacao publica, tipo FAIL-OFF, tensao de alimentacao de 105V e 305V, potencia da carga 1000W ou 1800VA, corrente maxima da carga 10A. Corpo em policarbonato na cor azul, estabilizado ao UV; pinos em latao estanhado, devendo atender a especificacao EM-RIOLUZ-66 e ANSI C136.10 e NBR 5126, no que couber. Fornecimento. | D28: Unid. | E28: 14222 | F28: 25.69 | G28: =E28*F28 -> 365363.18 | H28: =F28*1.1264 -> 28.937216 | I28: =H28*E28 -> 411545.09
A29: 1.26 | B29: IP44.05.0050 | C29: Base externa para rele fotoeletrico. Fornecimento. | D29: Unid. | E29: 2032 | F29: 13.49 | G29: =E29*F29 -> 27411.68 | H29: =F29*1.1264 -> 15.195136 | I29: =H29*E29 -> 30876.516
A30: 1.27 | B30: MAT039050 | C30: Conector tipo cunha, em liga de cobre estanhado, para a fixacao de condutores de aluminio ou cobre, por efeito de mola. FORNECIMENTO | D30: Unid | E30: 4063 | F30: 5.6 | G30: =E30*F30 -> 22752.8 | H30: =F30*1.1264 -> 6.30784 | I30: =H30*E30 -> 25628.754
A31: 1.28 | B31: IP09.30.0555 | C31: Conector perfurante para rede aerea, tensao de aplicacao: 0,6/1Kv, grau de protecao: IP-65, principal: 6mm2 - 185mm2 e derivacao: 1,5mm2 - 6mm2 | D31: unid | E31: 2120 | F31: 19.3 | G31: =E31*F31 -> 40916 | H31: =F31*1.1264 -> 21.73952 | I31: =H31*E31 -> 46087.782
A32: 1.29 | B32: IP54.05.0050 | C32: Fita isolante auto-fusao, de 19mmx10m. Fornecimento. | D32: Unid | E32: 2031 | F32: 21.66 | G32: =E32*F32 -> 43991.46 | H32: =F32*1.1264 -> 24.397824 | I32: =H32*E32 -> 49551.981
A33: 1.30 | B33: MAT117500 | C33: Receptaculo de porcelana para lampada, Lorenzetti ou similar | D33: unid | E33: 1422 | F33: 2.04 | G33: =E33*F33 -> 2900.88 | H33: =F33*1.1264 -> 2.297856 | I33: =H33*E33 -> 3267.5512
A34: 1.31 | B34: IP14.30.0106 | C34: Cabo de cobre flexivel, 750V, secao de 3x2,5mm2, PVC/70oC. Fornecimento | D34: Metro | E34: 6772 | F34: 6.48 | G34: =E34*F34 -> 43882.56 | H34: =F34*1.1264 -> 7.299072 | I34: =H34*E34 -> 49429.316
A35: 1.32 | B35: IP14.30.0300 | C35: Cabo de cobre flexivel, 750V/70o, secao de 16mm2. Fornecimento. | D35: Metro | E35: 3385 | F35: 10.69 | G35: =E35*F35 -> 36185.65 | H35: =F35*1.1264 -> 12.041216 | I35: =H35*E35 -> 40759.516
A36: 1.33 | B36: MAT114850 | C36: Quadro de distribuicao de energia, de embutir, com porta, fabricado em PVC ou chapa esmaltada, sem previsao para geral, para 03 posicoes monofasicas, barra de neutro e terra, tensao de 220/127V | D36: Unidade | E36: 10 | F36: 18.56 | G36: =E36*F36 -> 185.6 | H36: =F36*1.1264 -> 20.905984 | I36: =H36*E36 -> 209.05984
A37: 1.34 | B37: IP40.15.0106 | C37: Disjuntor termomagnetico, bipolar de 20A. Fornecimento. | D37: Unidade | E37: 10 | F37: 67.44 | G37: =E37*F37 -> 674.4 | H37: =F37*1.1264 -> 75.964416 | I37: =H37*E37 -> 759.64416
A38: 1.35 | B38: IP40.15.0212 | C38: Disjuntor termomagnetico, tripolar de 40A. Fornecimento. | D38: Unidade | E38: 10 | F38: 72.41 | G38: =E38*F38 -> 724.1 | H38: =F38*1.1264 -> 81.562624 | I38: =H38*E38 -> 815.62624
A39: 1.36 | B39: IP40.15.0250 | C39: Disjuntor termomagnetico, tripolar de 100A. Fornecimento. | D39: Unidade | E39: 5 | F39: 224 | G39: =E39*F39 -> 1120 | H39: =F39*1.1264 -> 252.3136 | I39: =H39*E39 -> 1261.568
... A44: 1.41 | B44: MAT006450 | C44: Armacao Secundaria ou Rex para 3 linhas | D44: Unidade | E44: 10 | F44: 90.32 | G44: =E44*F44 -> 903.2 | H44: =F44*1.1264 -> 101.73645 | I44: =H44*E44 -> 1017.3645
...

Sheet Anexo II-B - Adm Local
A1: ANEXO II-B - ADMINISTRAÇÃO LOCAL
A2: Administração Local
A3: 2 - Custo com Mão de Obra
A4: Equipe operacional administrativa
A5: Item | B5: Código/Ref. | C5: Descrição | D5: Unidade | E5: Quantidade | F5: Preço Unitário | G5: Total Geral | H5: ' | I5: Total Geral com BDI
A6: 2.1 | B6: 01.050.0714-A | C6: Mão de obra de engenheiro junior | D6: mês | E6: 12 | F6: =VLOOKUP(B6,EMOP0522!A:B,2) -> 17631.68 | G6: =E6*F6 -> 211580.16 | H6: =F6*1.2338 -> 21753.967 | I6: =H6*E6 -> 261047.6
A7: 2.2 | B7: 01.050.0712-A | C7: Mão de obra de secretária (atendente) | D7: mês | E7: 24 | F7: =VLOOKUP(B7,EMOP0522!A:B,2) -> 5994.56 | G7: =F7*E7 -> 143869.44 | H7: =F7*1.2338 -> 7396.0881 | I7: =H7*E7 -> 177506.12
A8: 2.3 | B8: 05.105.0122-A | C8: Mão de obra de almoxarife | D8: mês | E8: 12 | F8: =VLOOKUP(B8,EMOP0522!A:B,2) -> 4375.36 | G8: =F8*E8 -> 52504.32 | H8: =F8*1.2338 -> 5398.3192 | I8: =H8*E8 -> 64779.83
A9: 2.4 | B9: 01.050.0729-A | C9: Mão de obra de analista de sistema junior | D9: mês | E9: 12 | F9: =VLOOKUP(B9,EMOP0522!A:B,2) -> 9873.6 | G9: =F9*E9 -> 118483.2 | H9: =F9*1.2338 -> 12182.048 | I9: =H9*E9 -> 146184.57
A10: Custo total Anual com Mão de Obra - Equipe Operacional Administrativa | I10: =SUM(I6:I9) -> 649518.12
A11: Equipe Operacional de Campo
A12: Item | B12: Código/Ref. | C12: Descrição | D12: Unidade | E12: Quantidade | F12: Preço Unitário | G12: Total Geral | H12: Preço Unitário c/ BDI 23,38% | I12: Total Geral com BDI
A13: 2.5 | B13: 05.105.0126-A | C13: Mão de obra de encarregado de turma. | D13: mês | E13: 24 | F13: =VLOOKUP(B13,EMOP0522!A:B,2) -> 5111.04 | G13: =F13*E13 -> 122664.96 | H13: =F13*1.2338 -> 6306.0012 | I13: =H13*E13 -> 151344.03
A14: 2.6 | B14: 05.105.0112-A | C14: Mão de obra de eletricista. | D14: mês | E14: 144 | F14: =VLOOKUP(B14,EMOP0522!A:B,2) -> 3696 | G14: =F14*E14 -> 532224 | H14: =F14*1.2338 -> 4560.1248 | I14: =H14*E14 -> 656657.97
A15: 2.7 | B15: 05.105.0115-A | C15: Mão de obra de ajudante montador | D15: mês | E15: 24 | F15: =VLOOKUP(B15,EMOP0522!A:B,2) -> 2675.2 | G15: =F15*E15 -> 64204.8 | H15: =F15*1.2338 -> 3300.6618 | I15: =H15*E15 -> 79215.882
A16: 2.8 | B16: 05.105.0148-A | C16: Mão de obra de motorista (categoria C) | D16: mês | E16: 60 | F16: =VLOOKUP(B16,EMOP0522!A:B,2) -> 3696 | G16: =F16*E16 -> 221760 | H16: =F16*1.2338 -> 4560.1248 | I16: =H16*E16 -> 273607.49
A17: Custo total Anual com Mão de Obra - Equipe Operacional Administrativa | I17: =SUM(I13:I16) -> 1160825.4
A18: 3 - Custo com Equipamentos
A19: Item | B19: Código/Ref. | C19: Descrição | D19: Unidade | E19: Quantidade | F19: Preço Unitário | G19: Total Geral | H19: Preço Unitário c/ BDI 23,38% | I19: Total Geral com BDI
A20: 3.1 | B20: EQ04.10.0020 | C20: Caminhao carroceria fixa, capacidade de 3,50 t, equipado com cesto aereo, isolado para 69 Kv, altura de operacao de 9,00m, giro de 360o, alcance lateral operacional minimo de 5m, dotado de sistema de seguranca e emergencia acoplado a carroceria do caminhao, com motorista operador, materiais de operacao e manutencao, sinalizador visual rotativo amarelo ou ambar. Custo horario produtivo. | D20: hora | E20: 7728 | F20: 147.68 | G20: =F20*E20 -> 1141271 | H20: =F20*1.2338 -> 182.20758 | I20: =H20*E20 -> 1408100.2
A21: 3.2 | B21: EQ04.10.0023 | C21: Caminhao carroceria fixa, capacidade de 3,50 t, equipado com cesto aereo, isolado para 69 Kv, altura de operacao de 9,00m, giro de 360o, alcance lateral operacional minimo de 5m, dotado de sistema de seguranca e emergencia acoplado a carroceria do caminhao, com motorista operador, materiais de operacao e manutencao, sinalizador visual rotativo amarelo ou ambar. Custo horario improdutivo | D21: hora | E21: 7728 | F21: 85.44 | G21: =F21*E21 -> 660280.32 | H21: =F21*1.2338 -> 105.41587 | I21: =H21*E21 -> 814653.86
A22: 3.3 | B22: EQ04.10.0035 | C22: Caminhao carroceria fixa, capacidade de 7,50 t, com motor diesel de 162 cv, equipado com Plataforma aerea dupla ou cesto duplo, isolados para 69 Kv, altura de operacao de até 23,50m, giro de 360o, alcance lateral operacional minimo de 11m, dotado de sistema de seguranca e emergencia acoplado a carroceria do caminhao, com motorista operador, materiais de operacao e manutencao, sinalizador visual rotativo amarelo ou ambar. Custo horario produtivo | D22: hora | E22: 1104 | F22: 351.06 | G22: =F22*E22 -> 387570.24 | H22: =F22*1.2338 -> 433.13783 | I22: =H22*E22 -> 478184.16
A23: 3.4 | B23: EQ04.10.0041 | C23: Caminhao carroceria fixa, capacidade de 7,50 t, com motor diesel de 162 cv, equipado com Plataforma aerea dupla ou cesto duplo, isolados para 69 Kv, altura de operacao de 23,50m, giro de 360o, alcance lateral operacional minimo de 11m, dotado de sistema de seguranca e emergencia acoplado a carroceria do caminhao, com motorista operador, materiais de operacao e manutencao, sinalizador visual rotativo amarelo ou ambar. Custo horario improdutivo | D23: hora | E23: 1104 | F23: 81.55 | G23: =F23*E23 -> 90031.2 | H23: =F23*1.2338 -> 100.61639 | I23: =H23*E23 -> 111080.49
A24: 3.5 | B24: 19.004.0045-C | C24: VEICULO DE PASSEIO,5 PASSAGEIROS,MOTOR BICOMBUSTIVEL (GASOLINA E ALCOOL) DE 1.0 LITRO,EXCLUSIVE MOTORISTA | D24: hora | E24: 2204 | F24: =VLOOKUP(B24,EMOP0522!A:B,2) -> 58.16 | G24: =F24*E24 -> 128184.64 | H24: =F24*1.2338 -> 71.757808 | I24: =H24*E24 -> 158154.21
A25: 3.6 | B25: 19.004.0045-D | C25: VEICULO DE PASSEIO,5 PASSAGEIROS,MOTOR BICOMBUSTIVEL (GASOLINA E ALCOOL) DE 1.0 LITRO,EXCLUSIVE MOTORISTA | D25: hora | E25: 2204 | F25: =VLOOKUP(B25,EMOP0522!A:B,2) -> 11.83 | G25: =F25*E25 -> 26073.32 | H25: =F25*1.2338 -> 14.595854 | I25: =H25*E25 -> 32169.262
A26: Custo total Anual com Equipamentos | I26: =SUM(I20:I25) -> 3002342.2
A27: Total Global | I27: =SUM(I17,I10,I26) -> 4812685.7
A28: Administração Local 5% dos itens referentes à administração local (mão-de-obra e veículos) | I28: =I27*0.05 -> 240634.28
A29: UR sem BDI = R$ 220.960,69/R$ 30,18/1,2338(BDI) | I29: =I28/(30.18*1.2338) -> 6462.395

Sheet Anexo III do PB
A2: Anexo III do Projeto Básico - Memória de Cálculo
A3: 1 - Serviços Preliminares | F3: Justificativa
A4: 1.1 | B4: ='Anexo II PB-Pl. de Custo Geral'!B5 -> 05.100.0900-A | C4: ='Anexo II PB-Pl. de Custo Geral'!C5 -> Unidade de referência p/complemento da adm. Local, considerando: consumo de água, telefone, energia elétrica, mat. De limpeza e de escritório, computadores, licença de software, móveis e utensílios. | D4: UR | E4: ='Anexo II PB-Pl. de Custo Geral'!E5 -> 5934.0475 | F4: Vide ref. Emop 01/22
A5: 2 - Serviços de reparos de falhas internas - manutenção do sistema de iluminação
A6: 2.1 - Insumos | F6: Justificativa
A7: 2.1.1 | B7: ='Anexo II-A-Comp. Manutenção'!B5 -> IP49.25.0806 | C7: ='Anexo II-A-Comp. Manutenção'!C5 -> Lampada a vapor de sodio, alta pressao, potencia de 70W, base E-27, bulbo ovoide, difuso, corrente 1,0A, tensao 90V, pulso de acendimento 2,5 a 4kv, fluxo luminoso nominal >=5600 lm, temperatura de cor >= 1900o K, vida media >= 16000hs, posicao de funcionamento universal a NBR - 662 e EM-RIOLUZ no 57. Fornecimento. | D7: ='Anexo II-A-Comp. Manutenção'!D5 -> Unid. | E7: ='Anexo II-A-Comp. Manutenção'!E5 -> 459 | F7: Vide referência histórica de intervenções nos pontos de potência correpondente, considerando a média mensal de 5% do total do ativo de iluminação a receber intervenção de manutenção preventiva e corretiva, pelo período contratual de 12 (doze) meses, sendo as razões das causas de intervenções 30% de defeitos das lâmpadas; e também a substituição de 100% dos pontos em VM 80W.
A8: 2.1.2 | B8: ='Anexo II-A-Comp. Manutenção'!B6 -> IP49.25.0809 | C8: ='Anexo II-A-Comp. Manutenção'!C6 -> Lampada a vapor de sodio, alta pressao, potencia de 100W, base E-40, bulbo ovoide, difuso, corrente 1,2A, tensao 100V, pulso de acendimento 2,8 a 4,5kv, fluxo luminoso nominal >=9000 lm, temperatura de cor >= 2000o K, vida media >= 24000hs, posicao de funcionamento universal a NBR - 662 e EM-RIOLUZ no 57. Fornecimento.(desonerado) | D8: ='Anexo II-A-Comp. Manutenção'!D6 -> Unid. | E8: ='Anexo II-A-Comp. Manutenção'!E6 -> 116 | F8: Vide referência histórica de intervenções nos pontos de potência correpondente, considerando a média mensal de 5% do total do ativo de iluminação a receber intervenção de manutenção preventiva e corretiva, pelo período contratual de 12 (doze) meses, sendo as razões das causas de intervenções 30% de defeitos das lâmpadas; e também a substituição de 100% dos pontos em VM 125W.
A9: 2.1.3 | B9: ='Anexo II-A-Comp. Manutenção'!B7 -> IP49.25.0850 | C9: ='Anexo II-A-Comp. Manutenção'!C7 -> Lampada a vapor de sodio, alta pressao, potencia de 150W, base E-40, bulbo ovoide, difuso, corrente 1,8A, tensao 100V, pulso de acendimento 2,8 a 4,5kv, fluxo luminoso nominal >=14000 lm, temperatura de cor >= 1950o K, vida media >= 24000hs, posicao de funcionamento universal a NBR - 662 e EM-RIOLUZ no 57. Fornecimento. | D9: ='Anexo II-A-Comp. Manutenção'!D7 -> Unid. | E9: ='Anexo II-A-Comp. Manutenção'!E7 -> 5886 | F9: Vide referência histórica de intervenções nos pontos de potência correpondente, considerando a média mensal de 5% do total do ativo de iluminação a receber intervenção de manutenção preventiva e corretiva, pelo período contratual de 12 (doze) meses, sendo as razões das causas de intervenções 30% de defeitos das lâmpadas.
A10: 2.1.4 | B10: ='Anexo II-A-Comp. Manutenção'!B8 -> IP49.25.0900 | C10: ='Anexo II-A-Comp. Manutenção'!C8 -> Lampada a vapor de sodio, alta pressao, potencia de 250W, base E-40, bulbo ovoide, difuso, corrente 3A, tensao 100V, pulso de acendimento 2,8 a 4,5kv, fluxo luminoso nominal >=25000 lm, temperatura de cor >= 2000o K, vida media >= 24000hs, posicao de funcionamento universal a NBR - 662 e EM-RIOLUZ no 57. Fornecimento. | D10: ='Anexo II-A-Comp. Manutenção'!D8 -> Unid. | E10: ='Anexo II-A-Comp. Manutenção'!E8 -> 1044 | F10: Vide referência histórica de intervenções nos pontos de potência correpondente, considerando a média mensal de 5% do total do ativo de iluminação a receber intervenção de manutenção preventiva e corretiva, pelo período contratual de 12 (doze) meses, sendo as razões das causas de intervenções 30% de defeitos das lâmpadas; e também a substituição de 100% dos pontos em VM 250W.
A11: 2.1.5 | B11: ='Anexo II-A-Comp. Manutenção'!B9 -> IP49.25.1000 | C11: ='Anexo II-A-Comp. Manutenção'!C9 -> Lampada a vapor de sodio, alta pressao, potencia de 400W, base E-40, bulbo tubular, claro, corrente 4,6A, tensao 100V, pulso de acendimento 2,8 a 4,5kv, fluxo luminoso nominal >=47500 lm, temperatura de cor >= 1950o K, vida media >= 24000hs, posicao de funcionamento universal a NBR - 662 e EM-RIOLUZ no 57. Fornecimento. | D11: ='Anexo II-A-Comp. Manutenção'!D9 -> Unid. | E11: ='Anexo II-A-Comp. Manutenção'!E9 -> 157 | F11: Vide referência histórica de intervenções nos pontos de potência correpondente, considerando a média mensal de 5% do total do ativo de iluminação a receber intervenção de manutenção preventiva e corretiva, pelo período contratual de 12 (doze) meses, sendo as razões das causas de intervenções 30% de defeitos das lâmpadas; e e também a substituição de 100% dos pontos em VM 400W.
A12: 2.1.6 | B12: ='Anexo II-A-Comp. Manutenção'!B10 -> IP49.25.0406 | C12: ='Anexo II-A-Comp. Manutenção'!C10 -> Lampada de multivapor metalico (MVM) de 70W/220V/E-27, clara 4000oK, bulbo ovoide. Fornecimento. | D12: ='Anexo II-A-Comp. Manutenção'!D10 -> Unid. | E12: ='Anexo II-A-Comp. Manutenção'!E10 -> 73 | F12: Vide referência histórica de intervenções nos pontos de potência correpondente, considerando a média mensal de 5% do total do ativo de iluminação a receber intervenção de manutenção preventiva e corretiva, pelo período contratual de 12 (doze) meses, sendo as razões das causas de intervenções 30% de defeitos das lâmpadas.
A13: 2.1.7 | B13: ='Anexo II-A-Comp. Manutenção'!B11 -> IP49.25.0412 | C13: ='Anexo II-A-Comp. Manutenção'!C11 -> Lampada de multivapor metalico (MVM) de 150W/220V/E-27. Fornecimento. | D13: ='Anexo II-A-Comp. Manutenção'!D11 -> Unid. | E13: ='Anexo II-A-Comp. Manutenção'!E11 -> 468 | F13: Vide referência histórica de intervenções nos pontos de potência correpondente, considerando a média mensal de 5% do total do ativo de iluminação a receber intervenção de manutenção preventiva e corretiva, pelo período contratual de 12 (doze) meses, sendo as razões das causas de intervenções 30% de defeitos das lâmpadas.
A14: 2.1.8 | B14: ='Anexo II-A-Comp. Manutenção'!B12 -> IP49.25.0418 | C14: ='Anexo II-A-Comp. Manutenção'!C12 -> Lampada de multivapor metalico (MVM) de 250/220V, bulbo ovoide. Fornecimento | D14: ='Anexo II-A-Comp. Manutenção'!D12 -> Unid. | E14: ='Anexo II-A-Comp. Manutenção'!E12 -> 284 | F14: Vide referência histórica de intervenções nos pontos de potência correpondente, considerando a média mensal de 5% do total do ativo de iluminação a receber intervenção de manutenção preventiva e corretiva, pelo período contratual de 12 (doze) meses, sendo as razões das causas de intervenções 30% de defeitos das lâmpadas.
A15: 2.1.9 | B15: ='Anexo II-A-Comp. Manutenção'!B13 -> IP49.25.0424 | C15: ='Anexo II-A-Comp. Manutenção'!C13 -> Lampada multivapor metalico (MVM) de 400W, bulbo tubular, tensao de ignicao maior ou igual a 3Kv e menor ou igual a 4,5Kv, temperatura de cor entre 4000 e 5000oK, posicao de funcionamento horizontal mais ou menos 20o ou qualquer. Fornecimento | D15: ='Anexo II-A-Comp. Manutenção'!D13 -> Unid. | E15: ='Anexo II-A-Comp. Manutenção'!E13 -> 242 | F15: Vide referência histórica de intervenções nos pontos de potência correpondente, considerando a média mensal de 5% do total do ativo de iluminação a receber intervenção de manutenção preventiva e corretiva, pelo período contratual de 12 (doze) meses, sendo as razões das causas de intervenções 30% de defeitos das lâmpadas.
A16: 2.1.10 | B16: ='Anexo II-A-Comp. Manutenção'!B14 -> 3755 | C16: ='Anexo II-A-Comp. Manutenção'!C14 -> Lâmpada mista de 160W, base E-27 | D16: ='Anexo II-A-Comp. Manutenção'!D14 -> Unid | E16: ='Anexo II-A-Comp. Manutenção'!E14 -> 124 | F16: Vide referência histórica de intervenções nos pontos de potência correpondente, considerando a necessidade de substituição de 100% das lâmpadas existentes no decorrer de 12 (doze) meses de prestação de serviço, em razão da vida útil curta de Lâmpadas desta natureza (12 mil horas).
A17: 2.1.11 | B17: ='Anexo II-A-Comp. Manutenção'!B15 -> 3750 | C17: ='Anexo II-A-Comp. Manutenção'!C15 -> Lâmpada mista de 250W, base E-27 | D17: ='Anexo II-A-Comp. Manutenção'!D15 -> Unid. | E17: ='Anexo II-A-Comp. Manutenção'!E15 -> 440 | F17: Vide referência histórica de intervenções nos pontos de potência correpondente, considerando a necessidade de substituição de 100% das lâmpadas existentes no decorrer de 12 (doze) meses de prestação de serviço, em razão da vida útil curta de Lâmpadas desta natureza (12 mil horas).
A18: 2.1.12 | B18: ='Anexo II-A-Comp. Manutenção'!B16 -> 3756 | C18: ='Anexo II-A-Comp. Manutenção'!C16 -> Lâmpada mista de 500W, base E-40 | D18: ='Anexo II-A-Comp. Manutenção'!D16 -> Unid. | E18: ='Anexo II-A-Comp. Manutenção'!E16 -> 155 | F18: Vide referência histórica de intervenções nos pontos de potência correpondente, considerando a necessidade de substituição de 100% das lâmpadas existentes no decorrer de 12 (doze) meses de prestação de serviço, em razão da vida útil curta de Lâmpadas desta natureza (12 mil horas).
... A46: 2.1.40 | B46: ='Anexo II-A-Comp. Manutenção'!B44 -> MAT006450 | C46: ='Anexo II-A-Comp. Manutenção'!C44 -> Armacao Secundaria ou Rex para 3 linhas | D46: ='Anexo II-A-Comp. Manutenção'!D44 -> Unidade | E46: ='Anexo II-A-Comp. Manutenção'!E44 -> 10 | F46: Reserva técnica para causas de defeito em razão de fatos de terceiro, como curtos, alta-tensão e furtos.
A47: 2.2 - Custos com mão de obra | F47: Justificativa
A48: Equipe Operacional Administrativa
A49: 2.2.1 | B49: ='Anexo II-A-Comp. Manutenção'!B49 -> 01.050.0714-A | C49: ='Anexo II-A-Comp. Manutenção'!C49 -> Mão de obra de engenheiro junior | D49: ='Anexo II-A-Comp. Manutenção'!D49 -> mês | E49: ='Anexo II-A-Comp. Manutenção'!E49 -> 12 | F49: Vide 01 (um) profissional pelo período contratual de 12 (doze) meses.
A50: 2.2.2 | B50: ='Anexo II-A-Comp. Manutenção'!B50 -> 01.050.0712-A | C50: ='Anexo II-A-Comp. Manutenção'!C50 -> Mão de obra de secretária (atendente) | D50: ='Anexo II-A-Comp. Manutenção'!D50 -> mês | E50: ='Anexo II-A-Comp. Manutenção'!E50 -> 24 | F50: Vide 02 (dois) profissionais pelo período contratual de 12 (doze) meses.
A51: 2.2.3 | B51: ='Anexo II-A-Comp. Manutenção'!B51 -> 05.105.0122-A | C51: ='Anexo II-A-Comp. Manutenção'!C51 -> Mão de obra de almoxarife | D51: ='Anexo II-A-Comp. Manutenção'!D51 -> mês | E51: ='Anexo II-A-Comp. Manutenção'!E51 -> 12 | F51: Vide 01 (um) profissional pelo período contratual de 12 (doze) meses.
A52: 2.2.4 | B52: ='Anexo II-A-Comp. Manutenção'!B52 -> 01.050.0729-A | C52: ='Anexo II-A-Comp. Manutenção'!C52 -> Mão de obra de analista de sistema junior | D52: ='Anexo II-A-Comp. Manutenção'!D52 -> mês | E52: ='Anexo II-A-Comp. Manutenção'!E52 -> 12 | F52: Vide 01 (um) profissional pelo período contratual de 12 (doze) meses.
A53: Equipe Operacional de Campo | F53: Justificativa
A54: 2.2.5 | B54: ='Anexo II-A-Comp. Manutenção'!B56 -> 05.105.0126-A | C54: ='Anexo II-A-Comp. Manutenção'!C56 -> Mão de obra de encarregado de turma. | D54: ='Anexo II-A-Comp. Manutenção'!D56 -> mês | E54: ='Anexo II-A-Comp. Manutenção'!E56 -> 24 | F54: Vide 02 (dois) profissionais pelo período contratual de 12 (doze) meses.
A55: 2.2.6 | B55: ='Anexo II-A-Comp. Manutenção'!B57 -> 05.105.0112-A | C55: ='Anexo II-A-Comp. Manutenção'!C57 -> Mão de obra de eletricista. | D55: ='Anexo II-A-Comp. Manutenção'!D57 -> mês | E55: ='Anexo II-A-Comp. Manutenção'!E57 -> 144 | F55: Vide 12 (doze) profissionais pelo período contratual de 12 (doze) meses.
A56: 2.2.7 | B56: ='Anexo II-A-Comp. Manutenção'!B58 -> 05.105.0115-A | C56: ='Anexo II-A-Comp. Manutenção'!C58 -> Mão de obra de ajudante montador | D56: ='Anexo II-A-Comp. Manutenção'!D58 -> mês | E56: ='Anexo II-A-Comp. Manutenção'!E58 -> 24 | F56: Vide 02 (dois) profissionais pelo período contratual de 12 (doze) meses.
A57: 2.2.8 | B57: ='Anexo II-A-Comp. Manutenção'!B59 -> 05.105.0148-A | C57: ='Anexo II-A-Comp. Manutenção'!C59 -> Mão de obra de motorista (categoria C) | D57: ='Anexo II-A-Comp. Manutenção'!D59 -> mês | E57: ='Anexo II-A-Comp. Manutenção'!E59 -> 60 | F57: Vide 05 (cinco) profissionais pelo período contratual de 12 (doze) meses.
A58: 2.3 - Custo com Equipamentos | F58: Justificativa
A59: 2.3.1 | B59: ='Anexo II-A-Comp. Manutenção'!B63 -> EQ04.10.0020 | C59: ='Anexo II-A-Comp. Manutenção'!C63 -> Caminhao carroceria fixa, capacidade de 3,50 t, equipado com cesto aereo, isolado para 69 Kv, altura de operacao de 9,00m, giro de 360o, alcance lateral operacional minimo de 5m, dotado de sistema de seguranca e emergencia acoplado a carroceria do caminhao, com motorista operador, materiais de operacao e manutencao, sinalizador visual rotativo amarelo ou ambar. Custo horario produtivo. | D59: ='Anexo II-A-Comp. Manutenção'!D63 -> hora | E59: ='Anexo II-A-Comp. Manutenção'!E63 -> 7761.6 | F59: Vide 07 (sete) veículos, sendo 8,8 horas dia, média 21 dias mês, média de 12 (doze) meses de período contratual. Sendo 50% custo produtivo e 50% custo improdutivo, em razão da natureza do objeto contratual.
A60: 2.3.2 | B60: ='Anexo II-A-Comp. Manutenção'!B64 -> EQ04.10.0023 | C60: ='Anexo II-A-Comp. Manutenção'!C64 -> Caminhao carroceria fixa, capacidade de 3,50 t, equipado com cesto aereo, isolado para 69 Kv, altura de operacao de 9,00m, giro de 360o, alcance lateral operacional minimo de 5m, dotado de sistema de seguranca e emergencia acoplado a carroceria do caminhao, com motorista operador, materiais de operacao e manutencao, sinalizador visual rotativo amarelo ou ambar. Custo horario improdutivo | D60: ='Anexo II-A-Comp. Manutenção'!D64 -> hora | E60: ='Anexo II-A-Comp. Manutenção'!E64 -> 7761.6 | F60: Vide 07 (sete) veículos, sendo 8,8 horas dia, média 21 dias mês, média de 12 (doze) meses de período contratual. Sendo 50% custo produtivo e 50% custo improdutivo, em razão da natureza do objeto contratual.
A61: 2.3.3 | B61: ='Anexo II-A-Comp. Manutenção'!B65 -> EQ04.10.0035 | C61: ='Anexo II-A-Comp. Manutenção'!C65 -> Caminhao carroceria fixa, capacidade de 7,50 t, com motor diesel de 162 cv, equipado com Plataforma aerea dupla ou cesto duplo, isolados para 69 Kv, altura de operacao de até 23,50m, giro de 360o, alcance lateral operacional minimo de 11m, dotado de sistema de seguranca e emergencia acoplado a carroceria do caminhao, com motorista operador, materiais de operacao e manutencao, sinalizador visual rotativo amarelo ou ambar. Custo horario produtivo | D61: ='Anexo II-A-Comp. Manutenção'!D65 -> hora | E61: ='Anexo II-A-Comp. Manutenção'!E65 -> 1108.8 | F61: Vide 01 (um) veículo, sendo 8,8 horas dia, média 21 dias mês, média de 12 (doze) meses período contratual. Sendo 50% custo produtivo e 50% custo improdutivo, em razão da natureza do objeto contratual.
A62: 2.3.4 | B62: ='Anexo II-A-Comp. Manutenção'!B66 -> EQ04.10.0041 | C62: ='Anexo II-A-Comp. Manutenção'!C66 -> Caminhao carroceria fixa, capacidade de 7,50 t, com motor diesel de 162 cv, equipado com Plataforma aerea dupla ou cesto duplo, isolados para 69 Kv, altura de operacao de 23,50m, giro de 360o, alcance lateral operacional minimo de 11m, dotado de sistema de seguranca e emergencia acoplado a carroceria do caminhao, com motorista operador, materiais de operacao e manutencao, sinalizador visual rotativo amarelo ou ambar. Custo horario improdutivo | D62: ='Anexo II-A-Comp. Manutenção'!D66 -> hora | E62: ='Anexo II-A-Comp. Manutenção'!E66 -> 1108.8 | F62: Vide 01 (um) veículo, sendo 8,8 horas dia, média 21 dias mês, média de 12 (doze) meses período contratual. Sendo 50% custo produtivo e 50% custo improdutivo, em razão da natureza do objeto contratual.
A63: 2.3.5 | B63: ='Anexo II-A-Comp. Manutenção'!B67 -> 19.004.0045-C | C63: ='Anexo II-A-Comp. Manutenção'!C67 -> VEICULO DE PASSEIO,5 PASSAGEIROS,MOTOR BICOMBUSTIVEL (GASOLINA E ALCOOL) DE 1.0 LITRO,EXCLUSIVE MOTORISTA | D63: ='Anexo II-A-Comp. Manutenção'!D67 -> hora | E63: ='Anexo II-A-Comp. Manutenção'!E67 -> 2217.6 | F63: Vide 02 (dois) veículos, sendo 8,8 horas dia, média 21 dias mês, média de 12 (doze) meses período contratual. Sendo 50% custo produtivo e 50% custo improdutivo, em razão da natureza do objeto contratual.
A64: 2.3.6 | B64: ='Anexo II-A-Comp. Manutenção'!B68 -> 19.004.0045-D | C64: ='Anexo II-A-Comp. Manutenção'!C68 -> VEICULO DE PASSEIO,5 PASSAGEIROS,MOTOR BICOMBUSTIVEL (GASOLINA E ALCOOL) DE 1.0 LITRO,EXCLUSIVE MOTORISTA | D64: ='Anexo II-A-Comp. Manutenção'!D68 -> hora | E64: ='Anexo II-A-Comp. Manutenção'!E68 -> 2217.6 | F64: Vide 02 (dois) veículos, sendo 8,8 horas dia, média 21 dias mês, média de 12 (doze) meses período contratual. Sendo 50% custo produtivo e 50% custo improdutivo, em razão da natureza do objeto contratual.
A65: 3 - Serviços de reparos de falhas externas - melhoria e expansão do sistema
A66: 3.1 - insumos | F66: Justificativa
A67: 3.1.1 | B67: ='Anexo II PB-Pl. de Custo Geral'!B14 -> IP49.05.0500 | C67: ='Anexo II PB-Pl. de Custo Geral'!C14 -> Luminaria a led, corpo em aluminio injetado/extrudado, para instalacao em ponta de braco/nucleo, potencia maxima de 60 W, fluxo minimo 9000 lm, temperatura de cor 5800/6500 K, IP 66, IK 08, resistente a UV, tensao de 100/240 V, eficiencia minima 150 lm/W, IRC maior ou igual a 70, temperatura de operacao de -20/75o C, preparada para telegestão. Fornecimento. | D67: ='Anexo II PB-Pl. de Custo Geral'!D14 -> Unidade | E67: ='Anexo II PB-Pl. de Custo Geral'!E14 -> 13733 | F67: Vide previsão de substituição de 13.733 unidades de IP de 150W
A68: 3.1.1 | B68: ='Anexo II PB-Pl. de Custo Geral'!B15 -> IP49.05.0550 | C68: ='Anexo II PB-Pl. de Custo Geral'!C15 -> Luminaria a led, corpo em aluminio injetado/extrudado, para instalacao em ponta de braco/nucleo, potencia maxima de 100 W, fluxo minimo 15000 lm, temperatura de cor 5800/6500 K, IP 66, IK 08, resistente a UV, tensao de 100/240 V, eficiencia minima 90,6 lm/W, IRC maior ou igual a 70, temperatura de operacao de -20/75o C. Preparada para telegestão. Fornecimento | D68: ='Anexo II PB-Pl. de Custo Geral'!D15 -> UN | E68: ='Anexo II PB-Pl. de Custo Geral'!E15 -> 5686 | F68: Vide previsão de substituição de 5.686 unidades de IP de 250W
...

Sheet Anexo IV do PB
A1: ANEXO IV - COMPOSIÇÃO ANALÍTICA DO BDI CONSTRUÇÃO DE EDIFÍCIOS
A3: VALORES DE BDI POR TIPO DE OBRA %
A4: TIPO DE OBRA | B4: 1 Quartil | C4: Médio | D4: 3 Quartil
A5: Edifícios | B5: 20.34 | C5: 22.12 | D5: 25
A7: Escolher os parâmetros abaixo dentro do intervalo dos quartis, no entanto sem extrapolar o intervalo do BDI acima:
A8: DESCRIÇÃO | B8: VALORES DE REFERÊNCIA - % | E8: BDI ENSAIO % | G8: BDI PLANILHA
B9: 1º QUARTIL | C9: MÉDIO | D9: 3º QUARTIL
A10: Administração Central | B10: 3 | C10: 4 | D10: 5.5 | E10: 3 | F10: =IF(E10=0," ",IF(E10<B10,"ERRO",(IF(E10>D10,"ERRO","OK!")))) -> OK! | G10: 3
A11: Seguro e Garantia (*) | B11: 0.8 | C11: 0.8 | D11: 1 | E11: 0.8 | F11: =IF(E11=0," ",IF(E11<B11,"ERRO",(IF(E11>D11,"ERRO","OK!")))) -> OK! | G11: 0.8
A12: Risco | B12: 0.97 | C12: 1.27 | D12: 1.27 | E12: 0.97 | F12: =IF(E12=0," ",IF(E12<B12,"ERRO",(IF(E12>D12,"ERRO","OK!")))) -> OK! | G12: 0.97
A13: Despesas Financeiras | B13: 0.59 | C13: 1.23 | D13: 1.39 | E13: 0.59 | F13: =IF(E13=0," ",IF(E13<B13,"ERRO",(IF(E13>D13,"ERRO","OK!")))) -> OK! | G13: 0.59
A14: Lucro | B14: 6.16 | C14: 7.4 | D14: 8.96 | E14: 6.2 | F14: =IF(E14=0," ",IF(E14<B14,"ERRO",(IF(E14>D14,"ERRO","OK!")))) -> OK! | G14: 6.2
A15: Tributos (soma dos itens abaixo) | B15: =SUM(B16:B19) -> 7.15 | C15: =SUM(C16:C19) -> 9.9 | D15: =SUM(D16:D19) -> 13.15 | E15: =SUM(E16:E20) -> 9.29 | F15: =IF(E15=0," ",IF(E15<B15,"ERRO",(IF(E15>D15,"ERRO","OK!")))) -> OK! | G15: 7.29
A16: COFINS | B16: 3 | C16: 3 | D16: 3 | E16: 3 | F16: =IF(E16=0," ",IF(E16<B16,"ERRO",(IF(E16>D16,"ERRO","OK!")))) -> OK! | G16: 3
A17: PIS | B17: 0.65 | C17: 0.65 | D17: 0.65 | E17: 0.65 | F17: =IF(E17=0," ",IF(E17<B17,"ERRO",(IF(E17>D17,"ERRO","OK!")))) -> OK! | G17: 0.65
A18: ISSQN (**) | B18: 1.5 | C18: 3 | D18: 5 | E18: 1.64 | F18: =IF(E18=0," ",IF(E18<B18,"ERRO",(IF(E18>D18,"ERRO","OK!")))) -> OK! | G18: 2
A19: Contribuição Previdênciária | B19: 2 | C19: =(D19+B19)/2 -> 3.25 | D19: 4.5 | E19: 2 | F19: =IF(E19=0," ",IF(E19<B19,"ERRO",(IF(E19>D19,"ERRO","OK!")))) -> OK! | G19: 2
A20: Contribuição Receita Bruta | B20: 2 | C20: 2 | D20: 2 | E20: 2 | F20: =IF(E20=0," ",IF(E20<B20,"ERRO",(IF(E20>D20,"ERRO","OK!")))) -> OK!
A21: TOTAL | E21: =ROUND((((((1+E10/100+E11/100+E12/100)*(1+E13/100)*(1+E14/100))/(1-E15/100))-1)*100),2) -> 23.38 | F21: =IF(E21=0," ",IF(E21<B5,"ERRO",(IF(E21>D5,"ERRO","OK!")))) -> OK! | G21: =ROUND((((((1+G10/100+G11/100+G12/100)*(1+G13/100)*(1+G14/100))/(1-G15/100))-1)*100),2) -> 20.72
A23: Fonte da composição, valores de referência e fórmula do BDI: Acórdão 2622/2013 - TCU - Plenário
A25: Os valores de BDI acima foram calculados com emprego da fórmula abaixo:
A31: Onde:
A32: AC = taxa de rateio da Administração Central;
A33: DF = taxa das despesas financeiras;
A34: S = taxa de seguro; R = taxa de risco e G = garantia do empreendimento;
A35: I = taxa de tributos;
A36: L = taxa de lucro.
A38: OBS:
A39: (*) - PODE HAVER GARANTIA DESDE QUE PREVISTO NO EDITAL DA LICITAÇÃO E NO CONTRATO DE EXECUÇÃO.
A40: (**) - PODEM SER ACEITOS OUTROS PERCENTUAIS DE ISS DESDE QUE DEVIDAMENTE EMBASADOS NA LEGISLAÇÃO MUNICIPAL.
A42: Conforme esse Acórdão, o valor final do BDI também deverá obedecer à faixa de variação abaixo, considerando os custos dos serviços sem desoneração dos encargos sociais:
A44: VALORES DE BDI POR TIPO DE OBRA
A45: TIPO DE OBRA | B45: 1 Quartil | C45: Médio | D45: 3 Quartil
A46: Edifícios | B46: 20.34 | C46: 22.12 | D46: 25
A47: Desta forma, após o enquadramento do BDI nos critérios abordados acima e sendo utilizado no orçamento os custos dos serviços com desoneração, deverá ser incluído no item taxa de tributos o percentual de 2% referente à contribuição previdenciária e recalculado o BDI.
A49: Reiteramos que, por determinação do TCU, não é admitida a inclusão de IRPJ e CSLL no BDI, bem como Administração local, Instalação de Canteiro/acampamento, Mobilização/ desmobilização e demais itens que possam ser apropriados como custos diretos da obra, devendo ser apresentada a composição destes, com detalhamentos suficientes que justifiquem o valor obtido, não sendo admitido cálculo com estimativas percentuais genéricas.
A51: Tributos (Confins, PIS e ISSQN) + 2% INSS | B51: =SUM(B16:B19)+2 -> 9.15 | C51: =SUM(C16:C19)+2 -> 11.9 | D51: =SUM(D16:D19)+2 -> 15.15 | E51: =IF(E15>0, (SUM(E16:E19)+2), 0) -> 9.29
A52: TOTAL | E52: =((((1+E10/100+E11/100+E12/100)*(1+E13/100)*(1+E14/100))/(1-E51/100))-1)*100 -> 23.384641

Sheet Anexo IV-A do PB
A1: COMPOSIÇÃO ANALÍTICA DO BDI FORNECIMENTO DE MATERIAIS E EQUIPAMENTOS
A3: VALORES DE BDI PARA FORNECIMENTO DE MATERIAIS E EQUIPAMENTOS
A4: VALORES | B4: 1 Quartil - % | C4: Médio - % | D4: 3 Quartil - %
B5: 11.1 | C5: 14.02 | D5: 16.8
A7: Escolher os parâmetros abaixo dentro do intervalo dos quartis, no entanto sem extrapolar o intervalo do BDI acima:
A8: DESCRIÇÃO | B8: VALORES DE REFERÊNCIA - % | E8: BDI ENSAIO % | G8: BDI PLANILHA
B9: 1º QUARTIL | C9: MÉDIO | D9: 3º QUARTIL
A10: Administração Central | B10: 1.5 | C10: 3.45 | D10: 4.49 | E10: 1.5 | F10: =IF(E10=0," ",IF(E10<B10,"ERRO",(IF(E10>D10,"ERRO","OK!")))) -> OK! | G10: 1.5
A11: Seguro e Garantia (*) | B11: 0.3 | C11: 0.48 | D11: 0.82 | E11: 0.3 | F11: =IF(E11=0," ",IF(E11<B11,"ERRO",(IF(E11>D11,"ERRO","OK!")))) -> OK! | G11: 0.3
A12: Risco | B12: 0.56 | C12: 0.85 | D12: 0.89 | E12: 0.56 | F12: =IF(E12=0," ",IF(E12<B12,"ERRO",(IF(E12>D12,"ERRO","OK!")))) -> OK! | G12: 0.56
A13: Despesas Financeiras | B13: 0.85 | C13: 0.85 | D13: 1.11 | E13: 0.85 | F13: =IF(E13=0," ",IF(E13<B13,"ERRO",(IF(E13>D13,"ERRO","OK!")))) -> OK! | G13: 0.85
A14: Lucro | B14: 3.5 | C14: 5.11 | D14: 6.22 | E14: 3.5 | F14: =IF(E14=0," ",IF(E14<B14,"ERRO",(IF(E14>D14,"ERRO","OK!")))) -> OK! | G14: 3.5
A15: Tributos (soma dos itens abaixo) | B15: =SUM(B16:B18) -> 5.15 | C15: =SUM(C16:C18) -> 6.65 | D15: =SUM(D16:D18) -> 8.65 | E15: =SUM(E16:E18) -> 5.15 | F15: =IF(E15=0," ",IF(E15<B15,"ERRO",(IF(E15>D15,"ERRO","OK!")))) -> OK! | G15: 5.15
A16: COFINS | B16: 3 | C16: 3 | D16: 3 | E16: 3 | F16: =IF(E16=0," ",IF(E16<B16,"ERRO",(IF(E16>D16,"ERRO","OK!")))) -> OK! | G16: 3
A17: PIS | B17: 0.65 | C17: 0.65 | D17: 0.65 | E17: 0.65 | F17: =IF(E17=0," ",IF(E17<B17,"ERRO",(IF(E17>D17,"ERRO","OK!")))) -> OK! | G17: 0.65
A18: ISSQN (**) | B18: 1.5 | C18: 3 | D18: 5 | E18: 1.5 | F18: =IF(E18=0," ",IF(E18<B18,"ERRO",(IF(E18>D18,"ERRO","OK!")))) -> OK! | G18: 1.5
A19: TOTAL | E19: =ROUND((((((1+E10/100+E11/100+E12/100)*(1+E13/100)*(1+E14/100))/(1-E15/100))-1)*100),2) -> 12.64 | F19: =IF(E19=0," ",IF(E19<B5,"ERRO",(IF(E19>D5,"ERRO","OK!")))) -> OK! | G19: =ROUND((((((1+G10/100+G11/100+G12/100)*(1+G13/100)*(1+G14/100))/(1-G15/100))-1)*100),2) -> 12.64
A21: Fonte da composição, valores de referência e fórmula do BDI: Acórdão 2622/2013 - TCU - Plenário
A23: Os valores de BDI acima foram calculados com emprego da fórmula abaixo:
A29: Onde:
A30: AC = taxa de rateio da Administração Central;
A31: DF = taxa das despesas financeiras;
A32: S = taxa de seguro; R = taxa de risco e G = garantia do empreendimento;
A33: I = taxa de tributos;
A34: L = taxa de lucro.
A36: OBS:
A37: (*) - PODE HAVER GARANTIA DESDE QUE PREVISTO NO EDITAL DA LICITAÇÃO E NO CONTRATO DE EXECUÇÃO.
A38: (**) - PODEM SER ACEITOS OUTROS PERCENTUAIS DE ISS DESDE QUE DEVIDAMENTE EMBASADOS NA LEGISLAÇÃO MUNICIPAL.
A40: Conforme esse Acórdão, o valor final do BDI também deverá obedecer à faixa de variação abaixo, considerando os custos dos serviços sem desoneração dos encargos sociais:
A42: VALORES DE BDI POR TIPO DE OBRA
A43: VALORES DE BDI PARA FORNECIMENTO DE MATERIAIS E EQUIPAMENTOS | B43: 1 Quartil - % | C43: Médio - % | D43: 3 Quartil - %
B44: 11.1 | C44: 14.02 | D44: 16.8
A46: Reiteramos que, por determinação do TCU, não é admitida a inclusão de IRPJ e CSLL no BDI, bem como Administração local, Instalação de Canteiro/acampamento, Mobilização/ desmobilização e demais itens que possam ser apropriados como custos diretos da obra, devendo ser apresentada a composição destes, com detalhamentos suficientes que justifiquem o valor obtido, não sendo admitido cálculo com estimativas percentuais genéricas.
A48: Tributos (Confins, PIS e ISSQN) | B48: =SUM(B16:B18) -> 5.15 | C48: =SUM(C16:C18) -> 6.65 | D48: =SUM(D16:D18) -> 8.65 | E48: =IF(E15>0, (SUM(E16:E18)), 0) -> 5.15
A49: TOTAL | E49: =((((1+E10/100+E11/100+E12/100)*(1+E13/100)*(1+E14/100))/(1-E48/100))-1)*100 -> 12.644293 | F49: %

Sheet Anexo V do PB
A4: Anexo V do Projeto Básico - Cronograma Físico Financeiro
A5: Item | B5: Descrição | C5: Total | D5: 1º Mês | E5: 2º Mês | F5: 3º Mês | G5: 4º Mês | H5: 5º Mês | I5: 6º Mês
A6: 1. | B6: Serviços Preliminares | C6: ='Anexo II PB-Pl. de Custo Geral'!I6 -> 230478.55 | D6: =C6/12 -> 19206.546 | E6: =D6/12 -> 1600.5455 | F6: =E6/12 -> 133.37879 | G6: =C6/12 -> 19206.546 | H6: =C6/12 -> 19206.546 | I6: =C6/12 -> 19206.546
A7: 2. | B7: Serviços de reparos de falhas internas - manutenção do sistema de iluminação | C7: ='Anexo II PB-Pl. de Custo Geral'!I10 -> 6990241.7 | D7: =C7/12 -> 582520.14 | E7: =C7/12 -> 582520.14 | F7: =C7/12 -> 582520.14 | G7: =C7/12 -> 582520.14 | H7: =C7/12 -> 582520.14 | I7: =C7/12 -> 582520.14
A8: 3. | B8: Serviços de reparos de falhas externas - melhoria e expansão do sistema | C8: ='Anexo II PB-Pl. de Custo Geral'!I56 -> 57117969 | D8: =C8/12 -> 4759830.8 | E8: =C8/12 -> 4759830.8 | F8: =C8/12 -> 4759830.8 | G8: =C8/12 -> 4759830.8 | H8: =C8/12 -> 4759830.8 | I8: =C8/12 -> 4759830.8
A9: 4. | B9: Total | C9: =SUM(C6:C8) -> 64338690 | D9: =C9/12 -> 5361557.5 | E9: =C9/12 -> 5361557.5 | F9: =C9/12 -> 5361557.5 | G9: =C9/12 -> 5361557.5 | H9: =C9/12 -> 5361557.5 | I9: =C9/12 -> 5361557.5
A10: 5. | B10: peso | C10: 1 | D10: =C10/12 -> 0.083333333 | E10: =C10/12 -> 0.083333333 | F10: =C10/12 -> 0.083333333 | G10: =C10/12 -> 0.083333333 | H10: =C10/12 -> 0.083333333 | I10: =C10/12 -> 0.083333333
A11: 6. | B11: acumulado | D11: =D9 -> 5361557.5 | E11: =SUM(D11,E9) -> 10723115 | F11: =SUM(E11,F9) -> 16084672 | G11: =SUM(F11,G9) -> 21446230 | H11: =SUM(G11,H9) -> 26807787 | I11: =SUM(H11,I9) -> 32169345
D13: 7º Mês | E13: 8º Mês | F13: 9º Mês | G13: 10º Mês | H13: 11º Mês | I13: 12º Mês
D14: =C6/12 -> 19206.546 | E14: =C6/12 -> 19206.546 | F14: =C6/12 -> 19206.546 | G14: =C6/12 -> 19206.546 | H14: =C6/12 -> 19206.546 | I14: =C6/12 -> 19206.546
D15: =C7/12 -> 582520.14 | E15: =C7/12 -> 582520.14 | F15: =C7/12 -> 582520.14 | G15: =C7/12 -> 582520.14 | H15: =C7/12 -> 582520.14 | I15: =C7/12 -> 582520.14
D16: =C8/12 -> 4759830.8 | E16: =C8/12 -> 4759830.8 | F16: =C8/12 -> 4759830.8 | G16: =C8/12 -> 4759830.8 | H16: =C8/12 -> 4759830.8 | I16: =C8/12 -> 4759830.8
D17: =C9/12 -> 5361557.5 | E17: =C9/12 -> 5361557.5 | F17: =C9/12 -> 5361557.5 | G17: =C9/12 -> 5361557.5 | H17: =C9/12 -> 5361557.5 | I17: =C9/12 -> 5361557.5
D18: =C10/12 -> 0.083333333 | E18: =C10/12 -> 0.083333333 | F18: =C10/12 -> 0.083333333 | G18: =C10/12 -> 0.083333333 | H18: =C10/12 -> 0.083333333 | I18: =C10/12 -> 0.083333333
D19: =I11+D17 -> 37530902 | E19: =D19+E17 -> 42892460 | F19: =E19+F17 -> 48254017 | G19: =F19+G17 -> 53615575 | H19: =G19+H17 -> 58977132 | I19: =H19+I17 -> 64338690

Sheet SINAPI 05-22
A1: PRECOS DE INSUMOS - BANCO NACIONAL
A3: MES DE COLETA: 05/2022
A4: LOCALIDADE: 2810 - RIO DE JANEIRO
A5: ENCARGOS SOCIAIS DESONERADOS (%) HORISTA 84,56 MENSALISTA 47,28
A7: CODIGO | B7: DESCRICAO DO INSUMO | C7: UNIDADE DE MEDIDA | D7: ORIGEM DO PRECO | E7: PRECO MEDIANO R$
A8: 2418 | B8: !EM PROCESSO DE DESATIVACAO! DOBRADICA EM ACO/FERRO, 3" X 2 1/2", E= 1,2 A 1,8 MM, SEM ANEL, CROMADO OU ZINCADO, TAMPA BOLA, COM PARAFUSOS | C8: UN | D8: C | E8: 13,00
A9: 3378 | B9: !EM PROCESSO DE DESATIVACAO! HASTE DE ATERRAMENTO EM ACO COM 3,00 M DE COMPRIMENTO E DN = 3/4", REVESTIDA COM BAIXA CAMADA DE COBRE, SEM CONECTOR | C9: UN | D9: CR | E9: 93,98
A10: 3380 | B10: !EM PROCESSO DE DESATIVACAO! HASTE DE ATERRAMENTO EM ACO COM 3,00 M DE COMPRIMENTO E DN = 5/8", REVESTIDA COM BAIXA CAMADA DE COBRE, COM CONECTOR TIPO GRAMPO | C10: UN | D10: C | E10: 65,79
A11: 3379 | B11: !EM PROCESSO DE DESATIVACAO! HASTE DE ATERRAMENTO EM ACO COM 3,00 M DE COMPRIMENTO E DN = 5/8", REVESTIDA COM BAIXA CAMADA DE COBRE, SEM CONECTOR | C11: UN | D11: CR | E11: 63,52
A12: 615 | B12: !EM PROCESSO DE DESATIVACAO! JANELA BASCULANTE, ACO, COM BATENTE/REQUADRO, 60 X 80 CM (SEM VIDROS) | C12: M2 | D12: AS | E12: 561,08
A13: 606 | B13: !EM PROCESSO DE DESATIVACAO! JANELA DE CORRER, ACO, BATENTE/REQUADRO DE 6 A 14 CM, QUADRICULADA, PINTURA ANTICORROSIVA, SEM VIDRO, BANDEIRA COM BASCULA, 4 FLS, 120 X 150 CM (A X L) | C13: M2 | D13: AS | E13: 881,39
A14: 13382 | B14: !EM PROCESSO DE DESATIVACAO! LUMINARIA FECHADA P/ ILUMINACAO PUBLICA, TIPO ABL 50/F OU EQUIV, P/ LAMPADA A VAPOR DE MERCURIO 400W | C14: UN | D14: AS | E14: 595,34
A15: 11199 | B15: !EM PROCESSO DE DESATIVACAO!JANELA DE CORRER, ACO, BATENTE/REQUADRO DE 6 A 14 CM, COM DIVISAO HORIZ , PINT ANTICORROSIVA, SEM VIDRO, BANDEIRA COM BASCULA, 4 FLS, 120 X 150 CM (A X L) | C15: UN | D15: AS | E15: 1.264,72
A16: 21136 | B16: !EM PROCESSO DESATIVACAO! ELETRODUTO EM ACO GALVANIZADO ELETROLITICO, LEVE, DIAMETRO 1", PAREDE DE 0,90 MM | C16: M | D16: AS | E16: 17,96
A17: 21128 | B17: !EM PROCESSO DESATIVACAO! ELETRODUTO EM ACO GALVANIZADO ELETROLITICO, LEVE, DIAMETRO 3/4", PAREDE DE 0,90 MM | C17: M | D17: AS | E17: 13,90
A18: 21130 | B18: !EM PROCESSO DESATIVACAO! ELETRODUTO EM ACO GALVANIZADO ELETROLITICO, SEMI-PESADO, DIAMETRO 1 1/2", PAREDE DE 1,20 MM | C18: M | D18: AS | E18: 35,11
A19: 21135 | B19: !EM PROCESSO DESATIVACAO! ELETRODUTO EM ACO GALVANIZADO ELETROLITICO, SEMI-PESADO, DIAMETRO 1 1/4", PAREDE DE 1,20 MM | C19: M | D19: AS | E19: 34,56
... A2715: 21106 | B2715: LAMBRI EM ALUMINIO, DE APROXIMADAMENTE 0,6 KG/M, COM APROXIMADAMENTE 168,0 MM DE LARGURA, 6,0 MM DE ALTURA E 6,0 M DE EXTENSAO | C2715: KG | D2715: CR | E2715: 54,32
A2716: 3755 | B2716: LAMPADA DE LUZ MISTA 160 W, BASE E27 (220 V) | C2716: UN | D2716: AS | E2716: 27.3
A2717: 3750 | B2717: LAMPADA DE LUZ MISTA 250 W, BASE E27 (220 V) | C2717: UN | D2717: AS | E2717: 36.71
A2718: 3756 | B2718: LAMPADA DE LUZ MISTA 500 W, BASE E40 (220 V) | C2718: UN | D2718: AS | E2718: 68.6
A2719: 39377 | B2719: LAMPADA FLUORESCENTE COMPACTA BRANCA 135 W, BASE E40 (127/220 V) | C2719: UN | D2719: AS | E2719: 203,22
