Workbook
Name \: #REF!
Name \: #REF!
Name \0: '[1]#REF'!#REF!
Name \0: '[2]#REF'!#REF!
Name \1: '[1]#REF'!#REF!
Name \11200701: #REF!
Name \11200702: #REF!
Name \11200703: #REF!
Name \11200704: #REF!
Name \1200701: #REF!
Name \1200702: #REF!
Name \1200703: #REF!
Name \1200704: #REF!
Name \1200705: #REF!
Name \1200706: #REF!
Name \1200707: #REF!
Name \1200708: #REF!
Name \1200709: #REF!
Name \1200710: #REF!
Name \1200711: #REF!
Name \1200712: #REF!
Name \a: '[1]#REF'!#REF!
Name \a: '[2]#REF'!#REF!
Name \a1: '[1]#REF'!#REF!
Name __________________________pi2: #REF!
Name __________________________pi2: #REF!
Name _________________________pi2: #REF!
Name _________________________pi2: #REF!
Name ________________________PI1: #REF!
Name ________________________PI1: #REF!
Name _______________________PI1: #REF!
Name _______________________PI1: #REF!
Name _______________________pi2: #REF!
Name _______________________pi2: #REF!
Name ______________________PI1: #REF!
Name ______________________PI1: #REF!
Name ______________________pi2: #REF!
Name ______________________pi2: #REF!
Name _____________________PI1: #REF!
Name _____________________PI1: #REF!
Name _____________________pi2: #REF!
Name _____________________pi2: #REF!
Name ____________________PI1: #REF!
Name ____________________PI1: #REF!
Name ____________________pi2: #REF!
Name ____________________pi2: #REF!
Name ___________________PI1: #REF!
Name ___________________PI1: #REF!
Name ___________________pi2: #REF!
Name ___________________pi2: #REF!
Name __________________PI1: #REF!
Name __________________PI1: #REF!
Name __________________pi2: #REF!
Name __________________pi2: #REF!
Name _________________PI1: #REF!
Name _________________PI1: #REF!
Name _________________pi2: #REF!
Name _________________pi2: #REF!
Name ________________PI1: #REF!
Name ________________PI1: #REF!

Sheet ANEXO III
D2: PREFEITURA MUNICIPAL DE SÃO GONÇALO
D3: SECRETARIA MUNICIPAL DE DESENVOLVIMENTO URBANO
B5: OBRAS DE ESTABILIZAÇÃO DE TALUDES NO MUNICÍPIO DE SÃO GONÇALO - RJ
C7: OBRA: | D7: CONTENÇÃO NA RUA HENRIQUE BENTO ESPINOSA | H7: B.D.I. = 25%
C8: BAIRRO: | D8: PITA | H8: Io = maio/22
B9: ANEXO III - PLANILHA ORÇAMENTÁRIA
B10: ITEM | C10: CÓDIGO | D10: DESCRIÇÃO | E10: UNID. | F10: QUANT. | G10: UNITÁRIO | H10: TOTAL
C11: 1 | D11: SERVIÇOS PRELIMINARES
B12: 1.1 | C12: =VLOOKUP(B12,'ANEXO VI'!A:AG,2,FALSE) -> 02.006.0015-A | D12: =(VLOOKUP(B12,'ANEXO VI'!A:AG,4,FALSE)) -> ALUGUEL CONTAINER PARA ESCRITORIO C/WC,MEDINDO 2,20M LARGURA,6,20M COMPRIMENTO E 2,50M ALTURA,CHAPAS ACO C/NERVURAS TRAPEZOIDAIS,ISOLAMENTO TERMO-ACUSTICO FORRO,CHASSIS REFORCADO EPISO COMPENSADO NAVAL,INCL.INST.ELETRICA E HIDRO-SANITARIAS,ACESSORIOS,1 VASO SANITARIO E 1 LAVATORIO,EXCL.TRANSP.(VIDEITEM 04.005.0300),CARGA E DESCARGA(VIDE ITEM 04.013.0015) | E12: =VLOOKUP(C12,emop,3,FALSE) -> UNXMES | F12: =VLOOKUP(B12,'ANEXO VI'!A:AG,3,FALSE) -> 6 | G12: =VLOOKUP(C12,EMOP0522!A:B,2,FALSE)*1.25 -> 875 | H12: =G12*F12 -> 5250 | J12: =G18+G22+G28+G32+G40 -> 125226.19 | K12: =J12/G160 -> 0.036578326 | N12: 73847/001 | O12: ALUGUEL CONTAINER/ESCRIT/WC C/1 VASO/1 LAV/1 MIC/4 CHUV LARG 775,22 =2,20M COMPR=6,20M ALT=2,50M CHAPA ACO NERV TRAPEZ FORROC/ ISOL TERMO-ACUST CHASSIS REFORC PISO COMPENS NAVAL INCL INST ELETR/HIDRO-SANIT EXCL TRANSP/CARGA/DESCARGA | P12: mês | Q12: 775.22 | T12: =H12/$G$160 -> 0.0015335148 | U12: =IF(T12>=4%,"relevancia","falso") -> falso
B13: 1.4 | C13: =VLOOKUP(B13,'ANEXO VI'!A:AG,2,FALSE) -> 02.006.0050-A | D13: =(VLOOKUP(B13,'ANEXO VI'!A:AG,4,FALSE)) -> ALUGUEL DE BANHEIRO QUIMICO,PORTATIL,MEDINDO 2,31M ALTURA X1,56M LARGURA E 1,16M PROFUNDIDADE,INCLUSIVE INSTALACAO E RETIRADA DO EQUIPAMENTO,FORNECIMENTO DE QUIMICA DESODORIZANTE,BACTERICIDA E BACTERIOSTATICA,PAPEL HIGIENICO E VEICULO PROPRIO COM UNIDADE MOVEL DE SUCCAO PARA LIMPEZA | E13: =VLOOKUP(C13,emop,3,FALSE) -> UNXMES | F13: =VLOOKUP(B13,'ANEXO VI'!A:AG,3,FALSE) -> 6 | G13: =VLOOKUP(C13,EMOP0522!A:B,2,FALSE)*1.25 -> 1225 | H13: =G13*F13 -> 7350 | T13: =H13/$G$160 -> 0.0021469207 | U13: =IF(T13>=4%,"relevancia","falso") -> falso
B14: 1.5 | C14: =VLOOKUP(B14,'ANEXO VI'!A:AG,2,FALSE) -> 02.015.0001-A | D14: =(VLOOKUP(B14,'ANEXO VI'!A:AG,4,FALSE)) -> INSTALACAO E LIGACAO PROVISORIA PARA ABASTECIMENTO DE AGUA EESGOTAMENTO SANITARIO EM CANTEIRO DE OBRAS,INCLUSIVE ESCAVACAO,EXCLUSIVE REPOSICAO DA PAVIMENTACAO DO LOGRADOURO PUBLICO | E14: =VLOOKUP(C14,emop,3,FALSE) -> UN | F14: =VLOOKUP(B14,'ANEXO VI'!A:AG,3,FALSE) -> 1 | G14: =VLOOKUP(C14,EMOP0522!A:B,2,FALSE)*1.25 -> 5254.55 | H14: =G14*F14 -> 5254.55 | T14: =H14/$G$160 -> 0.0015348438 | U14: =IF(T14>=4%,"relevancia","falso") -> falso
B15: 1.6 | C15: =VLOOKUP(B15,'ANEXO VI'!A:AG,2,FALSE) -> 02.016.0001-A | D15: =(VLOOKUP(B15,'ANEXO VI'!A:AG,4,FALSE)) -> INSTALACAO E LIGACAO PROVISORIA DE ALIMENTACAO DE ENERGIA ELETRICA,EM BAIXA TENSAO,PARA CANTEIRO DE OBRAS,M3-CHAVE 100A,CARGA 3KW,20CV,EXCLUSIVE O FORNECIMENTO DO MEDIDOR | E15: =VLOOKUP(C15,emop,3,FALSE) -> UN | F15: =VLOOKUP(B15,'ANEXO VI'!A:AG,3,FALSE) -> 1 | G15: =VLOOKUP(C15,EMOP0522!A:B,2,FALSE)*1.25 -> 2807.125 | H15: =G15*F15 -> 2807.125 | N15: 73960/001 | O15: INSTAL/LIGACAO PROVISORIA ELETRICA BAIXA TENSAO P/CANT OBRA OBRA,M3-CHAVE 100A CARGA 3KWH,20CV EXCL FORN MEDIDOR | P15: UM | Q15: 1297.14 | T15: =H15/$G$160 -> 0.00081995574 | U15: =IF(T15>=4%,"relevancia","falso") -> falso
B16: 1.7 | C16: =VLOOKUP(B16,'ANEXO VI'!A:AG,2,FALSE) -> 02.020.0001-A | D16: =(VLOOKUP(B16,'ANEXO VI'!A:AG,4,FALSE)) -> PLACA DE IDENTIFICACAO DE OBRA PUBLICA,INCLUSIVE PINTURA E SUPORTES DE MADEIRA.FORNECIMENTO E COLOCACAO | E16: =VLOOKUP(C16,emop,3,FALSE) -> M2 | F16: =VLOOKUP(B16,'ANEXO VI'!A:AG,3,FALSE) -> 6 | G16: =VLOOKUP(C16,EMOP0522!A:B,2,FALSE)*1.25 -> 630.6125 | H16: =G16*F16 -> 3783.675 | N16: 74209/001 | O16: PLACA DE OBRA EM CHAPA DE ACO GALVANIZADO | P16: m2 | Q16: 380.27 | T16: =H16/$G$160 -> 0.0011052041 | U16: =IF(T16>=4%,"relevancia","falso") -> falso
B17: 1.8 | C17: =VLOOKUP(B17,'ANEXO VI'!A:AG,2,FALSE) -> 02.003.0001-B | D17: =(VLOOKUP(B17,'ANEXO VI'!A:AG,4,FALSE)) -> TAPUME DE VEDACAO OU PROTECAO,EXECUTADO COM TABUAS DE MADEIRA DE 3ª DE 1"X9" E 1"X12" PREGADAS EM PECAS DE MADEIRA DE 3ªDE 3"X3" VERTICAIS A CADA 1,50M,EXCLUSIVE PINTURA | E17: =VLOOKUP(C17,emop,3,FALSE) -> M2 | F17: =VLOOKUP(B17,'ANEXO VI'!A:AG,3,FALSE) -> 66 | G17: =VLOOKUP(C17,EMOP0522!A:B,2,FALSE)*1.25 -> 124.5 | H17: =G17*F17 -> 8217 | N17: 74209/001 | O17: PLACA DE OBRA EM CHAPA DE ACO GALVANIZADO | P17: m2 | Q17: 380.27 | T17: =H17/$G$160 -> 0.0024001697 | U17: =IF(T17>=4%,"relevancia","falso") -> falso
F18: Total de Serviços Preliminares : | G18: =SUM(H12:H17) -> 32662.35 | U18: =IF(T18>=4%,"relevancia","falso") -> falso
C19: 2 | D19: TOPOGRAFIA | U19: =IF(T19>=4%,"relevancia","falso") -> falso
B20: 2.1 | C20: =VLOOKUP(B20,'ANEXO VI'!A:AG,2,FALSE) -> 01.016.0070-A | D20: =(VLOOKUP(B20,'ANEXO VI'!A:AG,4,FALSE)) -> MOBILIZACAO E DESMOBILIZACAO DE EQUIPE E EQUIPAMENTO DE TOPOGRAFIA COM DESLOCAMENTO SUPERIOR A 20KM,MEDIDO POR KM EXCEDENTE,A PARTIR DA CIDADE DO RIO DE JANEIRO (KM 0 DA AV.BRASIL) | E20: =VLOOKUP(C20,emop,3,FALSE) -> KM | F20: =VLOOKUP(B20,'ANEXO VI'!A:AG,3,FALSE) -> 20 | G20: =VLOOKUP(C20,EMOP0522!A:B,2,FALSE)*1.25 -> 8.1625 | H20: =G20*F20 -> 163.25 | T20: =H20/$G$160 -> 4.7685007e-05 | U20: =IF(T20>=4%,"relevancia","falso") -> falso
B21: 2.2 | C21: =VLOOKUP(B21,'ANEXO VI'!A:AG,2,FALSE) -> 01.016.0080-A | D21: =(VLOOKUP(B21,'ANEXO VI'!A:AG,4,FALSE)) -> LEVANTAMENTO PLANIALTIMETRICO CADASTRAL DE AREA URBANA OU SUBURBANA,DESTINADA A REGULARIZACAO FUNDIARIA,PROJETOS VIARIOSE DE INFRAESTRUTURA,URBANIZACAO E ASSEMELHADOS,UTILIZANDO POLIGONAL III PAC,DESENHO NA ESCALA DE 1:250 A 1:100 EM AREASMEDIANAMENTE OCUPADAS(ATE 50% DAS QUADRAS)ATE 3000M2 | E21: =VLOOKUP(C21,emop,3,FALSE) -> UN | F21: =VLOOKUP(B21,'ANEXO VI'!A:AG,3,FALSE) -> 1 | G21: =VLOOKUP(C21,EMOP0522!A:B,2,FALSE)*1.25 -> 8307.0375 | H21: =G21*F21 -> 8307.0375 | T21: =H21/$G$160 -> 0.0024264695 | U21: =IF(T21>=4%,"relevancia","falso") -> falso
E22: Total de Topografia : | G22: =SUM(H20:H21) -> 8470.2875 | U22: =IF(T22>=4%,"relevancia","falso") -> falso
C23: 3 | D23: SONDAGEM | U23: =IF(T23>=4%,"relevancia","falso") -> falso
B24: 3.1 | C24: =VLOOKUP(B24,'ANEXO VI'!A:AG,2,FALSE) -> 01.003.0001-A | D24: =(VLOOKUP(B24,'ANEXO VI'!A:AG,4,FALSE)) -> SONDAGEM A PERCUSSAO,EM TERRENO COMUM,COM ENSAIO DE PENETRACAO,DIAMETRO 3",INCLUSIVE DESLOCAMENTO DENTRO DO CANTEIRO E INSTALACAO DA SONDA EM CADA FURO | E24: =VLOOKUP(C24,emop,3,FALSE) -> M | F24: =VLOOKUP(B24,'ANEXO VI'!A:AG,3,FALSE) -> 48 | G24: =VLOOKUP(C24,EMOP0522!A:B,2,FALSE)*1.25 -> 133.9375 | H24: =G24*F24 -> 6429 | T24: =H24/$G$160 -> 0.0018778984 | U24: =IF(T24>=4%,"relevancia","falso") -> falso
B25: 3.2 | C25: =VLOOKUP(B25,'ANEXO VI'!A:AG,2,FALSE) -> 01.004.0004-A | D25: =(VLOOKUP(B25,'ANEXO VI'!A:AG,4,FALSE)) -> SONDAGEM ROTATIVA COM COROA DE DIAMANTE,EM ALTERACAO DE ROCHA,DIAMETRO NWG(75MM),INCLUSIVE DESLOCAMENTO DENTRO DO CANTEIRO E INSTALACAO DA SONDA EM CADA FURO | E25: =VLOOKUP(C25,emop,3,FALSE) -> M | F25: =VLOOKUP(B25,'ANEXO VI'!A:AG,3,FALSE) -> 20 | G25: =VLOOKUP(C25,EMOP0522!A:B,2,FALSE)*1.25 -> 579.9 | H25: =G25*F25 -> 11598 | T25: =H25/$G$160 -> 0.0033877532 | U25: =IF(T25>=4%,"relevancia","falso") -> falso
B26: 3.3 | C26: =VLOOKUP(B26,'ANEXO VI'!A:AG,2,FALSE) -> 01.004.0015-A | D26: =(VLOOKUP(B26,'ANEXO VI'!A:AG,4,FALSE)) -> SONDAGEM ROTATIVA COM COROA DE DIAMANTE,EM ROCHA SA,DIAMETRONWG(75MM),INCLUSIVE DESLOCAMENTO DENTRO DO CANTEIRO E INSTALACAO DA SONDA EM CADA FURO | E26: =VLOOKUP(C26,emop,3,FALSE) -> M | F26: =VLOOKUP(B26,'ANEXO VI'!A:AG,3,FALSE) -> 20 | G26: =VLOOKUP(C26,EMOP0522!A:B,2,FALSE)*1.25 -> 973.5 | H26: =G26*F26 -> 19470 | T26: =H26/$G$160 -> 0.005687149 | U26: =IF(T26>=4%,"relevancia","falso") -> falso
B27: 3.4 | C27: =VLOOKUP(B27,'ANEXO VI'!A:AG,2,FALSE) -> 01.009.0050-A | D27: =(VLOOKUP(B27,'ANEXO VI'!A:AG,4,FALSE)) -> MOBILIZACAO E DESMOBILIZACAO DE EQUIPAMENTO E EQUIPE DE SONDAGEM E PERFURACAO ROTATIVA,COM TRANSPORTE ATE 50KM | E27: =VLOOKUP(C27,emop,3,FALSE) -> UN | F27: =VLOOKUP(B27,'ANEXO VI'!A:AG,3,FALSE) -> 1 | G27: =VLOOKUP(C27,EMOP0522!A:B,2,FALSE)*1.25 -> 12798.725 | H27: =G27*F27 -> 12798.725 | N27: 72733 | O27: MOBILIZACAO E DESMOBILIZACAO DE EQUIPAMENTO DE SONDAGEM A PERCUSSAO | P27: UN | Q27: 484.63 | T27: =H27/$G$160 -> 0.0037384826 | U27: =IF(T27>=4%,"relevancia","falso") -> falso
F28: Total de Sondagem : | G28: =SUM(H24:H27) -> 50295.725 | U28: =IF(T28>=4%,"relevancia","falso") -> falso
C29: 4 | D29: SINALIZAÇÃO | U29: =IF(T29>=4%,"relevancia","falso") -> falso
B30: 4.1 | C30: =VLOOKUP(B30,'ANEXO VI'!A:AG,2,FALSE) -> 02.020.0005-A | D30: =(VLOOKUP(B30,'ANEXO VI'!A:AG,4,FALSE)) -> BARRAGEM DE BLOQUEIO DE OBRA NA VIA PUBLICA,DE ACORDO COM ARESOLUCAO DA PREFEITURA-RJ,COMPREENDENDO FORNECIMENTO,COLOCACAO E PINTURA DOS SUPORTES DE MADEIRA COM REAPROVEITAMENTO DO CONJUNTO 40 (QUARENTA) VEZES | E30: =VLOOKUP(C30,emop,3,FALSE) -> M | F30: =VLOOKUP(B30,'ANEXO VI'!A:AG,3,FALSE) -> 12 | G30: =VLOOKUP(C30,EMOP0522!A:B,2,FALSE)*1.25 -> 4.1375 | H30: =G30*F30 -> 49.65 | T30: =H30/$G$160 -> 1.4502668e-05 | U30: =IF(T30>=4%,"relevancia","falso") -> falso
B31: 4.2 | C31: =VLOOKUP(B31,'ANEXO VI'!A:AG,2,FALSE) -> 02.030.0005-A | D31: =(VLOOKUP(B31,'ANEXO VI'!A:AG,4,FALSE)) -> PLACA DE SINALIZACAO PREVENTIVA PARA OBRA NA VIA PUBLICA,DEACORDO COM A RESOLUCAO DA PREFEITURA-RJ, COMPREENDENDO FORNECIMENTO E PINTURA DA PLACA E DOS SUPORTES DE MADEIRA.FORNECIMENTO E COLOCACAO | E31: =VLOOKUP(C31,emop,3,FALSE) -> UN | F31: =VLOOKUP(B31,'ANEXO VI'!A:AG,3,FALSE) -> 30 | G31: =VLOOKUP(C31,EMOP0522!A:B,2,FALSE)*1.25 -> 112.3125 | H31: =G31*F31 -> 3369.375 | T31: =H31/$G$160 -> 0.00098418787 | U31: =IF(T31>=4%,"relevancia","falso") -> falso
E32: Total de Sinalização : | G32: =SUM(H30:H31) -> 3419.025 | U32: =IF(T32>=4%,"relevancia","falso") -> falso
C33: 5 | D33: LIMPEZA DO TERRENO | U33: =IF(T33>=4%,"relevancia","falso") -> falso
B34: 5.1 | C34: =VLOOKUP(B34,'ANEXO VI'!A:AG,2,FALSE) -> 01.005.0004-A | D34: =(VLOOKUP(B34,'ANEXO VI'!A:AG,4,FALSE)) -> PREPARO MANUAL DE TERRENO,COMPREENDENDO ACERTO,RASPAGEM EVENTUAL ATE 0.30M DE PROFUNDIDADE E AFASTAMENTO LATERAL DO MATERIAL EXCEDENTE,INCLUSIVE COMPACTACAO MANUAL | E34: =VLOOKUP(C34,emop,3,FALSE) -> M2 | F34: =VLOOKUP(B34,'ANEXO VI'!A:AG,3,FALSE) -> 292.25 | G34: =VLOOKUP(C34,EMOP0522!A:B,2,FALSE)*1.25 -> 19.5625 | H34: =G34*F34 -> 5717.1406 | T34: =H34/$G$160 -> 0.0016699656 | U34: =IF(T34>=4%,"relevancia","falso") -> falso
B35: 5.2 | C35: =VLOOKUP(B35,'ANEXO VI'!A:AG,2,FALSE) -> 01.005.0005-A | D35: =(VLOOKUP(B35,'ANEXO VI'!A:AG,4,FALSE)) -> ROCADO EM VEGETACAO ESPESSA,COM EMPILHAMENTO LATERAL E QUEIMA DOS RESIDUOS | E35: =VLOOKUP(C35,emop,3,FALSE) -> M2 | F35: =VLOOKUP(B35,'ANEXO VI'!A:AG,3,FALSE) -> 87.675 | G35: =VLOOKUP(C35,EMOP0522!A:B,2,FALSE)*1.25 -> 1.1625 | H35: =G35*F35 -> 101.92219 | N35: 73903/001 | O35: LIMPEZA SUPERFICIAL DA CAMADA VEGETAL EM JAZIDA | P35: M2 | Q35: 0.49 | T35: =H35/$G$160 -> 2.9771272e-05 | U35: =IF(T35>=4%,"relevancia","falso") -> falso
B36: 5.3 | C36: =VLOOKUP(B36,'ANEXO VI'!A:AG,2,FALSE) -> 04.005.0124-A | D36: =(VLOOKUP(B36,'ANEXO VI'!A:AG,4,FALSE)) -> TRANSPORTE DE CARGA DE QUALQUER NATUREZA,EXCLUSIVE AS DESPESAS DE CARGA E DESCARGA,TANTO DE ESPERA DO CAMINHAO COMO DO SERVENTE OU EQUIPAMENTO AUXILIAR,A VELOCIDADE MEDIA DE 25KM/H,EM CAMINHAO BASCULANTE A OLEO DIESEL,COM CAPACIDADE UTIL DE8T | E36: =VLOOKUP(C36,emop,3,FALSE) -> T X KM | F36: =VLOOKUP(B36,'ANEXO VI'!A:AG,3,FALSE) -> 2979.3477 | G36: =VLOOKUP(C36,EMOP0522!A:B,2,FALSE)*1.25 -> 2.4625 | H36: =G36*F36 -> 7336.6438 | T36: =H36/$G$160 -> 0.0021430194 | U36: =IF(T36>=4%,"relevancia","falso") -> falso
B37: 5.4 | C37: =VLOOKUP(B37,'ANEXO VI'!A:AG,2,FALSE) -> 04.006.0008-1 | D37: =(VLOOKUP(B37,'ANEXO VI'!A:AG,4,FALSE)) -> CARGA MANUAL E DESCARGA MECANICA DE MATERIAL A GRANEL(AGREGADOS,PEDRA-DE-MAO,PARALELOS,TERRA E ESCOMBROS),COMPREENDENDOOS TEMPOS PARA CARGA,DESCARGA E MANOBRAS DO CAMINHAO BASCULANTE A OLEO DIESEL,COM CAPACIDADE UTIL DE 8T,EMPREGANDO 2 SERVENTES NA CARGA | E37: =VLOOKUP(C37,emop,3,FALSE) -> T | F37: =VLOOKUP(B37,'ANEXO VI'!A:AG,3,FALSE) -> 149.0475 | G37: =VLOOKUP(C37,EMOP0522!A:B,2,FALSE)*1.25 -> 45.5125 | H37: =G37*F37 -> 6783.5243 | T37: =H37/$G$160 -> 0.0019814542 | U37: =IF(T37>=4%,"relevancia","falso") -> falso
B38: 5.5 | C38: =VLOOKUP(B38,'ANEXO VI'!A:AG,2,FALSE) -> 05.001.0173-A | D38: =(VLOOKUP(B38,'ANEXO VI'!A:AG,4,FALSE)) -> TRANSPORTE HORIZONTAL DE MATERIAL DE 1ªCATEGORIA OU ENTULHO,EM CARRINHOS,A 60,00M DE DISTANCIA,INCLUSIVE CARGA A PA | E38: =VLOOKUP(C38,emop,3,FALSE) -> M3 | F38: =VLOOKUP(B38,'ANEXO VI'!A:AG,3,FALSE) -> 113.9775 | G38: =VLOOKUP(C38,EMOP0522!A:B,2,FALSE)*1.25 -> 45.9875 | H38: =G38*F38 -> 5241.5403 | T38: =H38/$G$160 -> 0.0015310437 | U38: =IF(T38>=4%,"relevancia","falso") -> falso
B39: 5.6 | C39: =VLOOKUP(B39,'ANEXO VI'!A:AG,2,FALSE) -> 05.001.0186-A | D39: =(VLOOKUP(B39,'ANEXO VI'!A:AG,4,FALSE)) -> TRANSPORTE DE MATERIAIS ENCOSTA ABAIXO,SERVICO INTEIRAMENTEMANUAL,INCLUSIVE CARGA E DESCARGA | E39: =VLOOKUP(C39,emop,3,FALSE) -> TXM | F39: =VLOOKUP(B39,'ANEXO VI'!A:AG,3,FALSE) -> 4471.425 | G39: =VLOOKUP(C39,EMOP0522!A:B,2,FALSE)*1.25 -> 1.1625 | H39: =G39*F39 -> 5198.0316 | T39: =H39/$G$160 -> 0.0015183349 | U39: =IF(T39>=4%,"relevancia","falso") -> falso
E40: Total da Limpeza do Terreno : | G40: =SUM(H34:H39) -> 30378.803 | U40: =IF(T40>=4%,"relevancia","falso") -> falso
C41: 6 | D41: DRENAGEM | U41: =IF(T41>=4%,"relevancia","falso") -> falso
B42: 6.1 | C42: =VLOOKUP(B42,'ANEXO VI'!A:AG,2,FALSE) -> 03.001.0001-B | D42: =(VLOOKUP(B42,'ANEXO VI'!A:AG,4,FALSE)) -> ESCAVACAO MANUAL DE VALA/CAVA EM MATERIAL DE 1ª CATEGORIA (A(AREIA,ARGILA OU PICARRA),ATE 1,50M DE PROFUNDIDADE,EXCLUSIVE ESCORAMENTO E ESGOTAMENTO | E42: =VLOOKUP(C42,emop,3,FALSE) -> M3 | F42: =VLOOKUP(B42,'ANEXO VI'!A:AG,3,FALSE) -> 219.2805 | G42: =VLOOKUP(C42,EMOP0522!A:B,2,FALSE)*1.25 -> 66.5375 | H42: =G42*F42 -> 14590.376 | N42: 73965/010 | O42: ESCAVACAO MANUAL DE VALA EM MATERIAL DE 1A CATEGORIA ATE 1,5M EXCLUIN DO ESGOTAMENTO / ESCORAMENTO | P42: M3 | Q42: 36.24 | T42: =H42/$G$160 -> 0.0042618205 | U42: =IF(T42>=4%,"relevancia","falso") -> falso
B43: 6.2 | C43: =VLOOKUP(B43,'ANEXO VI'!A:AG,2,FALSE) -> 04.005.0124-A | D43: =(VLOOKUP(B43,'ANEXO VI'!A:AG,4,FALSE)) -> TRANSPORTE DE CARGA DE QUALQUER NATUREZA,EXCLUSIVE AS DESPESAS DE CARGA E DESCARGA,TANTO DE ESPERA DO CAMINHAO COMO DO SERVENTE OU EQUIPAMENTO AUXILIAR,A VELOCIDADE MEDIA DE 25KM/H,EM CAMINHAO BASCULANTE A OLEO DIESEL,COM CAPACIDADE UTIL DE8T | E43: =VLOOKUP(C43,emop,3,FALSE) -> T X KM | F43: =VLOOKUP(B43,'ANEXO VI'!A:AG,3,FALSE) -> 9692.1981 | G43: =VLOOKUP(C43,EMOP0522!A:B,2,FALSE)*1.25 -> 2.4625 | H43: =G43*F43 -> 23867.038 | T43: =H43/$G$160 -> 0.0069715152 | U43: =IF(T43>=4%,"relevancia","falso") -> falso
...

Sheet ANEXO V
C2: PREFEITURA MUNICIPAL DE SÃO GONÇALO
C3: SECRETARIA MUNICIPAL DE DESENVOLVIMENTO URBANO
B7: OBRA: | C7: ='ANEXO III'!D7 -> CONTENÇÃO NA RUA HENRIQUE BENTO ESPINOSA | K7: ='ANEXO III'!H7 -> B.D.I. = 25%
B8: BAIRRO: | C8: PITA | K8: ='ANEXO III'!H8 -> Io = maio/22
B9: ANEXO V - CRONOGRAMA FÍSICO-FINANCEIRO
B10: SERVIÇOS | E10: VALOR DO INVESTIMENTO | G10: 1°MÊS | H10: 2° MÊS | I10: 3°MÊS | J10: 4° MÊS | K10: 5° MÊS | L10: 6°MÊS
A11: =1 -> 1 | B11: ='ANEXO III'!D11 -> SERVIÇOS PRELIMINARES | E11: ='ANEXO III'!G18 -> 32662.35 | F11: 6 meses
F12: =SUM(G12:L12) -> 1 | G12: 0.4 | H12: 0.15 | I12: 0.15 | J12: 0.15 | K12: 0.15
F13: =SUM(G13:L13) -> 32662.35 | G13: =G12*$E$11 -> 13064.94 | H13: =H12*$E$11 -> 4899.3525 | I13: =I12*$E$11 -> 4899.3525 | J13: =J12*$E$11 -> 4899.3525 | K13: =K12*$E$11 -> 4899.3525
A14: =A11+1 -> 2 | B14: ='ANEXO III'!D19 -> TOPOGRAFIA | E14: ='ANEXO III'!G22 -> 8470.2875 | F14: 6 meses
F15: =SUM(G15:L15) -> 1 | G15: 1
F16: =SUM(G16:L16) -> 8470.2875 | G16: =E14*G15 -> 8470.2875
A17: =A14+1 -> 3 | B17: ='ANEXO III'!D23 -> SONDAGEM | E17: ='ANEXO III'!G28 -> 50295.725 | F17: 6 meses
F18: =SUM(G18:L18) -> 1 | G18: 1
F19: =SUM(G19:L19) -> 50295.725 | G19: =G18*E17 -> 50295.725
A20: =A17+1 -> 4 | B20: ='ANEXO III'!D29 -> SINALIZAÇÃO | E20: ='ANEXO III'!G32 -> 3419.025 | F20: 6 meses
F21: =SUM(G21:L21) -> 1 | G21: 0.2 | H21: 0.2 | I21: 0.2 | J21: 0.2 | K21: 0.15 | L21: 0.05
F22: =SUM(G22:L22) -> 3419.025 | G22: =G21*$E$20 -> 683.805 | H22: =H21*$E$20 -> 683.805 | I22: =I21*$E$20 -> 683.805 | J22: =J21*$E$20 -> 683.805 | K22: =K21*$E$20 -> 512.85375 | L22: =L21*$E$20 -> 170.95125
A23: =A20+1 -> 5 | B23: ='ANEXO III'!D33 -> LIMPEZA DO TERRENO | E23: ='ANEXO III'!G40 -> 30378.803 | F23: 6 meses
F24: =SUM(G24:L24) -> 1 | G24: 1
F25: =SUM(G25:L25) -> 30378.803 | G25: =G24*E23 -> 30378.803
A26: =A23+1 -> 6 | B26: SERVIÇOS COMPLEMENTÁRES | E26: ='ANEXO III'!G61 -> 430141.57 | F26: 6 meses
F27: =SUM(G27:L27) -> 1 | G27: 0.1 | H27: 0.2 | I27: 0.2 | J27: 0.35 | K27: 0.15
F28: =SUM(G28:L28) -> 430141.57 | G28: =G27*$E$26 -> 43014.157 | H28: =H27*$E$26 -> 86028.315 | I28: =I27*$E$26 -> 86028.315 | J28: =J27*$E$26 -> 150549.55 | K28: =K27*$E$26 -> 64521.236
A29: =A26+1 -> 7 | B29: ='ANEXO III'!D62 -> DRENOS | E29: ='ANEXO III'!G65 -> 6044.59 | F29: 6 meses
F30: =SUM(G30:L30) -> 1 | H30: 0.5 | I30: 0.5
F31: =SUM(G31:L31) -> 6044.59 | H31: =H30*$E$29 -> 3022.295 | I31: =I30*$E$29 -> 3022.295
A32: =A29+1 -> 8 | B32: ='ANEXO III'!D66 -> CORTINA ATIRANTADA | E32: ='ANEXO III'!G97 -> 1410065.7 | F32: 6 meses
F33: =SUM(G33:L33) -> 1 | H33: 0.25 | I33: 0.3 | J33: 0.3 | K33: 0.15
F34: =SUM(G34:L34) -> 1410065.7 | H34: =H33*$E$32 -> 352516.42 | I34: =I33*$E$32 -> 423019.7 | J34: =J33*$E$32 -> 423019.7 | K34: =K33*$E$32 -> 211509.85
A35: =A32+1 -> 9 | B35: ='ANEXO III'!D98 -> SOLO GRAMPEADO | E35: ='ANEXO III'!G107 -> 1003848.8 | F35: 6 meses
F36: =SUM(G36:L36) -> 1 | H36: 0.2 | I36: 0.4 | J36: 0.3 | K36: 0.1
F37: =SUM(G37:L37) -> 1003848.8 | H37: =H36*$E$35 -> 200769.76 | I37: =I36*$E$35 -> 401539.51 | J37: =J36*$E$35 -> 301154.63 | K37: =K36*$E$35 -> 100384.88
A38: =A23+1 -> 6 | B38: ='ANEXO III'!D108 -> VIGA ESTAQUEADA | E38: ='ANEXO III'!G118 -> 13175.692 | F38: 6 meses
F39: =SUM(G39:L39) -> 1 | I39: 0.5 | J39: 0.5
F40: =SUM(G40:L40) -> 13175.692 | I40: =I39*$E$38 -> 6587.846 | J40: =J39*$E$38 -> 6587.846
A41: =A26+1 -> 7 | B41: ='ANEXO III'!D119 -> PASSEIO E PAVIMENTO | E41: ='ANEXO III'!G135 -> 124755.27 | F41: 6 meses
F42: =SUM(G42:L42) -> 1 | K42: 0.6 | L42: 0.4
F43: =SUM(G43:L43) -> 124755.27 | K43: =K42*E41 -> 74853.164 | L43: =L42*E41 -> 49902.11
A44: =A29+1 -> 8 | B44: ='ANEXO III'!D136 -> MURO DE ALVENARIA EXISTENTE | E44: ='ANEXO III'!G144 -> 16414.838 | F44: 6 meses
...

Sheet ANEXO VI
F1: PREFEITURA MUNICIPAL DE SÃO GONÇALO
F2: SECRETARIA MUNICIPAL DE DESENVOLVIMENTO URBANO
F4: OBRA: | G4: ='ANEXO III'!D7 -> CONTENÇÃO NA RUA HENRIQUE BENTO ESPINOSA | AB4: ='ANEXO III'!H7 -> B.D.I. = 25%
F5: BAIRRO: | G5: ='ANEXO III'!D8 -> PITA | AB5: ='ANEXO III'!H8 -> Io = maio/22
E7: RESUMO DOS SERVIÇOS
E9: limpeza do terreno | K9: ==> | L9: =L12+L13 -> 292.25 | M9: m²
E10: ESCADA | K10: ==> | L10: 60 | M10: m²
E11: cortina atirantada | K11: ==> | L11: 157.5 | M11: m²
E12: solo grampeado/concr. projetado | K12: ==> | L12: 141.25 | M12: m²
E13: solo ancorado com biomanta | K13: ==> | L13: 151 | M13: m²
A14: ANEXO VI - MEMÓRIA DE CÁLCULO
D18: 1 - SERVIÇOS PRELIMINARES
A20: 1.1 | B20: =F21 -> 02.006.0015-A | C20: =AD21 -> 6 | D20: =VLOOKUP(F21,emop,2,FALSE) -> ALUGUEL CONTAINER PARA ESCRITORIO C/WC,MEDINDO 2,20M LARGURA,6,20M COMPRIMENTO E 2,50M ALTURA,CHAPAS ACO C/NERVURAS TRAPEZOIDAIS,ISOLAMENTO TERMO-ACUSTICO FORRO,CHASSIS REFORCADO EPISO COMPENSADO NAVAL,INCL.INST.ELETRICA E HIDRO-SANITARIAS,ACESSORIOS,1 VASO SANITARIO E 1 LAVATORIO,EXCL.TRANSP.(VIDEITEM 04.005.0300),CARGA E DESCARGA(VIDE ITEM 04.013.0015)
B21: =F22 -> Escritório | C21: =AD22 -> 0 | E21: Cód.: | F21: 02.006.0015-A | AB21: Total = | AD21: =T22 -> 6 | AG21: =VLOOKUP(F21,emop,3,FALSE) -> UNXMES
B22: =F23 -> 0 | C22: =AD23 -> 0 | F22: Escritório | I22: ==> | K22: 1 | M22: 0 | N22: x | O22: 6 | Q22: meses | S22: = | T22: =O22*K22 -> 6 | V22: =AG21 -> UNXMES
B23: =#REF! -> #REF! | C23: =#REF! -> #REF!
A24: 1.4 | B24: =F25 -> 02.006.0050-A | C24: =AD25 -> 6 | D24: =VLOOKUP(F25,emop,2,FALSE) -> ALUGUEL DE BANHEIRO QUIMICO,PORTATIL,MEDINDO 2,31M ALTURA X1,56M LARGURA E 1,16M PROFUNDIDADE,INCLUSIVE INSTALACAO E RETIRADA DO EQUIPAMENTO,FORNECIMENTO DE QUIMICA DESODORIZANTE,BACTERICIDA E BACTERIOSTATICA,PAPEL HIGIENICO E VEICULO PROPRIO COM UNIDADE MOVEL DE SUCCAO PARA LIMPEZA
B25: =F26 -> sanitários p/ frentes de serviço ==> | C25: =AD26 -> 0 | E25: Cód.: | F25: 02.006.0050-A | AB25: Total = | AD25: =V26 -> 6 | AG25: =VLOOKUP(F25,emop,3,FALSE) -> UNXMES
B26: =F27 -> 0 | C26: =AD27 -> 0 | F26: sanitários p/ frentes de serviço ==> | M26: 1 | O26: 0 | P26: x | Q26: 6 | S26: meses | U26: = | V26: =Q26*M26 -> 6 | X26: =AG25 -> UNXMES
B27: =F28 -> 0 | C27: =AD28 -> 0
A28: 1.5 | B28: =F29 -> 02.015.0001-A | C28: =AD29 -> 1 | D28: =VLOOKUP(F29,emop,2,FALSE) -> INSTALACAO E LIGACAO PROVISORIA PARA ABASTECIMENTO DE AGUA EESGOTAMENTO SANITARIO EM CANTEIRO DE OBRAS,INCLUSIVE ESCAVACAO,EXCLUSIVE REPOSICAO DA PAVIMENTACAO DO LOGRADOURO PUBLICO
B29: =F30 -> 0 | C29: =AD30 -> 0 | E29: Cód.: | F29: 02.015.0001-A | AB29: Total = | AD29: 1 | AG29: =VLOOKUP(F29,emop,3,FALSE) -> UN
B30: =F31 -> 0 | C30: =AD31 -> 0
A31: 1.6 | B31: =F32 -> 02.016.0001-A | C31: =AD32 -> 1 | D31: =VLOOKUP(F32,emop,2,FALSE) -> INSTALACAO E LIGACAO PROVISORIA DE ALIMENTACAO DE ENERGIA ELETRICA,EM BAIXA TENSAO,PARA CANTEIRO DE OBRAS,M3-CHAVE 100A,CARGA 3KW,20CV,EXCLUSIVE O FORNECIMENTO DO MEDIDOR
B32: =F33 -> 0 | C32: =AD33 -> 0 | E32: Cód.: | F32: 02.016.0001-A | AB32: Total = | AD32: 1 | AG32: =VLOOKUP(F32,emop,3,FALSE) -> UN
B33: =F34 -> 0 | C33: =AD34 -> 0
A34: 1.7 | B34: =F35 -> 02.020.0001-A | C34: =AD35 -> 6 | D34: =VLOOKUP(F35,emop,2,FALSE) -> PLACA DE IDENTIFICACAO DE OBRA PUBLICA,INCLUSIVE PINTURA E SUPORTES DE MADEIRA.FORNECIMENTO E COLOCACAO
B35: =F36 -> placas | C35: =AD36 -> 0 | E35: Cód.: | F35: 02.020.0001-A | AB35: Total = | AD35: =Y36 -> 6 | AG35: =VLOOKUP(F35,emop,3,FALSE) -> M2
B36: =F37 -> 0 | C36: =AD37 -> 0 | F36: placas | I36: ==> | M36: 1 | O36: 0 | P36: x | Q36: 2 | S36: m | U36: x | V36: 3 | X36: m = | Y36: =V36*Q36*M36 -> 6 | AA36: =AG35 -> M2
B37: =#REF! -> #REF! | C37: =#REF! -> #REF!
A38: 1.8 | B38: =F39 -> 02.003.0001-B | C38: =AD39 -> 66 | D38: =VLOOKUP(F39,emop,2,FALSE) -> TAPUME DE VEDACAO OU PROTECAO,EXECUTADO COM TABUAS DE MADEIRA DE 3ª DE 1"X9" E 1"X12" PREGADAS EM PECAS DE MADEIRA DE 3ªDE 3"X3" VERTICAIS A CADA 1,50M,EXCLUSIVE PINTURA
B39: =F40 -> tapume | C39: =AD40 -> 0 | E39: Cód.: | F39: 02.003.0001-B | AB39: Total = | AD39: =V41 -> 66 | AG39: =VLOOKUP(F39,emop,3,FALSE) -> M2
B40: =F41 -> tapume | C40: =AD41 -> 0 | F40: tapume | H40: ==> | I40: dimensões do canteiro: | M40: 10 | O40: m | P40: x | Q40: 5 | S40: m
B41: =F42 -> 0 | C41: =AD42 -> 0 | F41: tapume | H41: ==> | I41: 15 | K41: m | L41: x | M41: 2 | O41: lados | P41: x | Q41: 2.2 | S41: m de altura | U41: = | V41: =I41*M41*Q41 -> 66 | X41: =AG39 -> M2
B42: =#REF! -> #REF! | C42: =#REF! -> #REF!
B43: =F44 -> 0 | C43: =AD44 -> 0 | D43: 2 - TOPOGRAFIA
B44: =F45 -> 0 | C44: =AD45 -> 0
A45: 2.1 | B45: =F46 -> 01.016.0070-A | C45: =AD46 -> 20 | D45: =VLOOKUP(F46,emop,2,FALSE) -> MOBILIZACAO E DESMOBILIZACAO DE EQUIPE E EQUIPAMENTO DE TOPOGRAFIA COM DESLOCAMENTO SUPERIOR A 20KM,MEDIDO POR KM EXCEDENTE,A PARTIR DA CIDADE DO RIO DE JANEIRO (KM 0 DA AV.BRASIL)
B46: =F47 -> 0 | C46: =AD47 -> 0 | E46: Cód.: | F46: 01.016.0070-A | AB46: Total = | AD46: 20 | AG46: =VLOOKUP(F46,emop,3,FALSE) -> KM
B47: =F48 -> 0 | C47: =AD48 -> 0
...

Sheet 06.103.9999-A
A1: COMPOSIÇÕES COM PREÇOS DE FEV/2021
A3: CÓDIGO : | B3: 06.103.9999-A | P3: UNIDADE : | R3: m²
A4: NOME : | B4: SOLO ANCORADO COM FORNECIMENTO E INSTALACAO DE CHUMBADORES BIOMANTA ANTIEROSIVA DE FIBRA DE COCO TRIMENSIONAL TIPO TELA SINTEMAX 400TF, FORNECIMENTO, APLICACAO E FIXACAO DE MALHA METALICA DUPLA TORCAO DE ALTA RESISTENCIA. (06.103.9999-A) - Multiplicador: 1.0000
A6: SEQ | B6: NOMENCLATURA | I6: CÓDIGO | K6: UNID | M6: QUANTIDADE | O6: PREÇO | Q6: VALOR
B8: Serviço cotado.
B9: Propostas em anexo.
B10: DATA BASE = SET/2021
B12: DEFLOR | K12: =$R$3 -> m² | M12: 1 | O12: 828 | Q12: =TRUNC(O12*M12,2) -> 828
B13: LESERPA | K13: =$R$3 -> m² | M13: 1 | O13: 912 | Q13: =TRUNC(O13*M13,2) -> 912
B14: ENGETA | K14: =$R$3 -> m² | M14: 1 | O14: 1048.8 | Q14: =TRUNC(O14*M14,2) -> 1048.8
A16: PERCENTUAL/GRUPO 1: | K16: % | M16: 0 | O16: =TRUNC(AVERAGE(Q12:R14),2) -> 929.6 | Q16: =TRUNC((O16*M16)/100,2) -> 0
A19: PERCENTUAL GERAL: | K19: % | M19: 0 | O19: =TRUNC(AVERAGE(Q12:R14),2) -> 929.6 | Q19: =TRUNC((O19*M19)/100,2) -> 0
L23: TOTAL DA COMPOSIÇÃO : | Q23: =TRUNC(AVERAGE(Q12:R14)+Q16+Q19,2) -> 929.6

Sheet ANEXO IV
C2: PREFEITURA MUNICIPAL DE SÃO GONÇALO
C3: SECRETARIA MUNICIPAL DE DESENVOLVIMENTO URBANO
B5: ='ANEXO III'!B5 -> OBRAS DE ESTABILIZAÇÃO DE TALUDES NO MUNICÍPIO DE SÃO GONÇALO - RJ
B8: 01.090.9999-A: ADMINISTRAÇÃO LOCAL DA OBRA | D8: OBRA: | E8: ='ANEXO VI'!G4 -> CONTENÇÃO NA RUA HENRIQUE BENTO ESPINOSA | I8: ='ANEXO III'!H7 -> B.D.I. = 25%
B9: UNIDADE : UN. | D9: BAIRRO: | E9: ='ANEXO VI'!G5 -> PITA | I9: ='ANEXO III'!H8 -> Io = maio/22
B11: ANEXO IV
B12: Código | C12: Descrição | D12: Unid | E12: Meses | F12: Quantidade Operacional | G12: Quantidade | H12: Preço Unitário | I12: Preço Total
C13: MÃO DE OBRA
C14: COORDENAÇÃO
B15: 01.050.0713-A | C15: MAO-DE-OBRA DE ENGENHEIRO OU ARQUITETO, COORDENADOR GERAL DEPROJETOS OU SUPERVISOR DE OBRAS | D15: H | E15: 6 | F15: 0.05 | G15: 1 | H15: =VLOOKUP(B15,EMOP0522!A:B,2,FALSE)*1.25 -> 53361 | I15: =H15*G15*F15*E15 -> 16008.3
B16: 05.105.0139-A | C16: MAO-DE-OBRA DE AUXILIAR DE ESCRITORIO | D16: H | E16: =E15 -> 6 | F16: 1 | G16: 1 | H16: =VLOOKUP(B16,EMOP0522!A:B,2,FALSE)*1.25 -> 4230.6 | I16: =H16*G16*F16*E16 -> 25383.6
C17: EQUIPE DE DESENVOLVIMENTO
B18: 01.050.0716-A | C18: MAO-DE-OBRA DE ENGENHEIRO OU ARQUITETO SENIOR | D18: H | E18: =E16 -> 6 | F18: 0.15 | G18: 1 | H18: =VLOOKUP(B18,EMOP0522!A:B,2,FALSE)*1.25 -> 46400.2 | I18: =H18*G18*F18*E18 -> 41760.18
B19: 05.105.0100-A | C19: MAO-DE-OBRA DE VIGIA | D19: H | E19: =E18 -> 6 | F19: 1 | G19: 1 | H19: =VLOOKUP(B19,EMOP0522!A:B,2,FALSE)*1.25 -> 3522.2 | I19: =H19*G19*F19*E19 -> 21133.2
B20: 05.105.0121-A | C20: MAO-DE-OBRA DE APONTADOR | D20: H | E20: =E19 -> 6 | F20: 1 | G20: 1 | H20: =VLOOKUP(B20,EMOP0522!A:B,2,FALSE)*1.25 -> 5469.2 | I20: =H20*G20*F20*E20 -> 32815.2
B21: 05.105.0126-A | C21: MAO-DE-OBRA DE ENCARREGADO | D21: H | E21: =E20 -> 6 | F21: 1 | G21: 1 | H21: =VLOOKUP(B21,EMOP0522!A:B,2,FALSE)*1.25 -> 6388.8 | I21: =H21*G21*F21*E21 -> 38332.8
C22: EQUIPAMENTOS
B23: 19.001.0038-C | C23: CAMIONETE TIPO PICK-UP C/CABINE E CACAMBA, MOTOR DIESEL 85CV, CAPAC. UTIL DE 4,00M3, INCL. MOTORISTA (CP) | D23: H | E23: =E21 -> 6 | F23: 0.3 | G23: 1 | H23: =VLOOKUP(B23,EMOP0522!A:B,2,FALSE)*1.25 -> 85.575 | I23: =H23*G23*F23*E23 -> 154.035
B24: 19.004.0037-C | C24: VEICULO DE PASSEIO 2 PORTAS, 5 PASSAGEIROS, MOTOR 1.6 A GASOLINA, EXCL. MOTORISTA (CP) | D24: H | E24: =E23 -> 6 | F24: 0.3 | G24: 1 | H24: =VLOOKUP(B24,EMOP0522!A:B,2,FALSE)*1.25 -> 97.9 | I24: =H24*G24*F24*E24 -> 176.22 | L24: ='ANEXO III'!G18+'ANEXO III'!G22+'ANEXO III'!G28+'ANEXO III'!G32+'ANEXO III'!G40+'ANEXO III'!G61+'ANEXO III'!G65+'ANEXO III'!G97+'ANEXO III'!G107+'ANEXO III'!G155 -> 3030332.2
K25: ADMINISTRAÇÃO | L25: 0.0349
B26: TOTAL | I26: =SUM(I15:I25) -> 175763.54 | K26: =#REF! -> #REF!
L27: =L24*L25 -> 105758.59

Sheet EMOP
A1: CODIGO | B1: DESCRIÇÃO | C1: UNID
A2: 01.001.0001-0 | B2: LIMITE DE PLASTICIDADE | C2: UN
A3: 01.001.0001-A | B3: LIMITE DE PLASTICIDADE | C3: UN
A4: 01.001.0002-0 | B4: LIMITE DE LIQUIDEZ | C4: UN
A5: 01.001.0002-A | B5: LIMITE DE LIQUIDEZ | C5: UN
A6: 01.001.0003-0 | B6: LIMITE DE CONTRACAO | C6: UN
A7: 01.001.0003-A | B7: LIMITE DE CONTRACAO | C7: UN
A8: 01.001.0004-0 | B8: ANALISE GRANULOMETRICA SEM SEDIMENTACAO (PENEIRAMENTO) | C8: UN
A9: 01.001.0004-A | B9: ANALISE GRANULOMETRICA SEM SEDIMENTACAO (PENEIRAMENTO) | C9: UN
A10: 01.001.0005-0 | B10: ANALISE GRANULOMETRICA COM SEDIMENTACAO | C10: UN
A11: 01.001.0005-A | B11: ANALISE GRANULOMETRICA COM SEDIMENTACAO | C11: UN
A12: 01.001.0006-0 | B12: MASSA ESPECIFICA REAL | C12: UN
... A1767: 01.050.0751-A | B1767: MAO-DE-OBRA DE ANALISTA AMBIENTAL,PARA SERVICOS DE CONSULTORIA DE ENGENHARIA E ARQUITETURA,INCLUSIVE ENCARGOS SOCIAIS | C1767: MES
A1768: 01.050.9999-0 | B1768: FAMILIA 01.050PROJETOS E CONSULTORIA
A1769: 01.050.9999-A | B1769: FAMILIA 01.050PROJETOS E CONSULTORIA
A1770: 02.001.0001-0 | B1770: TAPUME DE VEDACAO OU PROTECAO,EXECUTADO C/CHAPAS DE MADEIRACOMPENSADA,RESINADA,LISA,DE COLAGEM FENOLICA,A PROVA D`AGUA,COM 2,20X1,10M E 6MM DE ESPESSURA,PREGADAS EM PECAS DE MADEIRA DE 3ª DE 3"X3" HORIZONTAIS E VERTICAIS A CADA 1,22M,EXCLUSIVE PINTURA | C1770: M2
A1771: 02.001.0001-A | B1771: TAPUME DE VEDACAO OU PROTECAO,EXECUTADO C/CHAPAS DE MADEIRACOMPENSADA,RESINADA,LISA,DE COLAGEM FENOLICA,A PROVA D`AGUA,COM 2,20X1,10M E 6MM DE ESPESSURA,PREGADAS EM PECAS DE MADEIRA DE 3ª DE 3"X3" HORIZONTAIS E VERTICAIS A CADA 1,22M,EXCLUSIVE PINTURA | C1771: M2
A1772: 02.001.0002-0 | B1772: TAPUME DE VEDACAO OU PROTECAO,EXECUTADO C/CHAPAS DE MADEIRACOMPENSADA,RESINADA,LISA,DE COLAGEM FENOLICA,A PROVA D`AGUA,COM 2,20X1,10M E 6MM DE ESPESSURA,PREGADAS EM PECAS DE MADEIRA DE 3ª DE 3"X3" HORIZONTAIS E VERTICAIS A CADA 1,22M,EXCLUSIVE PINTURA,COM UTILIZACAO 2 VEZES | C1772: M2
A1773: 02.001.0002-A | B1773: TAPUME DE VEDACAO OU PROTECAO,EXECUTADO C/CHAPAS DE MADEIRACOMPENSADA,RESINADA,LISA,DE COLAGEM FENOLICA,A PROVA D`AGUA,COM 2,20X1,10M E 6MM DE ESPESSURA,PREGADAS EM PECAS DE MADEIRA DE 3ª DE 3"X3" HORIZONTAIS E VERTICAIS A CADA 1,22M,EXCLUSIVE PINTURA,COM UTILIZACAO 2 VEZES | C1773: M2
A1774: 02.001.0003-0 | B1774: TAPUME DE VEDACAO OU PROTECAO,EXECUTADO COM CHAPAS DE MADEIRA COMPENSADA,RESINADA,LISA,DE COLAGEM FENOLICA,A PROVA D'AGUA,COM 2,20X1,10M E 10MM DE ESPESSURA,PREGADAS EM PECAS DE MADEIRA DE 3ª DE 3"X3" HORIZONTAIS E VERTICAIS A CADA 1,22M,EXCLUSIVE PINTURA,COM REAPROVEITAMENTO 10 VEZES DE TODAS AS PECAS DE MADEIRA | C1774: M2
A1775: 02.001.0003-A | B1775: TAPUME DE VEDACAO OU PROTECAO,EXECUTADO COM CHAPAS DE MADEIRA COMPENSADA,RESINADA,LISA,DE COLAGEM FENOLICA,A PROVA D'AGUA,COM 2,20X1,10M E 10MM DE ESPESSURA,PREGADAS EM PECAS DE MADEIRA DE 3ª DE 3"X3" HORIZONTAIS E VERTICAIS A CADA 1,22M,EXCLUSIVE PINTURA,COM REAPROVEITAMENTO 10 VEZES DE TODAS AS PECAS DE MADEIRA | C1775: M2
A1776: 02.002.0005-0 | B1776: TAPUME DE VEDACAO OU PROTECAO,EXECUTADO COM TELHAS TRAPEZOIDAIS DE ACO GALVANIZADO,ESPESSURA DE 0,5MM,ESTAS COM 4 VEZESDE UTILIZACAO,INCLUSIVE ENGRADAMENTO DE MADEIRA,UTILIZADO 2VEZES E PINTURA ESMALTE SINTETICO NA FACE EXTERNA | C1776: M2
A1777: 02.002.0005-A | B1777: TAPUME DE VEDACAO OU PROTECAO,EXECUTADO COM TELHAS TRAPEZOIDAIS DE ACO GALVANIZADO,ESPESSURA DE 0,5MM,ESTAS COM 4 VEZESDE UTILIZACAO,INCLUSIVE ENGRADAMENTO DE MADEIRA,UTILIZADO 2VEZES E PINTURA ESMALTE SINTETICO NA FACE EXTERNA | C1777: M2
A1778: 02.002.0006-0 | B1778: TAPUME DE VEDACAO OU PROTECAO EXECUTADO COM TELHAS TRAPEZOIDAIS DE ACO GALVANIZADO,ESPESSURA DE 0,5MM,ESTAS COM 4 VEZESDE UTILIZACAO,INCLUSIVE ENGRADAMENTO DE MADEIRA,UTILIZADO 2VEZES E PINTURA ESMALTE SINTETICO NAS FACES INTERNA E EXTERNA | C1778: M2
A1779: 02.002.0006-A | B1779: TAPUME DE VEDACAO OU PROTECAO EXECUTADO COM TELHAS TRAPEZOIDAIS DE ACO GALVANIZADO,ESPESSURA DE 0,5MM,ESTAS COM 4 VEZESDE UTILIZACAO,INCLUSIVE ENGRADAMENTO DE MADEIRA,UTILIZADO 2VEZES E PINTURA ESMALTE SINTETICO NAS FACES INTERNA E EXTERNA | C1779: M2
A1780: 02.002.0007-0 | B1780: TAPUME DE VEDACAO OU PROTECAO EXECUTADO COM TELHAS TRAPEZOIDAIS DE ACO GALVANIZADO,ESPESSURA DE 0,5MM,ESTAS COM 4 VEZESDE UTILIZACAO,INCLUSIVE ENGRADAMENTO DE MADEIRA,UTILIZADO 2VEZES,EXCLUSIVE PINTURA | C1780: M2
A1781: 02.002.0007-A | B1781: TAPUME DE VEDACAO OU PROTECAO EXECUTADO COM TELHAS TRAPEZOIDAIS DE ACO GALVANIZADO,ESPESSURA DE 0,5MM,ESTAS COM 4 VEZESDE UTILIZACAO,INCLUSIVE ENGRADAMENTO DE MADEIRA,UTILIZADO 2VEZES,EXCLUSIVE PINTURA | C1781: M2
... A3769: 05.100.0900-A | B3769: UNIDADE REF.P/COMPL.ADM LOCAL,CONSID:CONSUMO AGUA,TEL.ENERGIA ELETRICA,MAT.LIMPEZA E ESCRITORIO,COMPUTADORES,LICENCA OBRA,MOVEIS E UTENSILIOS,AR COND.BEBEDOURO,ART,RRT,FOTOGRAFIASUNIFORMES,DIARIAS,EXAMES ADMISSIONAIS PERIODICOS E DEMISSIONAIS,CURSO CAPACITACAO/TREINAMENTO E ITENS COMPLEMENTEM AS DESP.NECESS.EXCL.DESPESAS SUBSIDIOS ALIM.E TRANSPORTE PESSOAL | C3769: UR
A3770: 05.100.9999-0 | B3770: INDICE GERAL DA CONSTRUCAO CIVIL (PREDIOS PUBLICOS)
A3771: 05.100.9999-A | B3771: INDICE GERAL DA CONSTRUCAO CIVIL (PREDIOS PUBLICOS)
A3772: 05.103.9999-0 | B3772: INDICE GERAL PARA FORNECIMENTO DE MATERIAIS DA CONSTRUCAO CIVIL
A3773: 05.103.9999-A | B3773: INDICE GERAL PARA FORNECIMENTO DE MATERIAIS DA CONSTRUCAO CIVIL
A3774: 05.105.0100-0 | B3774: MAO-DE-OBRA DE VIGIA,INCLUSIVE ENCARGOS SOCIAIS | C3774: MES
A3775: 05.105.0100-A | B3775: MAO-DE-OBRA DE VIGIA,INCLUSIVE ENCARGOS SOCIAIS | C3775: MES
A3776: 05.105.0101-0 | B3776: MAO-DE-OBRA DE MARCENEIRO,INCLUSIVE ENCARGOS SOCIAIS | C3776: MES
A3777: 05.105.0101-A | B3777: MAO-DE-OBRA DE MARCENEIRO,INCLUSIVE ENCARGOS SOCIAIS | C3777: MES
A3778: 05.105.0102-0 | B3778: MAO-DE-OBRA DE SERRALHEIRO DE CONSTRUCAO CIVIL,INCLUSIVE ENCARGOS SOCIAIS | C3778: MES
A3779: 05.105.0102-A | B3779: MAO-DE-OBRA DE SERRALHEIRO DE CONSTRUCAO CIVIL,INCLUSIVE ENCARGOS SOCIAIS | C3779: MES
A3780: 05.105.0103-0 | B3780: MAO-DE-OBRA DE PINTOR,INCLUSIVE ENCARGOS SOCIAIS | C3780: MES
A3781: 05.105.0103-A | B3781: MAO-DE-OBRA DE PINTOR,INCLUSIVE ENCARGOS SOCIAIS | C3781: MES
...

Sheet EMOP0522
A1: 01.001.0001-0 | B1: 182.7
A2: 01.001.0001-A | B2: 168.05
A3: 01.001.0002-0 | B3: 182.7
A4: 01.001.0002-A | B4: 168.05
A5: 01.001.0003-0 | B5: 106.66
A6: 01.001.0003-A | B6: 98.1
A7: 01.001.0004-0 | B7: 206.03
A8: 01.001.0004-A | B8: 189.51
A9: 01.001.0005-0 | B9: 478.27
A10: 01.001.0005-A | B10: 439.91
A11: 01.001.0006-0 | B11: 252.3
A12: 01.001.0006-A | B12: 232.07
... A22792: 59.003.0060-B | B22792: 253.29
A22865: 06.103.9999-A | B22865: ='06.103.9999-A'!Q23 -> 929.6
A22866: 06.105.9999-A | B22866: 31.2
