Workbook
Name orcamento: 'Anexo V'!#REF!
Name orcamento: #REF!

Sheet Anexo IV
C1: PREFEITURA MUNICIPAL DE SÃO GONÇALO
C2: SECRETARIA MUNICIPAL DE DESENVOLVIMENTO URBANO
E4: MÊS/ANO REF. i0= | G4: EMOP - 07/2022
A5: SERVIÇOS DE COMPLEMENTAÇÃO DE INFRAESTRUTURA INCLUINDO OS SERVIÇOS DE DRENAGEM E PAVIMENTAÇÃO DO ACESSO A AV. FRANCISCO DE AZEREDO COUTINHO - SITUADO EM TRECHO DA NA AV. EUGENIO BORGES JUNTO A RJ 106 - BAIRRO IPIIBA , MUNICIPIO DE SÃO GONÇALO – RJ.
E6: VALOR DA OBRA | G6: =H84 -> 3474533.7
C8: PLANILHA ORÇAMENTARIA | E8: PRAZO DA OBRA | G8: 06 MESES | H8: BDI = 28,57%
A10: ITEM | B10: CÓDIGO | C10: DESCRIÇÃO | D10: FONTE | E10: UND | F10: QUANTIDADE | G10: PREÇO UNITÁRIO R$ | H10: PREÇO TOTAL R$
A11: 1 | B11: SERVIÇOS DE ESCRITORIO, LABORATORIO E CAMPO | G11: SUBTOTAL | H11: =TRUNC(H12+H13+H14+H15+H16+H17+H18+H19+H21+H22+H23+H24+H25+H26+H20,2) -> 400134.47
A12: 1.1 | B12: ='Anexo V'!C13 -> 02.004.0004-A | C12: =VLOOKUP(B12,'DESCRIÇÃO EMOP'!A:B,2,FALSE) -> BARRACAO OBRA C/PAREDES CHAPAS MADEIRA COMPENSADA,PLASTIF.,LISA,COLAGEM FENOLICA,PROVA D`AGUA, COM 10MM ESP.PISO E ESTRUTURA MADEIRA 3ª,COBERTURA TELHAS ONDULADAS 6MM,FIBROCIMENTO,EXCL.PINT.E LIGACOES PROVISORIAS,INCL.INST.,APARELHOS, ESQUADRIAS E FERRAG.,PROJ.Nº2007/EMOP,ESCRITORIO,SANITARIOS,DEPOSITOS E TORRE C/CAIXA D`AGUA 500L,REAPROVEITADO 5 VEZES | D12: EMOP | E12: =VLOOKUP(B12,'DESCRIÇÃO EMOP'!A:C,3,FALSE) -> M2 | F12: ='Anexo V'!C15 -> 96 | G12: =VLOOKUP(B12,'EMOP 07-22'!A:B,2,FALSE) -> 391.62 | H12: =TRUNC(F12*G12,2) -> 37595.52 | J12: =H12/$H$83 -> 0.013911668
A13: 1.2 | B13: ='Anexo V'!C17 -> 01.016.0085-A | C13: =VLOOKUP(B13,'DESCRIÇÃO EMOP'!A:B,2,FALSE) -> LEVANTAMENTO PLANIALTIMETRICO CADASTRAL DE AREA URBANA OU SUBURBANA,DESTINADA A REGULARIZACAO FUNDIARIA,PROJETOS VIARIOSE DE INFRAESTRUTURA,URBANIZACAO E ASSEMELHADOS,UTILIZANDO POLIGONAL III PAC,DESENHO NA ESCALA DE 1:250 A 1:100,EM AREASDENSAMENTE OCUPADAS(ACIMA DE 50% DE QUADRAS),EM AREAS ACIMADE 10000M2 | D13: EMOP | E13: =VLOOKUP(B13,'DESCRIÇÃO EMOP'!A:C,3,FALSE) -> M2 | F13: ='Anexo V'!C20 -> 5088 | G13: =VLOOKUP(B13,'EMOP 07-22'!A:B,2,FALSE) -> 2.4 | H13: =TRUNC(F13*G13,2) -> 12211.2 | J13: =H13/$H$83 -> 0.0045185746
A14: 1.3 | B14: ='Anexo V'!C22 -> 02.002.0011-A | C14: =VLOOKUP(B14,'DESCRIÇÃO EMOP'!A:B,2,FALSE) -> TAPUME DE VEDACAO OU PROTECAO,EXECUTADO COM TELHAS TRAPEZOIDAIS DE ACO GALVANIZADO,ESPESSURA DE 0,5MM,ESTAS COM 2 VEZESDE UTILIZACAO,INCLUSIVE ENGRADAMENTO DE MADEIRA,UTILIZADO 2VEZES E PINTURA ESMALTE SINTETICO NAS FACES INTERNA E EXTERNA | D14: EMOP | E14: =VLOOKUP(B14,'DESCRIÇÃO EMOP'!A:C,3,FALSE) -> M2 | F14: ='Anexo V'!C25 -> 110 | G14: =VLOOKUP(B14,'EMOP 07-22'!A:B,2,FALSE) -> 61.82 | H14: =TRUNC(F14*G14,2) -> 6800.2 | J14: =H14/$H$83 -> 0.0025163138
A15: 1.4 | B15: ='Anexo V'!C27 -> 02.020.0001-A | C15: =VLOOKUP(B15,'DESCRIÇÃO EMOP'!A:B,2,FALSE) -> PLACA DE IDENTIFICACAO DE OBRA PUBLICA,INCLUSIVE PINTURA E SUPORTES DE MADEIRA.FORNECIMENTO E COLOCACAO | D15: EMOP | E15: =VLOOKUP(B15,'DESCRIÇÃO EMOP'!A:C,3,FALSE) -> M2 | F15: ='Anexo V'!C30 -> 6 | G15: =VLOOKUP(B15,'EMOP 07-22'!A:B,2,FALSE) -> 539.41 | H15: =TRUNC(F15*G15,2) -> 3236.46 | J15: =H15/$H$83 -> 0.0011976043
A16: 1.5 | B16: 011737 | C16: =ADM!A7 -> Administração Local do canteiro de obras: Mão de obra da administração local inclusive acompanhamento | D16: COMPOSIÇÃO | E16: MES | F16: =ADM!F25 -> 100 | G16: =ADM!H25 -> 2888.7408 | H16: =TRUNC(F16*G16,2) -> 288874.08 | J16: =H16/$H$83 -> 0.1068936
A17: 1.6 | B17: ='Anexo V'!C39 -> 01.001.0040-A | C17: =VLOOKUP(B17,'DESCRIÇÃO EMOP'!A:B,2,FALSE) -> SONDAGEM MANUAL,COM TRADO CAVADEIRA,POR METRO LINEAR OU FRACAO | D17: EMOP | E17: =VLOOKUP(B17,'DESCRIÇÃO EMOP'!A:C,3,FALSE) -> M | F17: ='Anexo V'!C42 -> 11 | G17: =VLOOKUP(B17,'EMOP 07-22'!A:B,2,FALSE) -> 177.3 | H17: =TRUNC(F17*G17,2) -> 1950.3 | J17: =H17/$H$83 -> 0.00072167977
A18: 1.7 | B18: ='Anexo V'!C44 -> 01.001.0014-A | C18: =VLOOKUP(B18,'DESCRIÇÃO EMOP'!A:B,2,FALSE) -> INDICE SUPORTE CALIFORNIA,POR 1 PONTO,COMPACTACAO COM ENERGIA PROCTOR NORMAL | D18: EMOP | E18: =VLOOKUP(B18,'DESCRIÇÃO EMOP'!A:C,3,FALSE) -> UN | F18: ='Anexo V'!C47 -> 11 | G18: =VLOOKUP(B18,'EMOP 07-22'!A:B,2,FALSE) -> 812.82 | H18: =TRUNC(F18*G18,2) -> 8941.02 | J18: =H18/$H$83 -> 0.0033084927
A19: 1.8 | B19: ='Anexo V'!C49 -> 01.001.0071-A | C19: =VLOOKUP(B19,'DESCRIÇÃO EMOP'!A:B,2,FALSE) -> ENSAIO DE CARACTERIZACAO GEOTECNICA DE SOLOS,COM UTILIZACAODE DILATOMETRO,EXCLUSIVE PERFURACAO | D19: EMOP | E19: =VLOOKUP(B19,'DESCRIÇÃO EMOP'!A:C,3,FALSE) -> UN | F19: ='Anexo V'!C52 -> 11 | G19: =VLOOKUP(B19,'EMOP 07-22'!A:B,2,FALSE) -> 544.41 | H19: =TRUNC(F19*G19,2) -> 5988.51 | J19: =H19/$H$83 -> 0.0022159599
A20: 1.9 | B20: 01.050.0190-A | C20: =VLOOKUP(B20,'DESCRIÇÃO EMOP'!A:B,2,FALSE) -> PROJETO EXECUTIVO DE VIA PARA VEICULOS E PEDESTRES EM RUAS EAVENIDAS URBANAS,COM CALCADAS EM AMBOS OS LADOS E 2 FAIXASDE ROLAMENTO COM LARGURA MAXIMA DE 13M,APRESENTADO EM AUTOCAD NOS PADROES DA CONTRATANTE | D20: EMOP | E20: =VLOOKUP(B20,'DESCRIÇÃO EMOP'!A:C,3,FALSE) -> HA | F20: ='Anexo V'!B60 -> 0.52 | G20: =VLOOKUP(B20,'EMOP 07-22'!A:B,2,FALSE) -> 8870.86 | H20: =TRUNC(F20*G20,2) -> 4612.84 | J20: =H20/$H$83 -> 0.0017069135
A21: 1.10 | B21: ='Anexo V'!C64 -> 01.050.0153-A | C21: =VLOOKUP(B21,'DESCRIÇÃO EMOP'!A:B,2,FALSE) -> ELABORACAO DE MICRO E MESODRENAGEM (VAZAO ATE 10M3/SEG) EMCONFORMIDADE COM AS NORMAS ESTABELECIDAS PELA RIO-AGUAS.SERVICOS MEDIDOS POR KM DE PROJETO EFETIVAMENTE CONCLUIDO,OS QUAIS APOS APROVACAO SERAO ENTREGUES A FISCALIZACAO SENDO A MEMORIA CALCULO DIGITALIZADA,DESENHOS EM AUTOCAD (ORIGINAL EM MEIO DIGITAL,UMA VIA PLOTADA EM VEGETAL,DUAS EM PAPEL OPACO) | D21: EMOP | E21: =VLOOKUP(B21,'DESCRIÇÃO EMOP'!A:C,3,FALSE) -> KM | F21: ='Anexo V'!C67 -> 0.528 | G21: =VLOOKUP(B21,'EMOP 07-22'!A:B,2,FALSE) -> 19566.63 | H21: =TRUNC(F21*G21,2) -> 10331.18 | J21: =H21/$H$83 -> 0.0038229009
A22: 1.11 | B22: ='Anexo V'!C69 -> 02.006.0050-A | C22: =VLOOKUP(B22,'DESCRIÇÃO EMOP'!A:B,2,FALSE) -> ALUGUEL DE BANHEIRO QUIMICO,PORTATIL,MEDINDO 2,31M ALTURA X1,56M LARGURA E 1,16M PROFUNDIDADE,INCLUSIVE INSTALACAO E RETIRADA DO EQUIPAMENTO,FORNECIMENTO DE QUIMICA DESODORIZANTE,BACTERICIDA E BACTERIOSTATICA,PAPEL HIGIENICO E VEICULO PROPRIO COM UNIDADE MOVEL DE SUCCAO PARA LIMPEZA | D22: EMOP | E22: =VLOOKUP(B22,'DESCRIÇÃO EMOP'!A:C,3,FALSE) -> UNXMES | F22: ='Anexo V'!C72 -> 6 | G22: =VLOOKUP(B22,'EMOP 07-22'!A:B,2,FALSE) -> 1100 | H22: =TRUNC(F22*G22,2) -> 6600 | J22: =H22/$H$83 -> 0.0024422327
A23: 1.12 | B23: ='Anexo V'!C79 -> 02.015.0001-A | C23: =VLOOKUP(B23,'DESCRIÇÃO EMOP'!A:B,2,FALSE) -> INSTALACAO E LIGACAO PROVISORIA PARA ABASTECIMENTO DE AGUA EESGOTAMENTO SANITARIO EM CANTEIRO DE OBRAS,INCLUSIVE ESCAVACAO,EXCLUSIVE REPOSICAO DA PAVIMENTACAO DO LOGRADOURO PUBLICO | D23: EMOP | E23: =VLOOKUP(B23,'DESCRIÇÃO EMOP'!A:C,3,FALSE) -> UN | F23: ='Anexo V'!C82 -> 1 | G23: =VLOOKUP(B23,'EMOP 07-22'!A:B,2,FALSE) -> 4315.01 | H23: =TRUNC(F23*G23,2) -> 4315.01 | J23: =H23/$H$83 -> 0.0015967059
A24: 1.13 | B24: ='Anexo V'!C84 -> 02.016.0001-A | C24: =VLOOKUP(B24,'DESCRIÇÃO EMOP'!A:B,2,FALSE) -> INSTALACAO E LIGACAO PROVISORIA DE ALIMENTACAO DE ENERGIA ELETRICA,EM BAIXA TENSAO,PARA CANTEIRO DE OBRAS,M3-CHAVE 100A,CARGA 3KW,20CV,EXCLUSIVE O FORNECIMENTO DO MEDIDOR | D24: EMOP | E24: =VLOOKUP(B24,'DESCRIÇÃO EMOP'!A:C,3,FALSE) -> UN | F24: ='Anexo V'!C87 -> 1 | G24: =VLOOKUP(B24,'EMOP 07-22'!A:B,2,FALSE) -> 2241.39 | H24: =TRUNC(F24*G24,2) -> 2241.39 | J24: =H24/$H$83 -> 0.00082939334
A25: 1.14 | B25: ='Anexo V'!C89 -> 01.001.0206-A | C25: =VLOOKUP(B25,'DESCRIÇÃO EMOP'!A:B,2,FALSE) -> CONTROLE DE COMPACTACAO,POR PONTO(METODO DO ANEL) | D25: EMOP | E25: =VLOOKUP(B25,'DESCRIÇÃO EMOP'!A:C,3,FALSE) -> UN | F25: ='Anexo V'!C93 -> 22 | G25: =VLOOKUP(B25,'EMOP 07-22'!A:B,2,FALSE) -> 57.4 | H25: =TRUNC(F25*G25,2) -> 1262.8 | J25: =H25/$H$83 -> 0.00046728053
A26: 1.15 | B26: ='Anexo V'!C95 -> 01.001.0302-A | C26: =VLOOKUP(B26,'DESCRIÇÃO EMOP'!A:B,2,FALSE) -> DETERMINACAO DA DEFORMACAO DE PAVIMENTOS COM O AUXILIO DA VIGA BENKELMANN,POR PONTO | D26: EMOP | E26: =VLOOKUP(B26,'DESCRIÇÃO EMOP'!A:C,3,FALSE) -> UN | F26: ='Anexo V'!C99 -> 44 | G26: =VLOOKUP(B26,'EMOP 07-22'!A:B,2,FALSE) -> 117.59 | H26: =TRUNC(F26*G26,2) -> 5173.96
A27: 2 | B27: MESO E MICRO DRENAGEM PLUVIAL | G27: SUBTOTAL | H27: =TRUNC(H28+H29+H30+H33+H34+H35+H36+H37+H38+H41+H42+H43+H44+H49+H55+H56+H58,2) -> 649790.75
A28: 2.1 | B28: ='Anexo V'!C112 -> 02.020.0009-A | C28: =VLOOKUP(B28,'DESCRIÇÃO EMOP'!A:B,2,FALSE) -> SEMAFORO PARA SINALIZACAO DE BLOQUEIO DE OBRA NA VIA PUBLICA,DE ACORDO COM A RESOLUCAO DA PREFEITURA-RJ,COMPREENDENDO FORNECIMENTO E COLOCACAO DE TODOS OS MATERIAIS NECESSARIOS,INCLUSIVE MATERIAIS ELETRICOS,CONSIDERANDO 40 VEZES O REAPROVEITAMENTO DA MADEIRA | D28: EMOP | E28: =VLOOKUP(B28,'DESCRIÇÃO EMOP'!A:C,3,FALSE) -> UN | F28: ='Anexo V'!C115 -> 18 | G28: =VLOOKUP(B28,'EMOP 07-22'!A:B,2,FALSE) -> 108.75 | H28: =TRUNC(F28*G28,2) -> 1957.5 | J28: =H28/$H$83 -> 0.00072434403
A29: 2.2 | B29: ='Anexo V'!C117 -> 02.030.0005-A | C29: =VLOOKUP(B29,'DESCRIÇÃO EMOP'!A:B,2,FALSE) -> PLACA DE SINALIZACAO PREVENTIVA PARA OBRA NA VIA PUBLICA,DEACORDO COM A RESOLUCAO DA PREFEITURA-RJ, COMPREENDENDO FORNECIMENTO E PINTURA DA PLACA E DOS SUPORTES DE MADEIRA.FORNECIMENTO E COLOCACAO | D29: EMOP | E29: =VLOOKUP(B29,'DESCRIÇÃO EMOP'!A:C,3,FALSE) -> UN | F29: ='Anexo V'!C120 -> 10 | G29: =VLOOKUP(B29,'EMOP 07-22'!A:B,2,FALSE) -> 93.33 | H29: =TRUNC(F29*G29,2) -> 933.3 | J29: =H29/$H$83 -> 0.00034535391
A30: 2.3 | B30: ='Anexo V'!C122 -> 02.011.0014-A | C30: =VLOOKUP(B30,'DESCRIÇÃO EMOP'!A:B,2,FALSE) -> CERCA PROTETORA DE BORDA DE VALA OU OBRA,COM TELA PLASTICA NA COR LARANJA OU AMARELA,CONSIDERANDO 1 VEZ DE UTILIZACAO,INCLUSIVE APOIOS,FORNECIMENTO,COLOCACAO E RETIRADA | D30: EMOP | E30: =VLOOKUP(B30,'DESCRIÇÃO EMOP'!A:C,3,FALSE) -> M2 | F30: ='Anexo V'!C125 -> 640 | G30: =VLOOKUP(B30,'EMOP 07-22'!A:B,2,FALSE) -> 2.07 | H30: =TRUNC(F30*G30,2) -> 1324.8 | J30: =H30/$H$83 -> 0.00049022272
A31: 2.4 | B31: 02.020.0005-A | C31: =VLOOKUP(B31,'DESCRIÇÃO EMOP'!A:B,2,FALSE) -> BARRAGEM DE BLOQUEIO DE OBRA NA VIA PUBLICA,DE ACORDO COM ARESOLUCAO DA PREFEITURA-RJ,COMPREENDENDO FORNECIMENTO,COLOCACAO E PINTURA DOS SUPORTES DE MADEIRA COM REAPROVEITAMENTO DO CONJUNTO 40 (QUARENTA) VEZES | D31: EMOP | E31: =VLOOKUP(B31,'DESCRIÇÃO EMOP'!A:C,3,FALSE) -> M | F31: ='Anexo V'!C135 -> 12.8 | G31: =VLOOKUP(B31,'EMOP 07-22'!A:B,2,FALSE) -> 3.39 | H31: =TRUNC(F31*G31,2) -> 43.39 | J31: =H31/$H$83 -> 1.605583e-05
A32: 2.4 | B32: ='Anexo V'!C128 -> 02.020.0005-A | C32: =VLOOKUP(B32,'DESCRIÇÃO EMOP'!A:B,2,FALSE) -> BARRAGEM DE BLOQUEIO DE OBRA NA VIA PUBLICA,DE ACORDO COM ARESOLUCAO DA PREFEITURA-RJ,COMPREENDENDO FORNECIMENTO,COLOCACAO E PINTURA DOS SUPORTES DE MADEIRA COM REAPROVEITAMENTO DO CONJUNTO 40 (QUARENTA) VEZES | D32: EMOP | E32: =VLOOKUP(B32,'DESCRIÇÃO EMOP'!A:C,3,FALSE) -> M | F32: ='Anexo V'!C136 -> 0 | G32: =VLOOKUP(B32,'EMOP 07-22'!A:B,2,FALSE) -> 3.39 | H32: =TRUNC(F32*G32,2) -> 0 | J32: =H32/$H$83 -> 0
A33: 2.4 | B33: ='Anexo V'!C138 -> 03.001.0001-B | C33: =VLOOKUP(B33,'DESCRIÇÃO EMOP'!A:B,2,FALSE) -> ESCAVACAO MANUAL DE VALA/CAVA EM MATERIAL DE 1ª CATEGORIA (A(AREIA,ARGILA OU PICARRA),ATE 1,50M DE PROFUNDIDADE,EXCLUSIVE ESCORAMENTO E ESGOTAMENTO | D33: EMOP | E33: =VLOOKUP(B33,'DESCRIÇÃO EMOP'!A:C,3,FALSE) -> M3 | F33: ='Anexo V'!C157 -> 153 | G33: =VLOOKUP(B33,'EMOP 07-22'!A:B,2,FALSE) -> 53.23 | H33: =TRUNC(F33*G33,2) -> 8144.19 | J33: =H33/$H$83 -> 0.0030136375 | L33: =F33*40% -> 61.2
A34: 2.5 | B34: ='Anexo V'!C159 -> 03.015.0010-A | C34: =VLOOKUP(B34,'DESCRIÇÃO EMOP'!A:B,2,FALSE) -> REATERRO DE VALA/CAVA COM PO-DE-PEDRA,INCLUSIVE FORNECIMENTODO MATERIAL E COMPACTACAO MANUAL | D34: EMOP | E34: =VLOOKUP(B34,'DESCRIÇÃO EMOP'!A:C,3,FALSE) -> M3 | F34: ='Anexo V'!C207 -> 1126.098 | G34: =VLOOKUP(B34,'EMOP 07-22'!A:B,2,FALSE) -> 164.93 | H34: =TRUNC(F34*G34,2) -> 185727.34 | J34: =H34/$H$83 -> 0.068725665
A35: 2.6 | B35: ='Anexo V'!C209 -> 03.016.0015-B | C35: =VLOOKUP(B35,'DESCRIÇÃO EMOP'!A:B,2,FALSE) -> ESCAVACAO MECANICA DE VALA NAO ESCORADA,EM MATERIAL DE 1ªCATEGORIA,ATE 1,50M DE PROFUNDIDADE,UTILIZANDO RETRO-ESCAVADEIRA,EXCLUSIVE ESGOTAMENTO | D35: EMOP | E35: =VLOOKUP(B35,'DESCRIÇÃO EMOP'!A:C,3,FALSE) -> M3 | F35: ='Anexo V'!C228 -> 716.4 | G35: =VLOOKUP(B35,'EMOP 07-22'!A:B,2,FALSE) -> 10.67 | H35: =TRUNC(F35*G35,2) -> 7643.98 | J35: =H35/$H$83 -> 0.0028285421
A36: 2.7 | B36: ='Anexo V'!C230 -> 03.016.0018-B | C36: =VLOOKUP(B36,'DESCRIÇÃO EMOP'!A:B,2,FALSE) -> ESCAVACAO MECANICA DE VALA NAO ESCORADA,EM MATERIAL DE 1ªCATEGORIA,ENTRE 1,50 E 3,00M DE PROFUNDIDADE,UTILIZANDO RETRO-ESCAVADEIRA,EXCLUSIVE ESGOTAMENTO | D36: EMOP | E36: =VLOOKUP(B36,'DESCRIÇÃO EMOP'!A:C,3,FALSE) -> M3 | F36: ='Anexo V'!C248 -> 210 | G36: =VLOOKUP(B36,'EMOP 07-22'!A:B,2,FALSE) -> 12.93 | H36: =TRUNC(F36*G36,2) -> 2715.3 | J36: =H36/$H$83 -> 0.0010047567
A37: 2.8 | B37: ='Anexo V'!C250 -> 04.011.0051-B | C37: =VLOOKUP(B37,'DESCRIÇÃO EMOP'!A:B,2,FALSE) -> CARGA E DESCARGA MECANICA,COM PA-CARREGADEIRA,COM 1,30M3 DECAPACIDADE,UTILIZANDO CAMINHAO BASCULANTE A OLEO DIESEL,COMCAPACIDADE UTIL DE 8T,CONSIDERADOS PARA O CAMINHAO OS TEMPOSDE ESPERA,MANOBRA,CARGA E DESCARGA E PARA A CARREGADEIRA OSTEMPOS DE ESPERA E OPERACAO PARA CARGAS DE 50T POR DIA DE 8H | D37: EMOP | E37: =VLOOKUP(B37,'DESCRIÇÃO EMOP'!A:C,3,FALSE) -> T | F37: ='Anexo V'!C254 -> 1942.92 | G37: =VLOOKUP(B37,'EMOP 07-22'!A:B,2,FALSE) -> 14.43 | H37: =TRUNC(F37*G37,2) -> 28036.33 | J37: =H37/$H$83 -> 0.010374431 | L37: =F37*40% -> 777.168 | N37: =L37+L66 -> 2748.368
A38: 2.9 | B38: ='Anexo V'!C256 -> 04.005.0121-A | C38: =VLOOKUP(B38,'DESCRIÇÃO EMOP'!A:B,2,FALSE) -> TRANSPORTE DE CARGA DE QUALQUER NATUREZA,EXCLUSIVE AS DESPESAS DE CARGA E DESCARGA,TANTO DE ESPERA DO CAMINHAO COMO DO SERVENTE OU EQUIPAMENTO AUXILIAR,A VELOCIDADE MEDIA DE 40KM/H,EM CAMINHAO BASCULANTE A OLEO DIESEL,COM CAPACIDADE UTIL DE8T | D38: EMOP | E38: =VLOOKUP(B38,'DESCRIÇÃO EMOP'!A:C,3,FALSE) -> T X KM | F38: ='Anexo V'!C259 -> 19429.2 | G38: =VLOOKUP(B38,'EMOP 07-22'!A:B,2,FALSE) -> 1.35 | H38: =TRUNC(F38*G38,2) -> 26229.42 | J38: =H38/$H$83 -> 0.0097058103 | L38: =F38*40% -> 7771.68 | N38: =L38+L68 -> 10480.32
A39: 2.12 | B39: 05.002.0001-A | C39: =VLOOKUP(B39,'DESCRIÇÃO EMOP'!A:B,2,FALSE) -> DEMOLICAO,COM EQUIPAMENTO DE AR COMPRIMIDO,DE PISOS OU PAVIMENTOS DE CONCRETO SIMPLES,INCLUSIVE EMPILHAMENTO LATERAL DENTRO DO CANTEIRO DE SERVICO | D39: EMOP | E39: =VLOOKUP(B39,'DESCRIÇÃO EMOP'!A:C,3,FALSE) -> M3 | F39: ='Anexo V'!C275 -> 0 | G39: =VLOOKUP(B39,'EMOP 07-22'!A:B,2,FALSE) -> 172.67 | H39: =TRUNC(F39*G39,2) -> 0 | J39: =H39/$H$83 -> 0
A40: 2.13 | B40: 05.002.0008-A | C40: =VLOOKUP(B40,'DESCRIÇÃO EMOP'!A:B,2,FALSE) -> DEMOLICAO COM EQUIPAMENTO DE AR COMPRIMIDO,DE PAVIMENTACAO DE CONCRETO ASFALTICO,COM 10CM DE ESPESSURA,EM FAIXAS DE ATE1,20M DE LARGURA,INCLUSIVE EMPILHAMENTO LATERAL DENTRO DO CANTEIRO DE SERVICO | D40: EMOP | E40: =VLOOKUP(B40,'DESCRIÇÃO EMOP'!A:C,3,FALSE) -> M2 | F40: ='Anexo V'!C282 -> 0 | G40: =VLOOKUP(B40,'EMOP 07-22'!A:B,2,FALSE) -> 44.12 | H40: =TRUNC(F40*G40,2) -> 0 | J40: =H40/$H$83 -> 0
A41: 2.10 | B41: ='Anexo V'!C261 -> TC.09.05.0700/ | C41: =VLOOKUP(B41,'DESCRIÇÃO EMOP'!A:B,2,FALSE) -> DISPOSIÇÃO FINAL DE MATERIAIS E RESIDUOS DE OBRAS EM LOCAIS DE OPERAÇÃO E DISPOSIÇÃO FINAL APROPRIADOS, AUTORIZADOS E/OU LICENCIADOS PELOS ORGÃOS DE LICENCIAMENTO E DE CONTROLE AMBIENTAL, MEDIDA POR TONELADA TRANSPORTADA, SENDO COMPROVADA CONFORME LEGISLAÇÃO PERTINENTE (DESONERADO) | D41: SCO | E41: =VLOOKUP(B41,'DESCRIÇÃO EMOP'!A:C,3,FALSE) -> T | F41: ='Anexo V'!C265 -> 1942.92 | G41: =VLOOKUP(B41,'EMOP 07-22'!A:B,2,FALSE) -> 15 | H41: =TRUNC(F41*G41,2) -> 29143.8 | J41: =H41/$H$83 -> 0.010784234
A42: 2.11 | B42: ='Anexo V'!C284 -> 05.010.0005-A | C42: =VLOOKUP(B42,'DESCRIÇÃO EMOP'!A:B,2,FALSE) -> ESGOTAMENTO DE VALA MEDIDO PELA POTENCIA INSTALADA E PELO TEMPO DE FUNCIONAMENTO | D42: EMOP | E42: =VLOOKUP(B42,'DESCRIÇÃO EMOP'!A:C,3,FALSE) -> CVxH | F42: ='Anexo V'!C287 -> 616 | G42: =VLOOKUP(B42,'EMOP 07-22'!A:B,2,FALSE) -> 6.03 | H42: =TRUNC(F42*G42,2) -> 3714.48 | J42: =H42/$H$83 -> 0.0013744886
A43: 2.12 | B43: ='Anexo V'!C289 -> 06.015.0030-A | C43: =VLOOKUP(B43,'DESCRIÇÃO EMOP'!A:B,2,FALSE) -> CAIXA DE RALO EM ALVENARIA DE BLOCOS DE CONCRETO(20X20X40CM),EM PAREDES DE 0,20M DE ESPESSURA,DE 0,30X0,90X0,90M,PARA AGUAS PLUVIAIS,SENDO AS PAREDES CHAPISCADAS E REVESTIDAS INTERNAMENTE COM ARGAMASSA,ENCHIMENTO DOS BLOCOS E BASE EM CONCRETO SIMPLES FCK=10MPA E GRELHA DE FERRO FUNDIDO DE 135KG,INCLUSIVE FORNECIMENTO DE TODOS OS MATERIAIS | D43: EMOP | E43: =VLOOKUP(B43,'DESCRIÇÃO EMOP'!A:C,3,FALSE) -> UN | F43: ='Anexo V'!C293 -> 18 | G43: =VLOOKUP(B43,'EMOP 07-22'!A:B,2,FALSE) -> 929.86 | H43: =TRUNC(F43*G43,2) -> 16737.48 | J43: =H43/$H$83 -> 0.0061934578
...

Sheet Anexo V
C2: PREFEITURA MUNICIPAL DE SÃO GONÇALO
C3: SECRETARIA MUNICIPAL DE DESENVOLVIMENTO URBANO
A5: Titulo : | B5: ='Anexo IV'!A5 -> SERVIÇOS DE COMPLEMENTAÇÃO DE INFRAESTRUTURA INCLUINDO OS SERVIÇOS DE DRENAGEM E PAVIMENTAÇÃO DO ACESSO A AV. FRANCISCO DE AZEREDO COUTINHO - SITUADO EM TRECHO DA NA AV. EUGENIO BORGES JUNTO A RJ 106 - BAIRRO IPIIBA , MUNICIPIO DE SÃO GONÇALO – RJ.
F8: ANEXO V - MEMÓRIA DE CALCULO
B9: ITEM | C9: QUANT. | D9: DESCRIÇÃO
B11: 1 | C11: SERVIÇOS DE ESCRITORIO LABORATORIO E CAMPO
B13: 1.1 | C13: 02.004.0004-A | D13: =VLOOKUP(C13,'DESCRIÇÃO EMOP'!A:B,2,FALSE) -> BARRACAO OBRA C/PAREDES CHAPAS MADEIRA COMPENSADA,PLASTIF.,LISA,COLAGEM FENOLICA,PROVA D`AGUA, COM 10MM ESP.PISO E ESTRUTURA MADEIRA 3ª,COBERTURA TELHAS ONDULADAS 6MM,FIBROCIMENTO,EXCL.PINT.E LIGACOES PROVISORIAS,INCL.INST.,APARELHOS, ESQUADRIAS E FERRAG.,PROJ.Nº2007/EMOP,ESCRITORIO,SANITARIOS,DEPOSITOS E TORRE C/CAIXA D`AGUA 500L,REAPROVEITADO 5 VEZES
G14: Comprimento | I14: Largura
C15: =G15*I15 -> 96 | D15: =VLOOKUP(C13,'DESCRIÇÃO EMOP'!A:C,3,FALSE) -> M2 | E15: TOTAL DOS SERVIÇOS | G15: 16 | H15: X | I15: 6
B17: 1.2 | C17: 01.016.0085-A | D17: =VLOOKUP(C17,'DESCRIÇÃO EMOP'!A:B,2,FALSE) -> LEVANTAMENTO PLANIALTIMETRICO CADASTRAL DE AREA URBANA OU SUBURBANA,DESTINADA A REGULARIZACAO FUNDIARIA,PROJETOS VIARIOSE DE INFRAESTRUTURA,URBANIZACAO E ASSEMELHADOS,UTILIZANDO POLIGONAL III PAC,DESENHO NA ESCALA DE 1:250 A 1:100,EM AREASDENSAMENTE OCUPADAS(ACIMA DE 50% DE QUADRAS),EM AREAS ACIMADE 10000M2
G18: Comprimento | H18: x | I18: Largura
C19: =G19*I19 -> 5088 | D19: = | E19: AV. EUGENIO BORGES | G19: 424 | H19: x | I19: 12
C20: =SUM(C19:C19) -> 5088 | D20: =VLOOKUP(C17,'DESCRIÇÃO EMOP'!A:C,3,FALSE) -> M2
B22: 1.3 | C22: 02.002.0011-A | D22: =VLOOKUP(C22,'DESCRIÇÃO EMOP'!A:B,2,FALSE) -> TAPUME DE VEDACAO OU PROTECAO,EXECUTADO COM TELHAS TRAPEZOIDAIS DE ACO GALVANIZADO,ESPESSURA DE 0,5MM,ESTAS COM 2 VEZESDE UTILIZACAO,INCLUSIVE ENGRADAMENTO DE MADEIRA,UTILIZADO 2VEZES E PINTURA ESMALTE SINTETICO NAS FACES INTERNA E EXTERNA
I23: Comprimento | L23: Altura
C24: =I24*L24 -> 110 | D24: = | E24: PERIMETRO DO CANTEIRO | I24: 50 | J24: X | L24: 2.2
C25: =SUM(C24:C24) -> 110 | D25: =VLOOKUP(C22,'DESCRIÇÃO EMOP'!A:C,3,FALSE) -> M2 | E25: TOTAL DOS SERVIÇOS
B27: 1.4 | C27: 02.020.0001-A | D27: =VLOOKUP(C27,'DESCRIÇÃO EMOP'!A:B,2,FALSE) -> PLACA DE IDENTIFICACAO DE OBRA PUBLICA,INCLUSIVE PINTURA E SUPORTES DE MADEIRA.FORNECIMENTO E COLOCACAO
F28: Altura | H28: Largura | J28: Quantidade
C29: =F29*H29*J29 -> 6 | D29: = | E29: Placa | F29: 2 | G29: X | H29: 3 | I29: X | J29: 1
C30: =C29 -> 6 | D30: =VLOOKUP(C27,'DESCRIÇÃO EMOP'!A:C,3,FALSE) -> M2 | E30: TOTAL DOS SERVIÇOS
B32: 1.5 | C32: COMPOSIÇÃO | D32: ADMINISTRAÇÃO LOCAL
E34: Mão de Obra administrativa | G34: QTD
C35: =E35/G35 -> 288874.08 | D35: = | E35: =ADM!G22 -> 288874.08 | F35: / | G35: 1
C36: =C35/'Anexo IV'!H84 -> 0.083140388 | D36: MES | E36: TOTAL DOS SERVIÇOS
B39: 1.6 | C39: 01.001.0040-A | D39: =VLOOKUP(C39,'DESCRIÇÃO EMOP'!A:B,2,FALSE) -> SONDAGEM MANUAL,COM TRADO CAVADEIRA,POR METRO LINEAR OU FRACAO
D40: Total considerando 1 a cada 2 estacas | G40: Quantidade de furos | I40: Profundidade
C41: =G41*I41 -> 11 | D41: = | E41: AV. EUGENIO BORGES | G41: 11 | H41: x | I41: 1
C42: =C41 -> 11
B44: 1.7 | C44: 01.001.0014-A | D44: INDICE SUPORTE CALIFORNIA,POR 1 PONTO,COMPACTACAO COM ENERGIA PROCTOR NORMAL
F45: Quantidade
C46: =F46 -> 11 | D46: = | F46: 11 | G46: 1 amostra para cada furo de sondagem
C47: =C46 -> 11 | D47: =VLOOKUP(C44,'DESCRIÇÃO EMOP'!A:C,3,FALSE) -> UN
B49: 1.8 | C49: 01.001.0071-A | D49: ENSAIO DE CARACTERIZACAO GEOTECNICA DE SOLOS,COM UTILIZACAODE DILATOMETRO,EXCLUSIVE PERFURACAO
F50: Quantidade
C51: =F51 -> 11 | D51: = | F51: 11 | G51: 1 amostra para cada furo de sondagem
C52: =C51 -> 11 | D52: =VLOOKUP(C49,'DESCRIÇÃO EMOP'!A:C,3,FALSE) -> UN
B55: 1.9 | C55: 01.050.0190-A | D55: =VLOOKUP(C55,'DESCRIÇÃO EMOP'!A:B,2,FALSE) -> PROJETO EXECUTIVO DE VIA PARA VEICULOS E PEDESTRES EM RUAS EAVENIDAS URBANAS,COM CALCADAS EM AMBOS OS LADOS E 2 FAIXASDE ROLAMENTO COM LARGURA MAXIMA DE 13M,APRESENTADO EM AUTOCAD NOS PADROES DA CONTRATANTE
E58: Exttensão (m) | G58: Larg. (m) | I58: Área (m²) | L58: Área (ha)
B59: =L59 -> 0.52 | C59: .HA | E59: 440 | F59: X | G59: 12 | I59: =E59*G59 -> 5280 | L59: =TRUNC(I59/10000,2) -> 0.52
...

Sheet Anexo VI
B2: ESTADO DO RIO DE JANEIRO
B3: PREFEITURA MUNICIPAL DE SÃO GONÇALO
B4: SECRETARIA MUNICIPAL DE DESENVOLVIMENTO URBANO
A5: CRONOGRAMA FÍSICO-FINANCEIRO
A6: SERVIÇOS DE COMPLEMENTAÇÃO DE INFRAESTRUTURA INCLUINDO OS SERVIÇOS DE DRENAGEM E PAVIMENTAÇÃO DO ACESSO A AV. FRANCISCO DE AZEREDO COUTINHO - SITUADO EM TRECHO DA NA AV. EUGENIO BORGES JUNTO A RJ 106 - BAIRRO IPIIBA , MUNICIPIO DE SÃO GONÇALO – RJ.
A9: METAS | C9: VALOR PREVISTO (R$) | D9: ETAPAS
D10: Etapa | E10: Etapa | F10: Etapa | G10: Etapa | H10: Etapa | I10: Etapa | J10: Etapa | K10: Etapa
A11: ITENS DE OBRAS / SERVIÇOS | D11: 1 | E11: 2 | F11: 3 | G11: 4 | H11: 5 | I11: 6 | J11: 7 | K11: 8
A13: 1 - SERVIÇOS DE LABORATÓRIO ESCRITÓRIO E CAMPO | B13: % | C13: =SUM(D13:I13) -> 1 | D13: 0.15 | E13: 0.15 | F13: 0.25 | G13: 0.2 | H13: 0.15 | I13: 0.1 | M13: =SUM(D13:L13) -> 1
B14: valor R$ | C14: ='Anexo IV'!H11 -> 400134.47 | D14: =$C$14*D13 -> 60020.17 | E14: =$C$14*E13 -> 60020.17 | F14: =$C$14*F13 -> 100033.62 | G14: =$C$14*G13 -> 80026.894 | H14: =$C$14*H13 -> 60020.17 | I14: =$C$14*I13 -> 40013.447 | J14: =$C$14*J13 -> 0 | K14: =$C$14*K13 -> 0 | M14: =SUM(D14:L14) -> 400134.47
A15: 2 - DRENAGEM PLUVIAL | B15: % | C15: =SUM(D15:I15) -> 1 | D15: 0.2 | E15: 0.25 | F15: 0.25 | G15: 0.15 | H15: 0.1 | I15: 0.05 | M15: =SUM(D15:L15) -> 1
B16: valor R$ | C16: ='Anexo IV'!H27 -> 649790.75 | D16: =$C$16*D15 -> 129958.15 | E16: =$C$16*E15 -> 162447.69 | F16: =$C$16*F15 -> 162447.69 | G16: =$C$16*G15 -> 97468.613 | H16: =$C$16*H15 -> 64979.075 | I16: =$C$16*I15 -> 32489.538 | J16: =$C$16*J15 -> 0 | K16: =$C$16*K15 -> 0 | M16: =SUM(D16:L16) -> 649790.75
A17: 3 - PAVIMENTAÇÃO | B17: % | C17: =SUM(D17:I17) -> 1 | E17: 0.15 | F17: 0.2 | G17: 0.3 | H17: 0.25 | I17: 0.1 | M17: =SUM(D17:L17) -> 1
B18: Valor R$ | C18: ='Anexo IV'!H59 -> 1652519.9 | D18: =$C$18*D17 -> 0 | E18: =$C$18*E17 -> 247877.99 | F18: =$C$18*F17 -> 330503.99 | G18: =$C$18*G17 -> 495755.98 | H18: =$C$18*H17 -> 413129.98 | I18: =$C$18*I17 -> 165251.99 | J18: =$C$18*J17 -> 0 | K18: =$C$18*K17 -> 0 | M18: =SUM(D18:L18) -> 1652519.9
A20: BDI | B20: % | J20: =J21/$C$21 -> #REF! | M20: =SUM(D20:L20) -> #REF!
B21: valor R$ | C21: ='Anexo IV'!H82 -> 772088.57 | D21: =(D14+D16+D18)*'Anexo IV'!$G$82 -> 54276.806 | E21: =(E14+E16+E18)*'Anexo IV'!$G$82 -> 134377.81 | F21: =(F14+F16+F18)*'Anexo IV'!$G$82 -> 169415.9 | G21: =(G14+G16+G18)*'Anexo IV'!$G$82 -> 192347.95 | H21: =(H14+H16+H18)*'Anexo IV'!$G$82 -> 153743.52 | I21: =(I14+I16+I18)*'Anexo IV'!$G$82 -> 67926.597 | J21: =(J14+J16+J18+#REF!+#REF!)*#REF! -> #REF! | K21: =(K14+K16+K18+#REF!+#REF!)*#REF! -> #REF! | M21: =SUM(D21:L21) -> #REF!
B22: Valor R$ | C22: TOTAL MENSAL | D22: =D14+D16+D18+D21 -> 244255.13 | E22: =E14+E16+E18+E21 -> 604723.66 | F22: =F14+F16+F18+F21 -> 762401.19 | G22: =G14+G16+G18+G21 -> 865599.43 | H22: =H14+H16+H18+H21 -> 691872.75 | I22: =I14+I16+I18+I21 -> 305681.57 | J22: =J14+J16+J18+#REF!+#REF!+J21 -> #REF! | K22: =K14+K16+K18+#REF!+#REF!+K21 -> #REF!
A23: TOTAL ACUMULADO | B23: Valor R$ | C23: =C14+C16+C18+C21 -> 3474533.7 | D23: =D22 -> 244255.13 | E23: =D23+E22 -> 848978.78 | F23: =E23+F22 -> 1611380 | G23: =F23+G22 -> 2476979.4 | H23: =G23+H22 -> 3168852.2 | I23: =H23+I22 -> 3474533.7 | J23: =I23+J22 -> #REF! | K23: =J23+K22 -> #REF!
A26: PERCENTUAL | D26: =+D22/$C$23 -> 0.070298678 | E26: =+E22/$C$23 -> 0.17404455 | F26: =+F22/$C$23 -> 0.21942547 | G26: =+G22/$C$23 -> 0.24912679 | H26: =+H22/$C$23 -> 0.19912679 | I26: =+I22/$C$23 -> 0.087977726 | J26: =+J22/$C$23 -> #REF! | K26: =+K22/$C$23 -> #REF!
A27: PERCENTUAL ACUMULADO | D27: =+D26 -> 0.070298678 | E27: =+D27+E26 -> 0.24434323 | F27: =+E27+F26 -> 0.4637687 | G27: =+F27+G26 -> 0.71289549 | H27: =+G27+H26 -> 0.91202228 | I27: =+H27+I26 -> 1 | J27: =+I27+J26 -> #REF! | K27: =+J27+K26 -> #REF!

Sheet Anexo VII
I2: Grau de Sigilo
I3: #PUBLICO
C6: Secretaria Municipal de Desenvolvimento Urbano
E7: Quadro de Composição do BDI
A8: Nº OPERAÇÃO | C8: C. REPASSE | E8: PROPONENTE / TOMADOR
E9: PREFEITURA MUNICIPAL DE SÃO GONÇALO
A11: APELIDO DO EMPREENDIMENTO / DESCRIÇÃO DO LOTE
A12: DRENAGEM E PAVIMENTAÇÃO ACESSO IPIÍBA
A14: Conforme legislação tributária municipal, definir estimativa de percentual da base de cálculo para o ISS: | I14: 1
A15: Sobre a base de cálculo, definir a respectiva alíquota do ISS (entre 2% e 5%): | I15: 0.05
A18: BDI
A20: TIPO DE OBRA
A21: Construção de Praças Urbanas, Rodovias, Ferrovias e recapeamento e pavimentação de vias urbanas
A23: Itens | I23: Siglas | J23: % Adotado
A25: Administração Central | I25: AC | J25: 0.04
A26: Seguro e Garantia | I26: SG | J26: 0.01
A27: Risco | I27: R | J27: 0.005
A28: Despesas Financeiras | I28: DF | J28: 0.008
A29: Lucro | I29: L | J29: 0.05
A30: Tributos (impostos COFINS 3%, e PIS 0,65%) | I30: CP | J30: 0.0365
A31: Tributos (ISS, variável de acordo com o município) | I31: ISS | J31: 0.05
A32: Tributos (Contribuição Previdenciária sobre a Receita Bruta - 0% ou 4,5% - Desoneração) | I32: CPRB | J32: 0.045
A33: BDI COM desoneração (Fórmula Acórdão TCU) | I33: BDI PAD | J33: 0.2857
A36: Os valores de BDI foram calculados com o emprego da fórmula:
D37: BDI = | E37: (1+AC + S + R + G)*(1 + DF)*(1+L) | H37: - 1
E38: (1-CP-ISS-CRPB)
A40: Declaro para os devidos fins que, conforme legislação tributária municipal, a base de cálculo deste tipo de obra corresponde à 5%, com a respectiva alíquota de 5%.
A42: Declaro para os devidos fins que o regime de Contribuição Previdenciária sobre a Receita Bruta adotado para elaboração do orçamento foi COM Desoneração, e que esta é a alternativa mais adequada para a Administração Pública.
A44: Observações:

Sheet Anexo VIII
C2: PREFEITURA MUNICIPAL DE SÃO GONÇALO
C3: SECRETARIA MUNICIPAL DE DESENVOLVIMENTO URBANO
C5: OBRA: | D5: URBANIZAÇÃO, DRENAGEM E PAVIMENTAÇÃO ACESSO AV. FRANCISCO AZEREDO COUTINHO - IPIÍBA, SG.
C6: BAIRRO: | D6: IPIÍBA
B8: ANEXO VIII - CRONOGRAMA DE DESEMBOLSO MÁXIMO FINANCEIRO
D15: PERCENTUAL | F15: VALOR CORRESPONDENTE
C16: ETAPAS | D16: ( % ) | F16: (R$)
D17: Parcial | E17: Acum. | F17: Parcial | G17: Acum.
C18: 1º | D18: ='Anexo VI'!D26 -> 0.070298678 | E18: =D18 -> 0.070298678 | F18: ='Anexo VI'!D22 -> 244255.13 | G18: =F18 -> 244255.13
C19: 2º | D19: ='Anexo VI'!E26 -> 0.17404455 | E19: =E18+D19 -> 0.24434323 | F19: ='Anexo VI'!E22 -> 604723.66 | G19: =F19+G18 -> 848978.78
C20: 3º | D20: ='Anexo VI'!F26 -> 0.21942547 | E20: =E19+D20 -> 0.4637687 | F20: ='Anexo VI'!F22 -> 762401.19 | G20: =F20+G19 -> 1611380
C21: 4º | D21: ='Anexo VI'!G26 -> 0.24912679 | E21: =E20+D21 -> 0.71289549 | F21: ='Anexo VI'!G22 -> 865599.43 | G21: =F21+G20 -> 2476979.4
C22: 5º | D22: ='Anexo VI'!H26 -> 0.19912679 | E22: =E21+D22 -> 0.91202228 | F22: ='Anexo VI'!H22 -> 691872.75 | G22: =F22+G21 -> 3168852.2
C23: 6º | D23: ='Anexo VI'!I26 -> 0.087977726 | E23: =E22+D23 -> 1 | F23: ='Anexo VI'!I22 -> 305681.57 | G23: =F23+G22 -> 3474533.7

Sheet EMOP 07-22
A1: CODIGO | B1: PRECO
A2: 01.001.0001-0 | B2: 183.66
A3: 01.001.0001-A | B3: 169.01
A4: 01.001.0002-0 | B4: 183.66
A5: 01.001.0002-A | B5: 169.01
A6: 01.001.0003-0 | B6: 107.22
A7: 01.001.0003-A | B7: 98.66
A8: 01.001.0004-0 | B8: 207.12
A9: 01.001.0004-A | B9: 190.6
A10: 01.001.0005-0 | B10: 480.79
A11: 01.001.0005-A | B11: 442.43
A12: 01.001.0006-0 | B12: 253.63
A13: 01.001.0006-A | B13: 233.4
... A22800: TC.09.05.0700/ | B22800: 15

Sheet DESCRIÇÃO EMOP
A1: CODIGO | B1: DESCRIÇÃO | C1: UNID | E1: PRECO
A2: 01.001.0001-0 | B2: LIMITE DE PLASTICIDADE | C2: UN | D2: =LOWER(C2) -> un | E2: 175.38
A3: 01.001.0001-A | B3: LIMITE DE PLASTICIDADE | C3: UN | D3: =LOWER(C3) -> un | E3: 161.56
A4: 01.001.0002-0 | B4: LIMITE DE LIQUIDEZ | C4: UN | D4: =LOWER(C4) -> un | E4: 175.38
A5: 01.001.0002-A | B5: LIMITE DE LIQUIDEZ | C5: UN | D5: =LOWER(C5) -> un | E5: 161.56
A6: 01.001.0003-0 | B6: LIMITE DE CONTRACAO | C6: UN | D6: =LOWER(C6) -> un | E6: 102.38
A7: 01.001.0003-A | B7: LIMITE DE CONTRACAO | C7: UN | D7: =LOWER(C7) -> un | E7: 94.31
A8: 01.001.0004-0 | B8: ANALISE GRANULOMETRICA SEM SEDIMENTACAO (PENEIRAMENTO) | C8: UN | D8: =LOWER(C8) -> un | E8: 197.78
A9: 01.001.0004-A | B9: ANALISE GRANULOMETRICA SEM SEDIMENTACAO (PENEIRAMENTO) | C9: UN | D9: =LOWER(C9) -> un | E9: 182.19
A10: 01.001.0005-0 | B10: ANALISE GRANULOMETRICA COM SEDIMENTACAO | C10: UN | D10: =LOWER(C10) -> un | E10: 459.1
A11: 01.001.0005-A | B11: ANALISE GRANULOMETRICA COM SEDIMENTACAO | C11: UN | D11: =LOWER(C11) -> un | E11: 422.92
A12: 01.001.0006-0 | B12: MASSA ESPECIFICA REAL | C12: UN | D12: =LOWER(C12) -> un | E12: 242.19
A13: 01.001.0006-A | B13: MASSA ESPECIFICA REAL | C13: UN | D13: =LOWER(C13) -> un | E13: 223.11
... A1761: 01.050.0751-A | B1761: MAO-DE-OBRA DE ANALISTA AMBIENTAL,PARA SERVICOS DE CONSULTORIA DE ENGENHARIA E ARQUITETURA,INCLUSIVE ENCARGOS SOCIAIS | C1761: MES | D1761: =LOWER(C1761) -> mes | E1761: 14402.08
A1762: 01.050.9999-0 | B1762: FAMILIA 01.050PROJETOS E CONSULTORIA | D1762: =LOWER(C1762) | E1762: 5018
A1763: 01.050.9999-A | B1763: FAMILIA 01.050PROJETOS E CONSULTORIA | D1763: =LOWER(C1763) | E1763: 4605
A1764: 02.001.0001-0 | B1764: TAPUME DE VEDACAO OU PROTECAO,EXECUTADO C/CHAPAS DE MADEIRACOMPENSADA,RESINADA,LISA,DE COLAGEM FENOLICA,A PROVA D`AGUA,COM 2,20X1,10M E 6MM DE ESPESSURA,PREGADAS EM PECAS DE MADEIRA DE 3ª DE 3"X3" HORIZONTAIS E VERTICAIS A CADA 1,22M,EXCLUSIVE PINTURA | C1764: M2 | D1764: =LOWER(C1764) -> m2 | E1764: 74.21
A1765: 02.001.0001-A | B1765: TAPUME DE VEDACAO OU PROTECAO,EXECUTADO C/CHAPAS DE MADEIRACOMPENSADA,RESINADA,LISA,DE COLAGEM FENOLICA,A PROVA D`AGUA,COM 2,20X1,10M E 6MM DE ESPESSURA,PREGADAS EM PECAS DE MADEIRA DE 3ª DE 3"X3" HORIZONTAIS E VERTICAIS A CADA 1,22M,EXCLUSIVE PINTURA | C1765: M2 | D1765: =LOWER(C1765) -> m2 | E1765: 69.69
A1766: 02.001.0002-0 | B1766: TAPUME DE VEDACAO OU PROTECAO,EXECUTADO C/CHAPAS DE MADEIRACOMPENSADA,RESINADA,LISA,DE COLAGEM FENOLICA,A PROVA D`AGUA,COM 2,20X1,10M E 6MM DE ESPESSURA,PREGADAS EM PECAS DE MADEIRA DE 3ª DE 3"X3" HORIZONTAIS E VERTICAIS A CADA 1,22M,EXCLUSIVE PINTURA,COM UTILIZACAO 2 VEZES | C1766: M2 | D1766: =LOWER(C1766) -> m2 | E1766: 53.97
A1767: 02.001.0002-A | B1767: TAPUME DE VEDACAO OU PROTECAO,EXECUTADO C/CHAPAS DE MADEIRACOMPENSADA,RESINADA,LISA,DE COLAGEM FENOLICA,A PROVA D`AGUA,COM 2,20X1,10M E 6MM DE ESPESSURA,PREGADAS EM PECAS DE MADEIRA DE 3ª DE 3"X3" HORIZONTAIS E VERTICAIS A CADA 1,22M,EXCLUSIVE PINTURA,COM UTILIZACAO 2 VEZES | C1767: M2 | D1767: =LOWER(C1767) -> m2 | E1767: 49.44
A1768: 02.001.0003-0 | B1768: TAPUME DE VEDACAO OU PROTECAO,EXECUTADO COM CHAPAS DE MADEIRA COMPENSADA,RESINADA,LISA,DE COLAGEM FENOLICA,A PROVA D'AGUA,COM 2,20X1,10M E 10MM DE ESPESSURA,PREGADAS EM PECAS DE MADEIRA DE 3ª DE 3"X3" HORIZONTAIS E VERTICAIS A CADA 1,22M,EXCLUSIVE PINTURA,COM REAPROVEITAMENTO 10 VEZES DE TODAS AS PECAS DE MADEIRA | C1768: M2 | D1768: =LOWER(C1768) -> m2 | E1768: 40.12
A1769: 02.001.0003-A | B1769: TAPUME DE VEDACAO OU PROTECAO,EXECUTADO COM CHAPAS DE MADEIRA COMPENSADA,RESINADA,LISA,DE COLAGEM FENOLICA,A PROVA D'AGUA,COM 2,20X1,10M E 10MM DE ESPESSURA,PREGADAS EM PECAS DE MADEIRA DE 3ª DE 3"X3" HORIZONTAIS E VERTICAIS A CADA 1,22M,EXCLUSIVE PINTURA,COM REAPROVEITAMENTO 10 VEZES DE TODAS AS PECAS DE MADEIRA | C1769: M2 | D1769: =LOWER(C1769) -> m2 | E1769: 35.6
A1770: 02.002.0005-0 | B1770: TAPUME DE VEDACAO OU PROTECAO,EXECUTADO COM TELHAS TRAPEZOIDAIS DE ACO GALVANIZADO,ESPESSURA DE 0,5MM,ESTAS COM 4 VEZESDE UTILIZACAO,INCLUSIVE ENGRADAMENTO DE MADEIRA,UTILIZADO 2VEZES E PINTURA ESMALTE SINTETICO NA FACE EXTERNA | C1770: M2 | D1770: =LOWER(C1770) -> m2 | E1770: 38.37
A1771: 02.002.0005-A | B1771: TAPUME DE VEDACAO OU PROTECAO,EXECUTADO COM TELHAS TRAPEZOIDAIS DE ACO GALVANIZADO,ESPESSURA DE 0,5MM,ESTAS COM 4 VEZESDE UTILIZACAO,INCLUSIVE ENGRADAMENTO DE MADEIRA,UTILIZADO 2VEZES E PINTURA ESMALTE SINTETICO NA FACE EXTERNA | C1771: M2 | D1771: =LOWER(C1771) -> m2 | E1771: 36.61
A1772: 02.002.0006-0 | B1772: TAPUME DE VEDACAO OU PROTECAO EXECUTADO COM TELHAS TRAPEZOIDAIS DE ACO GALVANIZADO,ESPESSURA DE 0,5MM,ESTAS COM 4 VEZESDE UTILIZACAO,INCLUSIVE ENGRADAMENTO DE MADEIRA,UTILIZADO 2VEZES E PINTURA ESMALTE SINTETICO NAS FACES INTERNA E EXTERNA | C1772: M2 | D1772: =LOWER(C1772) -> m2 | E1772: 48.08
A1773: 02.002.0006-A | B1773: TAPUME DE VEDACAO OU PROTECAO EXECUTADO COM TELHAS TRAPEZOIDAIS DE ACO GALVANIZADO,ESPESSURA DE 0,5MM,ESTAS COM 4 VEZESDE UTILIZACAO,INCLUSIVE ENGRADAMENTO DE MADEIRA,UTILIZADO 2VEZES E PINTURA ESMALTE SINTETICO NAS FACES INTERNA E EXTERNA | C1773: M2 | D1773: =LOWER(C1773) -> m2 | E1773: 45.69
A1774: 02.002.0007-0 | B1774: TAPUME DE VEDACAO OU PROTECAO EXECUTADO COM TELHAS TRAPEZOIDAIS DE ACO GALVANIZADO,ESPESSURA DE 0,5MM,ESTAS COM 4 VEZESDE UTILIZACAO,INCLUSIVE ENGRADAMENTO DE MADEIRA,UTILIZADO 2VEZES,EXCLUSIVE PINTURA | C1774: M2 | D1774: =LOWER(C1774) -> m2 | E1774: 28.66
A1775: 02.002.0007-A | B1775: TAPUME DE VEDACAO OU PROTECAO EXECUTADO COM TELHAS TRAPEZOIDAIS DE ACO GALVANIZADO,ESPESSURA DE 0,5MM,ESTAS COM 4 VEZESDE UTILIZACAO,INCLUSIVE ENGRADAMENTO DE MADEIRA,UTILIZADO 2VEZES,EXCLUSIVE PINTURA | C1775: M2 | D1775: =LOWER(C1775) -> m2 | E1775: 27.53
... A3767: 05.100.0900-A | B3767: UNIDADE REF.P/COMPL.ADM LOCAL,CONSID:CONSUMO AGUA,TEL.ENERGIA ELETRICA,MAT.LIMPEZA E ESCRITORIO,COMPUTADORES,LICENCA OBRA,MOVEIS E UTENSILIOS,AR COND.BEBEDOURO,ART,RRT,FOTOGRAFIASUNIFORMES,DIARIAS,EXAMES ADMISSIONAIS PERIODICOS E DEMISSIONAIS,CURSO CAPACITACAO/TREINAMENTO E ITENS COMPLEMENTEM AS DESP.NECESS.EXCL.DESPESAS SUBSIDIOS ALIM.E TRANSPORTE PESSOAL | C3767: UR | D3767: =LOWER(C3767) -> ur | E3767: 240
A3768: 05.100.9999-0 | B3768: INDICE GERAL DA CONSTRUCAO CIVIL (PREDIOS PUBLICOS) | D3768: =LOWER(C3768) | E3768: 6.96
A3769: 05.100.9999-A | B3769: INDICE GERAL DA CONSTRUCAO CIVIL (PREDIOS PUBLICOS) | D3769: =LOWER(C3769) | E3769: 6.96
A3770: 05.103.9999-0 | B3770: INDICE GERAL PARA FORNECIMENTO DE MATERIAIS DA CONSTRUCAO CIVIL | D3770: =LOWER(C3770) | E3770: 30.35
A3771: 05.103.9999-A | B3771: INDICE GERAL PARA FORNECIMENTO DE MATERIAIS DA CONSTRUCAO CIVIL | D3771: =LOWER(C3771) | E3771: 30.35
A3772: 05.105.0100-0 | B3772: MAO-DE-OBRA DE VIGIA,INCLUSIVE ENCARGOS SOCIAIS | C3772: MES | D3772: =LOWER(C3772) -> mes | E3772: 6663
A3773: 05.105.0100-A | B3773: MAO-DE-OBRA DE VIGIA,INCLUSIVE ENCARGOS SOCIAIS | C3773: MES | D3773: =LOWER(C3773) -> mes | E3773: 6054
A3774: 05.105.0101-0 | B3774: MAO-DE-OBRA DE MARCENEIRO,INCLUSIVE ENCARGOS SOCIAIS | C3774: MES | D3774: =LOWER(C3774) -> mes | E3774: 5077
A3775: 05.105.0101-A | B3775: MAO-DE-OBRA DE MARCENEIRO,INCLUSIVE ENCARGOS SOCIAIS | C3775: MES | D3775: =LOWER(C3775) -> mes | E3775: 5077
A3776: 05.105.0102-0 | B3776: MAO-DE-OBRA DE SERRALHEIRO DE CONSTRUCAO CIVIL,INCLUSIVE ENCARGOS SOCIAIS | C3776: MES | D3776: =LOWER(C3776) -> mes | E3776: 3067.68
A3777: 05.105.0102-A | B3777: MAO-DE-OBRA DE SERRALHEIRO DE CONSTRUCAO CIVIL,INCLUSIVE ENCARGOS SOCIAIS | C3777: MES | D3777: =LOWER(C3777) -> mes | E3777: 2659.36
A3778: 05.105.0103-0 | B3778: MAO-DE-OBRA DE PINTOR,INCLUSIVE ENCARGOS SOCIAIS | C3778: MES | D3778: =LOWER(C3778) -> mes | E3778: 5566.88
...

Sheet ADM
A1: ORÇAMENTO: | B1: ='Anexo IV'!A5 -> SERVIÇOS DE COMPLEMENTAÇÃO DE INFRAESTRUTURA INCLUINDO OS SERVIÇOS DE DRENAGEM E PAVIMENTAÇÃO DO ACESSO A AV. FRANCISCO DE AZEREDO COUTINHO - SITUADO EM TRECHO DA NA AV. EUGENIO BORGES JUNTO A RJ 106 - BAIRRO IPIIBA , MUNICIPIO DE SÃO GONÇALO – RJ.
A2: MUNICÍPIO: | B2: SÃO GONÇALO
A3: LOCALIDADE: | B3: IPIÍBA
A4: CÓDIGO
F5: i0= 07/2022
F6: Unid: UR
A7: Administração Local do canteiro de obras: Mão de obra da administração local inclusive acompanhamento
A10: Elementos | B10: Código | C10: Preço | D10: Quant. | E10: meses | F10: Unidade | G10: Total
C11: Unitário R$ | M11: =G22/'Anexo IV'!H84*100 -> 8.3140388
A12: Engenheiro ou arquiteto senior | B12: 05.105.0131-A | C12: =VLOOKUP(B12,'EMOP 07-22'!A:B,2,FALSE) -> 31551.52 | D12: 0.5 | E12: 6 | F12: mês | G12: =+E12*C12*D12 -> 94654.56
G13: =+E13*C13*D13 -> 0
A14: Mestre de obras | B14: 05.105.0128-A | C14: =VLOOKUP(B14,'EMOP 07-22'!A:B,2,FALSE) -> 8449.76 | D14: 1 | E14: 6 | F14: mês | G14: =+E14*C14*D14 -> 50698.56
A15: Encarregado | B15: 05.105.0127-A | C15: =VLOOKUP(B15,'EMOP 07-22'!A:B,2,FALSE) -> 6149.44 | D15: 0 | E15: 6 | F15: mês | G15: =+E15*C15*D15 -> 0
A16: Vigia | B16: 05.105.0100-A | C16: =VLOOKUP(B16,'EMOP 07-22'!A:B,2,FALSE) -> 2817.76 | D16: 2 | E16: 6 | F16: mês | G16: =+E16*C16*D16 -> 33813.12
A17: Almoxarife | B17: 05.105.0122-A | C17: =VLOOKUP(B17,'EMOP 07-22'!A:B,2,FALSE) -> 4375.36 | D17: 1 | E17: 6 | F17: mês | G17: =+E17*C17*D17 -> 26252.16
A18: Apontador | B18: 05.105.0121-A | C18: =VLOOKUP(B18,'EMOP 07-22'!A:B,2,FALSE) -> 4375.36 | D18: 1 | E18: 6 | F18: mês | G18: =+E18*C18*D18 -> 26252.16
A19: Tecnico de Edificações | B19: 05.105.0144-A | C19: =VLOOKUP(B19,'EMOP 07-22'!A:B,2,FALSE) -> 6149.44 | D19: 1 | E19: 6 | F19: mês | G19: =+E19*C19*D19 -> 36896.64
A20: Auxiliar de escritório | B20: 05.105.0139-A | C20: =VLOOKUP(B20,'EMOP 07-22'!A:B,2,FALSE) -> 3384.48 | D20: 1 | E20: 6 | F20: mês | G20: =+E20*C20*D20 -> 20306.88
G22: =SUM(G12:G20) -> 288874.08
A25: SOMATORIO DA MÃO DE OBRA | B25: = | C25: =G22 -> 288874.08 | E25: / | F25: 100 | G25: = | H25: =C25/F25 -> 2888.7408
